<?xml version="1.0" encoding="UTF-8"?>
<metadata>
  <idinfo>
    <citation>
      <citeinfo>
        <origin>U.S. Geological Survey</origin>
        <pubdate>2004</pubdate>
        <title>Wupatki National Monument Vegetation Mapping Project - Orthorectified Photomosaic</title>
        <geoform>remote-sensing image</geoform>
        <pubinfo>
          <pubplace>Reston, VA</pubplace>
          <publish>U.S. Geological Survey</publish>
        </pubinfo>
        <onlink>http://www1.usgs.gov/vip/wupa/wupaortho.zip</onlink>
        <lworkcit>
          <citeinfo>
            <origin>M. Hansen, J. Coles, K.A. Thomas, D. Cogan, M. Reid, J. Von Loh, K. Schultz</origin>
            <pubdate>2004.</pubdate>
            <title>USGS-NPS National Vegetation Mapping Program: Wupatki National Monument, Arizona, Vegetation Classification and Distribution, Final Project Report</title>
            <geoform>report</geoform>
          </citeinfo>
        </lworkcit>
        <onlink>doi:10.5066/F76971JT</onlink>
      </citeinfo>
    </citation>
    <descript>
      <abstract>Orthophotos combine the image characteristics of a photograph with the geometric qualities of a map. The primary digital orthophotoquad (DOQ) is a 1-meter ground resolution, quarter-quadrangle (3.75-minutes of latitude by 3.75-minutes of longitude) image cast on the Universal Transverse Mercator Projection (UTM) on the North American Datum of 1983 (NAD83).The geographic extent of the DOQ is equivalent to a quarter-quad plus The overedge ranges a minimum of 50 meters to a maximum of 300 meters beyond the extremes of the primary and secondary corner points. The overedge is included to facilitate tonal matching for mosaicking and for the placement of the NAD83 and secondary datum corner ticks. The normal orientation of data is by lines (rows) and samples (columns). Each line contains a series of pixels ordered from west to east with the order of the lines from north to south. The standard, archived digital orthophoto is formatted as four ASCII header records, followed by a series of 8-bit binary image data records. The radiometric image brightness values are stored as 256 gray levels ranging from 0 to 255. The metadata provided in the digital orthophoto contain a wide range of descriptive information including format source information, production instrumentation and dates, and data to assist with displaying and georeferencing the image. The standard distribution format of DOQs will be JPEG compressed images on CD-ROM by counties or special regions. The reconstituted image from the CD-ROM will exhibit some radiometric differences when compared to its uncompressed original but will retain the geometry of the uncompressed DOQ. Uncompressed DOQs are distributed on tape.</abstract>
      <purpose>DOQ's serve a variety of purposes, from interim maps to field references for earth science investigations and analysis. The DOQ is useful as a layer of a geographic information system and as a tool for revision of digital line graphs and topographic maps.</purpose>
    </descript>
    <timeperd>
      <timeinfo>
        <rngdates>
          <begdate>19940222</begdate>
          <enddate>present</enddate>
        </rngdates>
      </timeinfo>
      <current>ground condition</current>
    </timeperd>
    <status>
      <progress>In work</progress>
      <update>Irregular</update>
    </status>
    <spdom>
      <descgeog>Wupatki National Monument and environs</descgeog>
      <bounding>
        <westbc>-111.631000</westbc>
        <eastbc>-111.183322</eastbc>
        <northbc>35.691705</northbc>
        <southbc>35.433279</southbc>
      </bounding>
    </spdom>
    <keywords>
      <theme>
        <themekt>None</themekt>
        <themekey>DOQ</themekey>
        <themekey>DOQQ</themekey>
        <themekey>digital orthophoto</themekey>
        <themekey>digital orthophotoquad</themekey>
        <themekey>digital image map</themekey>
        <themekey>aerial photograph</themekey>
        <themekey>rectified photograph</themekey>
        <themekey>rectified image</themekey>
        <themekey>orthophoto</themekey>
        <themekey>quarter-quadrangle orthophoto</themekey>
        <themekey>1-meter orthophoto</themekey>
        <themekey>2-meter orhtophoto</themekey>
        <themekey>3.75- x 3.75-minute orthophoto</themekey>
        <themekey>7.5- x 7.5-minute orthophoto</themekey>
      </theme>
      <place>
        <placekt>U.S. Department of Commerce, 1977, Countries, dependencies, areas of special sovereignty, and their principal administrative divisions (Federal Information Processing Standard 10-3):Washington, D.C., National Institute of Standards and Technology.</placekt>
        <placekey>US</placekey>
        <placekey>CA</placekey>
        <placekey>MX</placekey>
      </place>
      <place>
        <placekt>U.S. Department of Commerce, 1987, Codes for the identification of the States, the District of Columbia and the outlying areas of The United States, and associated areas (Federal Information Processing Standard 5-2): Washington, D. C., National Institute of Standards and Technology.</placekt>
        <placekey>FIPS code of State or Province</placekey>
      </place>
      <place>
        <placekt>U.S. Department of Commerce,1990, Counties and equivalent entities of The United States, its possessions, and associated areas (Federal Information Processing Standard 6-4): Washington, D.C. National Institute of Standards and Technology.</placekt>
        <placekey>FIPS code for county or counties.</placekey>
      </place>
    </keywords>
    <accconst>None</accconst>
    <useconst>None. Acknowledgement of the U.S. Geological Survey would be appreciated in products derived from these data.</useconst>
    <ptcontac>
      <cntinfo>
        <cntperp>
          <cntper>Dan Cogan and Kathryn Thomas</cntper>
          <cntorg>USBR Remote Sensing and GIS Group and USGS Southwest Biological Science Center Colorado Plateau Research Station</cntorg>
        </cntperp>
        <cntpos>Cogan: Physical Scientist; Thomas: PhD Ecologist</cntpos>
        <cntaddr>
          <addrtype>mailing and physical address</addrtype>
          <address>Cogan: POB 25007 Bldg 56 D-8260 Denver Federal Center Denver, CO 80225; Thomas: USGS Southwest Biological Science Center Colorado Plateau Research Station P.O. Box 5614 Flagstaff, AZ 86011</address>
          <city>Denver</city>
          <state>CO</state>
          <postal>80225</postal>
          <country>USA</country>
        </cntaddr>
        <cntvoice>Cogan: 303-445-2291 Thomas: 928-556-7327</cntvoice>
        <cntfax>303-445-6337</cntfax>
        <cntemail>dcogan@do.usbr.gov; kathryn_a_thomas@usgs.gov</cntemail>
        <hours>8:00 - 5:00 MST</hours>
        <cntinst>For GIS questions contact Cogan, for ecological questions contact Thomas.</cntinst>
      </cntinfo>
    </ptcontac>
    <native>Microsoft Windows 2000 Version 5.0 (Build 2195) Service Pack 4; ESRI ArcCatalog 8.2.0.700</native>
  </idinfo>
  <dataqual>
    <attracc>
      <attraccr>During photographic reproduction of the source photography, limited analog dodging is performed to improve image quality. Analog dodging consists of holding back light from certain areas of the sensitized photographic material to avoid overexposure. The diapositive is inspected to insure clarity and radiometric uniformity. Diapositive image brightness values are collected with a minimum of image quality manipulation. Image brightness values may deviate from brightness values of the original imagery due to image value interpolation during the scanning and rectification processes. Radiometry is verified by visual inspection of the digital orthophoto quadrangle with the original unrectified image to determine if the digital orthophoto has the same or better image quality as the original unrectified input image. Slight systematic radiometric differences can be detected between adjacent DOQ files due primarily to differences in source photography capture dates and sun angles of aerial photography along flight lines. These differences can be observed in an image's general lightness or darkness when compared to adjacent DOQ file coverages.</attraccr>
    </attracc>
    <logic>All DOQ header data and image file sizes are validated by the Tape Validation System (TVS) software prior to archiving in the National Digital Cartographic Data Base (NDCDB). This validation procedure assures correct physical format and field values for header record elements. Logical relationships between header record elements are tested.</logic>
    <complete>All DOQ imagery is visually inspected for completeness to ensure that no gaps, or image misplacement exist in the 3.75' image area or in overedge coverage. DOQ images may be derived by mosaicking multiple images, in order to insure complete coverage. All DOQ's are cloud free within the 3.75' image area. Some clouds may, very infrequently, be encountered only in the overedge coverage. Source photography is leaf-off in deciduous vegetation regions. Void areas having a radiometric value of zero and appearing black may exist. These are areas for which no photographic source is available or result from image transformation from other planimetric systems to the Universal Transverse Mercator (UTM). In the latter case, the void sliver areas are on the outside edges of the overedge area. The data set field content of each DOQ header record element is validated to assure completeness prior to archiving in the NDCDB.</complete>
    <posacc>
      <horizpa>
        <horizpar>The DOQ horizontal positional accuracy and the assurance of that accuracy depend, in part, on the accuracy of the data inputs to the rectification process. These inputs consist of the digital elevation model (DEM),aerotriangulation control and methods, the photo source camera calibration, scanner calibration, and aerial photographs that meet National Aerial Photography Program (NAPP) standards. The vertical accuracy of the verified USGS format DEM is equivalent to or better than a USGS level 1 or 2 DEM, with a root mean square error (RMSE) of no greater than 7.0 meters. Field control is acquired by third order class 1 or better survey methods sufficiently spaced to meet National Map Accuracy Staandards (NMAS) for 1:12,000-scale products. Aerial cameras have current certification from the USGS, National Mapping Division, Optical Science Laboratory. Test calibration scans are performed on all source photography scanners.</horizpar>
      </horizpa>
    </posacc>
    <lineage>
      <srcinfo>
        <srccite>
          <citeinfo>
            <origin>U.S. Geological Survey</origin>
            <pubdate>Unknown</pubdate>
            <title>digital elevation model</title>
            <geoform>map</geoform>
            <pubinfo>
              <pubplace>Reston, VA</pubplace>
              <publish>U.S. Geological Survey</publish>
            </pubinfo>
          </citeinfo>
        </srccite>
        <typesrc>cartridge tape</typesrc>
        <srctime>
          <timeinfo>
            <rngdates>
              <begdate>19880805</begdate>
              <enddate>Present</enddate>
            </rngdates>
          </timeinfo>
          <srccurr>ground condition</srccurr>
        </srctime>
        <srccitea>DEM1</srccitea>
        <srccontr>Elevation data in the form of an ortho-DEM regridded to user-specified intervals and bounds.</srccontr>
      </srcinfo>
      <srcinfo>
        <srccite>
          <citeinfo>
            <origin>U.S. Geological Survey</origin>
            <pubdate>Unknown</pubdate>
            <title>photo ID number</title>
            <geoform>remote-sensing</geoform>
            <pubinfo>
              <pubplace>Reston, VA</pubplace>
              <publish>U.S. Geological Survey</publish>
            </pubinfo>
          </citeinfo>
        </srccite>
        <srcscale>40000</srcscale>
        <typesrc>cartridge tape</typesrc>
        <srctime>
          <timeinfo>
            <rngdates>
              <begdate>Unknown</begdate>
              <enddate>Present</enddate>
            </rngdates>
          </timeinfo>
          <srccurr>ground condition</srccurr>
        </srctime>
        <srccitea>PHOTO1</srccitea>
        <srccontr>Panchromatic black and white (or color infra-red) NAPP or NAPP-like photograph. NAPP photographs are centered on the DOQ coverage area.</srccontr>
      </srcinfo>
      <srcinfo>
        <srccite>
          <citeinfo>
            <origin>U.S. Geological Survey</origin>
            <pubdate>Unpublished material</pubdate>
            <title>project ground and photo control</title>
            <geoform>remote-sensing</geoform>
            <pubinfo>
              <pubplace>Reston, VA</pubplace>
              <publish>U.S. Geological Survey</publish>
            </pubinfo>
          </citeinfo>
        </srccite>
        <typesrc>various media</typesrc>
        <srctime>
          <timeinfo>
            <rngdates>
              <begdate>Unknown</begdate>
              <enddate>Present</enddate>
            </rngdates>
          </timeinfo>
          <srccurr>ground condition</srccurr>
        </srctime>
        <srccitea>CONTROL_INPUT</srccitea>
        <srccontr>Horizontal and vertical control used to establish positions and elevations for reference and correlation
purposes.</srccontr>
      </srcinfo>
      <srcinfo>
        <srccite>
          <citeinfo>
            <origin>U.S. Geological Survey</origin>
            <pubdate>Unpublished material</pubdate>
            <title>report of calibration</title>
            <geoform>remote-sensing</geoform>
            <pubinfo>
              <pubplace>Reston, VA</pubplace>
              <publish>U.S. Geological Survey</publish>
            </pubinfo>
          </citeinfo>
        </srccite>
        <typesrc>disc, paper</typesrc>
        <srctime>
          <timeinfo>
            <rngdates>
              <begdate>Unknown</begdate>
              <enddate>Present</enddate>
            </rngdates>
          </timeinfo>
          <srccurr>Date of the camera calibration associated with the source photography</srccurr>
        </srctime>
        <srccitea>CAMERA_INPUT</srccitea>
        <srccontr>camera calibration parameters</srccontr>
      </srcinfo>
      <procstep>
        <procdesc>The production procedures, instrumentation, hardware and software used in the collection of standard USGS DOQ's vary depending on systems used at the contract, cooperator or USGS production sites. The majority of DOQ datasets are acquired through government contract. The process step describes, in general, the process used in the production of standard USGS DOQ data sets.

The rectification process requires, as input, a user parameter file to control the rectification process, a digital elevation model (DEM1) gridded to user specified bounds, projection, zone, datum and X-Y units, a scanned digital image file (PHOTO1) covering the same area as the DEM, ground X-Y-Z point values (CONTROL_INPUT) and their conjugate photo coordinates in the camera coordinate system, and measurements of the fiducial marks (CAMERA_INPUT) in the digitized image.

The camera calibration report (CAMERA_INPUT) provides the focal length of the camera and the distances in millimeters from the camera's optical center to the camera's 8 fiducial marks. These marks define the frame of reference for spatial measurements made from the photograph. Ground control points (CONTROL_INPUT) acquired from ground surveys or developed in aerotriangulation, are third order class 1 or better, and meet National Map Accuracy Standard (NMAS) for 1:12,000-scale. Ground control points are in the Universal Transverse Mercator or the State Plane Coordinate System on NAD83. Horizontal and vertical residuals of aerotriangulated tie-points are equal to or less than 2.5 meters. Standard aerotriangulation passpoint configuration consists of 9 ground control points, one near each corner, one at the center near each side and 1 near the center of the photograph, are used. The conjugate positions of the ground control points on the photograph are measured and recorded in camera coordinates.

The raster image file (PHOTO_1) is created by scanning an aerial photograph film diapositive with a precision image scanner. An aperture of approximately 25 to 32 microns is used, with an aperture no greater than 32 microns permitted. Using 1:40,000-scale photographs, a 25-micron scan aperture equates to a ground resolution of 1-meter. The scanner converts the photographic image densities to gray scale values ranging from 0 to 255 for black and white photographs. Scan files with ground resolution less than 1 meter or greater than 1 meter but less than 1.28 meters are resampled to 1 meter.

The principal elevation data source (DEM1) are standard DEM datasets from the National Digital Cartographic Data Base (NDCDB). DEM's that meet USGS standards are also produced by contractors to fulfill DOQ production requirements and are subsequently archived in the NDCDB. All DEM data is equivalent to or better than USGS DEM standard level 1. The DEM used in the production of DOQ's generally has a 30-meter grid post spacing and possesses a vertical RMSE of 7-meters or less. A DEM covering the extent of the photograph is used for the rectification. The DEM is traversed from user-selected minimum to maximum X-Y values and the DEM X-Y-Z values are used to find pixel coordinates in the digitized photograph using transformations mentioned above. For each raster image cell subdivision, a brightness or gray-scale value is obtained using nearest neighbor, bilinear, or cubic convolution resampling of the scanned image. The pixel processing algorithm is indicated in the header file . An inverse transformation relates the image coordinates referenced to the fiducial coordinate space back to scanner coordinate space. For those areas for which a 7.5-minute DEM is unavailable and relief differences are less than 150 feet, a planar-DEM (slope-plane substitute grid) may be used.

Rectification Process: The photo control points and focal length are iteratively fitted to their conjugate ground control points using a single photo space resection equation. From this mathematical fit is obtained a rotation matrix of constants about the three axes of the camera. This rotation matrix can then be used to find the photograph or camera coordinates of any other ground X-Y-Z point. Next a two dimensional fit is made between the measured fiducial marks on the digitized photograph and their conjugate camera coordinates. Transformation constants are developed from the fit and the camera or photo coordinates are used in reverse to find their conjugate pixel coordiates on the digitized photograph.

Quality Control: All data is inspected according to a quality control plan. DOQ contractors must meet DOQ standards for attribute accuracy, logical consistency, data completeness and</procdesc>
        <procdate>Unknown</procdate>
      </procstep>
      <procstep>
        <procdesc>I&amp;M Process: All data has a header file (.hdr) created based upon the information given within the header of the actual quarter quad. No information is changed. This allows the data to be brought up within ArcView as an image. Data is also renamed based upon standard I&amp;M vernacular.   These names consist of a six letter abbreviation of the quad along with the two letters which represent the quadrant the image represents.</procdesc>
        <procdate>Unknown</procdate>
      </procstep>
    </lineage>
  </dataqual>
  <spdoinfo>
    <direct>Raster</direct>
    <rastinfo>
      <rasttype>Pixel</rasttype>
      <rowcount>28495</rowcount>
      <colcount>40453</colcount>
    </rastinfo>
  </spdoinfo>
  <spref>
    <horizsys>
      <planar>
        <gridsys>
          <gridsysn>Universal Transverse Mercator</gridsysn>
          <utm>
            <utmzone>12</utmzone>
            <transmer>
              <sfctrmer>0.999600</sfctrmer>
              <longcm>-111.000000</longcm>
              <latprjo>0.000000</latprjo>
              <feast>500000.000000</feast>
              <fnorth>0.000000</fnorth>
            </transmer>
          </utm>
        </gridsys>
        <planci>
          <plance>row and column</plance>
          <coordrep>
            <absres>1.000000</absres>
            <ordres>1.000000</ordres>
          </coordrep>
          <plandu>meters</plandu>
        </planci>
      </planar>
      <geodetic>
        <horizdn>North American Datum 1983</horizdn>
        <ellips>Geodetic Reference System 80</ellips>
        <semiaxis>6378137.000000</semiaxis>
        <denflat>298.257222</denflat>
      </geodetic>
    </horizsys>
  </spref>
  <eainfo>
    <detailed>
      <enttyp>
        <enttypl>wupa_ortho.sid.vat</enttypl>
        <enttypd>Table</enttypd>
        <enttypds>USGS</enttypds>
      </enttyp>
      <attr>
        <attrlabl>OID</attrlabl>
        <attrdef>Internal feature number.</attrdef>
        <attrdefs>ESRI</attrdefs>
        <attrdomv>
          <udom>Sequential unique whole numbers that are automatically generated.</udom>
        </attrdomv>
      </attr>
      <attr>
        <attrlabl>Value</attrlabl>
        <attrdef>Panchromatic 8-bit gray-scale value between 0 and 255. The value 0 represents the color black while a value of 255 represents the color white. Values between 0 and 255 represent varying shades of gray.</attrdef>
        <attrdefs>U.S. Department of the Interior, U.S. Geological Survey, Standards for digital orthophotos: Reston, VA. (http://nationalmap.gov/standards/doqstds.html)</attrdefs>
        <attrdomv>
          <rdom>
            <rdommin>0</rdommin>
            <rdommax>255</rdommax>
            <attrunit>Number.</attrunit>
          </rdom>
        </attrdomv>
      </attr>
      <attr>
        <attrlabl>Count</attrlabl>
        <attrdef>The number of pixels that represents each of the unique 0 to 255 color values.</attrdef>
        <attrdefs>U.S. Department of the Interior, U.S. Geological Survey, Standards for digital orthophotos: Reston, VA. (http://nationalmap.gov/standards/doqstds.html)</attrdefs>
        <attrdomv>
          <udom>Unique counted number.</udom>
        </attrdomv>
      </attr>
    </detailed>
    <overview>
      <eaover>For DOQ's from panchromatic source each pixel contains an 8-bit gray-scale value between 0-255. A value of 0 represents the color black while a value of 255 represents the color white. All values between 0 and 255 are repesented as a shade of gray varying from black to white. For color-infrared and natural color DOQs' a digital number from 0 to 255 will also be asssigned to each pixel but that number will refer to a color look-up table which will contain the RGB red, blue and green (RGB) values, each from 0 to 255, for that digital number. Areas where the rectification process is incomplete due to incomplete data (i.e., lack of elevation data, gaps), are represented with the numeric value of 0.</eaover>
      <eadetcit>U.S. Department of the Interior, U.S. Geological Survey, guide for digital orthophotos: Reston, VA.

A pdf version is available at: URL: &lt;http://nationalmap.gov/standards/doqstds.html&gt;

U.S. Department of the Interior, U.S. Geological Survey,
1992, Standards for digital orthophotos: Reston, VA.</eadetcit>
    </overview>
  </eainfo>
  <distinfo>
    <distrib>
      <cntinfo>
        <cntorgp>
          <cntorg>USGS/CSS/Core Science Analytics and Synthesis</cntorg>
          <cntper>USGS-NPS Vegetation Characterization Program Coordinator</cntper>
        </cntorgp>
        <cntaddr>
