<?xml version="1.0" encoding="UTF-8"?>
<metadata>
  <idinfo>
    <citation>
      <citeinfo>
        <origin>USDA-FSA Aerial Photography Field Office</origin>
        <pubdate>20050721</pubdate>
        <title>Washita Battlefield National Historic Site Vegetation Mapping Project - National Agriculture Imagery Program (NAIP) Orthorectified Photomosaic</title>
        <geoform>remote-sensing image</geoform>
        <pubinfo>
          <pubplace>Salt Lake City, Utah</pubplace>
          <publish>USDA FSA Aerial Photography Field Office</publish>
        </pubinfo>
        <onlink>http://www1.usgs.gov/vip/waba/wabaortho.zip</onlink>
        <onlink>doi:10.5066/F7X0651S</onlink>
      </citeinfo>
    </citation>
    <descript>
      <abstract>This data set contains imagery from the National Agriculture Imagery Program (NAIP).  NAIP acquires digital ortho imagery during the agricultural growing seasons in the continental U.S.. A primary goal of the NAIP program is to enable availability of ortho imagery within one year of acquisition. NAIP provides two main products: 1 meter ground sample distance (GSD) ortho imagery rectified to a horizontal accuracy of within +/- 3 meters of reference digital ortho quarter quads (DOQQ's) from the National Digital Ortho Program (NDOP); and, 2 meter GSD ortho imagery rectified to within +/- 10 meters of reference DOQQs.  The tiling format of NAIP imagery is based on a 3.75' x 3.75' quarter quadrangle with a 300 meter buffer on all four sides.  NAIP quarter quads are formatted to the UTM coordinate system using NAD83.  NAIP imagery may contain as much as 10% cloud cover per tile.

This file was generated by compressing NAIP quarter quadrangle tiles that cover a county.  MrSID compression, with mosaic option, was used.  Target values for the compression ratio are (50:1) and compression levels(9) are used.</abstract>
      <purpose>NAIP imagery may be distributed on an interim basis to meet USDA program requirements.  The interim product is a compressed county mosaic.  Users should be aware that the interim compressed county mosaic may contain defects and have horizontal accuracy less than the specified tolerances. Defective imagery may be replaced within one year of image acquisition date.</purpose>
    </descript>
    <timeperd>
      <timeinfo>
        <sngdate>
          <caldate>20050721</caldate>
        </sngdate>
      </timeinfo>
      <current>Majority years of Photography Dates.</current>
    </timeperd>
    <status>
      <progress>Complete</progress>
      <update>Irregular</update>
    </status>
    <spdom>
      <descgeog>Washita Battlefield National Historic Site and environs</descgeog>
      <bounding>
        <westbc>-99.736886</westbc>
        <eastbc>-99.663134</eastbc>
        <northbc>35.635603</northbc>
        <southbc>35.600375</southbc>
      </bounding>
    </spdom>
    <keywords>
      <theme>
        <themekt>None</themekt>
        <themekey>Digital Georectified Image</themekey>
        <themekey>Mosaic</themekey>
        <themekey>Georeferenced Image</themekey>
        <themekey>Quarter Quadrangle Centered</themekey>
        <themekey>Georectification</themekey>
        <themekey>compression</themekey>
        <themekey>MrSID</themekey>
        <themekey>NAIP</themekey>
        <themekey>Compliance</themekey>
        <themekey>Aerial Compliance</themekey>
        <themekey>Farming</themekey>
      </theme>
      <place>
        <placekt>Geographic Names Information System</placekt>
        <placekey>ROGER MILLS CO., OK FSA</placekey>
        <placekey>FIPS 40129</placekey>
        <placekey>ROGER MILLS</placekey>
        <placekey>Oklahoma</placekey>
      </place>
    </keywords>
    <accconst>None</accconst>
    <useconst>Users should be aware that this is an interim release.  The interim compressed county mosaic may contain defects and have horizontal accuracy less than the specified tolerances. Defective imagery may be replaced within one year of image acquisition date.</useconst>
    <ptcontac>
      <cntinfo>
        <cntorgp>
          <cntorg>USDA-FSA Aerial Photography Field Office</cntorg>
        </cntorgp>
        <cntaddr>
          <addrtype>mailing and physical address</addrtype>
          <address>2222 West 2300 South</address>
          <city>Salt Lake City</city>
          <state>Utah</state>
          <postal>84119-2020</postal>
          <country>USA</country>
        </cntaddr>
        <cntvoice>801-975-3500</cntvoice>
        <cntfax>801-975-3529</cntfax>
      </cntinfo>
    </ptcontac>
    <native>Microsoft Windows XP Version 5.1 (Build 2600) Service Pack 2; ESRI ArcCatalog 9.1.0.722</native>
  </idinfo>
  <dataqual>
    <logic>NAIP 3.75 minute tile file names are based on the USGS quadrangle naming convention.</logic>
    <complete>None</complete>
    <posacc>
      <horizpa>
        <horizpar>FSA Digital Orthophoto Specs.</horizpar>
      </horizpa>
      <vertacc>
        <vertaccr>N/A  2d only</vertaccr>
      </vertacc>
    </posacc>
    <lineage>
      <srcinfo>
        <srccite>
          <citeinfo>
            <origin>Aerial Photography Field Office</origin>
            <pubdate>20050721</pubdate>
            <title>ROGER MILLS CO, OK</title>
            <geoform>imagery</geoform>
          </citeinfo>
        </srccite>
        <srcscale>40000</srcscale>
        <typesrc>CD</typesrc>
        <srctime>
          <timeinfo>
            <sngdate>
              <caldate>20050721</caldate>
            </sngdate>
          </timeinfo>
          <srccurr>Majority Aerial Photography Date</srccurr>
        </srctime>
        <srccitea>MrSID compressed image</srccitea>
        <srccontr>Mosaicked County Image</srccontr>
      </srcinfo>
      <procstep>
        <procdesc>This Compressed County Mosaic was
generated using MrSID Generation Two (MG2) software using a N-level setting of 9 and a target compression ratio of 50:1. All photography was acquired using metric mapping cameras and acompanied by the collection of airborne Global Positioning System (GPS) data. Photography was scanned using Leica Geosystems DSW 500/600 or Z/I Imaging PhotoScan 2002 image scanners at a resolution of approximately 20 micrometers per pixel. All imagery was aerotriangulated in blocks of 200-1,000 photographs using the Z/I Imaging ImageStation Automatic Triangulation (ISAT) software package. Orthorectification was performed with custom software and the USGS National Elevation Dataset was used for the elevation model. Digital orthophotos were radiometrically balanced in groups of 100-500 images using the Inpho OrthoVista product. Custom software automatically generated the MrSID project parameter file to control the insertion of the digital orthophotos in the final mosaic. The ordering scheme of the digital orthophotos is based on a last-in-last-on-top scheme.</procdesc>
        <procdate>20050721</procdate>
      </procstep>
      <procstep>
        <procdesc>Metadata imported.</procdesc>
        <srcused>C:\Projects\nps\WABA\DOQQ\NAIP\2005\imagery\compliance_fsa\naip_1-1_2n_s_ok129_2005_1.sid.xml</srcused>
        <procdate>Unknown</procdate>
      </procstep>
    </lineage>
  </dataqual>
  <spdoinfo>
    <indspref>ROGER MILLS CO, Oklahoma</indspref>
    <direct>Raster</direct>
    <rastinfo>
      <rasttype>Pixel</rasttype>
      <rowcount>1930</rowcount>
      <colcount>3326</colcount>
    </rastinfo>
  </spdoinfo>
  <spref>
    <horizsys>
      <planar>
        <gridsys>
          <gridsysn>Universal Transverse Mercator</gridsysn>
          <utm>
            <utmzone>14</utmzone>
            <transmer>
              <sfctrmer>0.999600</sfctrmer>
              <longcm>-99.000000</longcm>
              <latprjo>0.000000</latprjo>
              <feast>500000.000000</feast>
              <fnorth>0.000000</fnorth>
            </transmer>
          </utm>
        </gridsys>
        <planci>
          <plance>row and column</plance>
          <coordrep>
            <absres>2.000000</absres>
            <ordres>2.000000</ordres>
          </coordrep>
          <plandu>meters</plandu>
        </planci>
      </planar>
      <geodetic>
        <horizdn>North American Datum of 1983</horizdn>
        <ellips>Geodetic Reference System 80</ellips>
        <semiaxis>6378137.000000</semiaxis>
        <denflat>298.257222</denflat>
      </geodetic>
    </horizsys>
  </spref>
  <eainfo>
    <detailed>
      <enttyp>
        <enttypl>Band_1</enttypl>
        <enttypd>Raster</enttypd>
        <enttypds>ESRI</enttypds>
      </enttyp>
      <attr>
        <attrlabl>ObjectID</attrlabl>
        <attrdef>Internal feature number.</attrdef>
        <attrdefs>ESRI</attrdefs>
        <attrdomv>
          <udom>Sequential unique whole numbers that are automatically generated.</udom>
        </attrdomv>
      </attr>
      <attr>
        <attrlabl>Value</attrlabl>
        <attrdef>Internal feature number.</attrdef>
        <attrdefs>ESRI</attrdefs>
        <attrdomv>
          <udom>Numerical.</udom>
        </attrdomv>
      </attr>
      <attr>
        <attrlabl>Count</attrlabl>
        <attrdef>Internal feature number.</attrdef>
        <attrdefs>ESRI</attrdefs>
        <attrdomv>
          <udom>Numerical.</udom>
        </attrdomv>
      </attr>
    </detailed>
    <detailed>
      <enttyp>
        <enttypl>Band_2</enttypl>
        <enttypd>Raster</enttypd>
        <enttypds>ESRI</enttypds>
      </enttyp>
      <attr>
        <attrlabl>ObjectID</attrlabl>
        <attrdef>Internal feature number.</attrdef>
        <attrdefs>ESRI</attrdefs>
        <attrdomv>
          <udom>Sequential unique whole numbers that are automatically generated.</udom>
        </attrdomv>
      </attr>
      <attr>
        <attrlabl>Value</attrlabl>
        <attrdef>Internal feature number.</attrdef>
        <attrdefs>ESRI</attrdefs>
        <attrdomv>
          <udom>Numerical.</udom>
        </attrdomv>
      </attr>
      <attr>
        <attrlabl>Count</attrlabl>
        <attrdef>Internal feature number.</attrdef>
        <attrdefs>ESRI</attrdefs>
        <attrdomv>
          <udom>Numerical.</udom>
        </attrdomv>
      </attr>
    </detailed>
    <detailed>
      <enttyp>
        <enttypl>Band_3</enttypl>
        <enttypd>Raster</enttypd>
        <enttypds>ESRI</enttypds>
      </enttyp>
      <attr>
        <attrlabl>ObjectID</attrlabl>
        <attrdef>Internal feature number.</attrdef>
        <attrdefs>ESRI</attrdefs>
        <attrdomv>
          <udom>Sequential unique whole numbers that are automatically generated.</udom>
        </attrdomv>
      </attr>
      <attr>
        <attrlabl>Value</attrlabl>
        <attrdef>Internal feature number.</attrdef>
        <attrdefs>ESRI</attrdefs>
        <attrdomv>
          <udom>Numerical.</udom>
        </attrdomv>
      </attr>
      <attr>
        <attrlabl>Count</attrlabl>
        <attrdef>Internal feature number.</attrdef>
        <attrdefs>ESRI</attrdefs>
        <attrdomv>
          <udom>Numerical.</udom>
        </attrdomv>
      </attr>
    </detailed>
    <overview>
      <eaover>24-bit pixels, 3 band color (RGB) represent brightness values 0 - 255</eaover>
      <eadetcit>None</eadetcit>
    </overview>
  </eainfo>
  <distinfo>
    <distrib>
      <cntinfo>
        <cntorgp>
          <cntorg>USGS/CSS/Core Science Analytics and Synthesis</cntorg>
          <cntper>USGS-NPS Vegetation Characterization Program Coordinator</cntper>
        </cntorgp>
        <cntaddr>
          <addrtype>mailing and physical address</addrtype>
          <address>Denver Federal Center, Building 810, MS 302</address>
          <city>Denver</city>
          <state>Colorado</state>
          <postal>80225</postal>
        </cntaddr>
        <cntvoice>(303) 202-4220</cntvoice>
        <cntfax>303-202-4219</cntfax>
        <cntemail>gs-b-npsveg@usgs.gov</cntemail>
      </cntinfo>
    </distrib>
    <resdesc>Downloadable Data</resdesc>
    <distliab>The U.S. Geological Survey and the National Park Service shall not be held liable for improper or incorrect use of the data described and/or contained herein.  These data and related graphics (if available) are not legal documents and are not intended to be used as such.

The information contained in these data is dynamic and may change over time.  The data are not better than the original sources from which they were derived.  It is the responsibility of the data user to use the data appropriately and consistent within the limitations of geospatial data in general and these data in particular.  Any related graphics (if available) are intended to aid the data user in acquiring relevant data; it is not approriate to use the related graphics as data.

The U.S. Geological Survey and the National Park Service gives no warranty, expressed or implied, as to the accuracy, reliability, or completeness of these data.  It is strongly recommended that these data are directly acquired from an U.S. Geological Survey and National Park Service servers and not indirectly through other sources which may have changed the data in some way.  Although these data have been processed successfully on a computer system at the U.S. Geological Survey, no warranty expressed or implied is made regarding the utility of the data on another system or for general or scientific purposes, nor shall the act of distribution constitute any such warranty. This disclaimer applies both to individual use of the data and aggregate use with other data. It is also strongly recommended that careful attention be paid to the contents of the metadata file associated with these data. Mention of trade names or commercial products in this metadata report does not constitute endorsement or recommendation for use by the U. S. Department of the Interior, U. S. Geological Survey and National Park Service.</distliab>
    <stdorder>
      <digform>
        <digtinfo>
          <formname>HTML</formname>
        </digtinfo>
        <digtopt>
          <onlinopt>
            <computer>
              <networka>
                <networkr>http://www.usgs.gov/core_science_systems/csas/vip/parks/waba.html</networkr>
              </networka>
            </computer>
            <accinstr>Internet Access</accinstr>
          </onlinopt>
        </digtopt>
      </digform>
      <fees>None</fees>
    </stdorder>
    <stdorder>
      <digform>
        <digtinfo>
          <formname>Compressed County Mosaic</formname>
          <formcont>Natural Color</formcont>
        </digtinfo>
        <digtopt>
          <onlinopt>
            <computer>
              <networka>
                <networkr>None</networkr>
              </networka>
            </computer>
          </onlinopt>
          <offoptn>
            <offmedia>CD-ROM</offmedia>
            <recfmt>ISO 9660</recfmt>
          </offoptn>
        </digtopt>
      </digform>
      <fees>Contact the Aerial Photography Field Office for more information</fees>
    </stdorder>
  </distinfo>
  <metainfo>
    <metd>20070116</metd>
    <metrd>20100618</metrd>
    <metc>
      <cntinfo>
        <cntorgp>
          <cntorg>USGS/CSS/Core Science Analytics and Synthesis</cntorg>
          <cntper>USGS-NPS Vegetation Characterization Program Coordinator</cntper>
        </cntorgp>
        <cntaddr>
          <addrtype>mailing and physical address</addrtype>
          <address>Denver Federal Center, Building 810, MS 302</address>
          <city>Denver</city>
          <state>Colorado</state>
          <postal>80225</postal>
        </cntaddr>
        <cntvoice>(303) 202-4220</cntvoice>
        <cntfax>303-202-4219</cntfax>
        <cntemail>gs-b-npsveg@usgs.gov</cntemail>
      </cntinfo>
    </metc>
    <metstdn>FGDC Biological Data Profile of the Content Standard for Digital Geospatial Metadata</metstdn>
    <metstdv>FGDC-STD-001.1-1999</metstdv>
    <metextns>
      <onlink>http://www.usgs.gov/core_science_systems/csas/metadata/index.html</onlink>
    </metextns>
  </metainfo>
</metadata>
