<?xml version="1.0" encoding="UTF-8"?>
<metadata>
  <idinfo>
    <citation>
      <citeinfo>
        <origin>USDA-FSA-APFO Aerial Photography Field Office</origin>
        <pubdate>20070118</pubdate>
        <title>Timpanogos Cave National Monument Vegetation Mapping Project - True Color Orthophotography</title>
        <geoform>vector digital data</geoform>
        <pubinfo>
          <pubplace>Salt Lake City, Utah</pubplace>
          <publish>USDA_FSA_APFO Aerial Photography Field Office</publish>
        </pubinfo>
        <onlink>http://www1.usgs.gov/vip/tica/ticaortho.zip</onlink>
        <onlink>doi:10.5066/F7W66HSJ</onlink>
      </citeinfo>
    </citation>
    <descript>
      <abstract>This imagery dataset was used to map the vegetation at Timpanogos Cave National Monument. This data set contains imagery from the National Agricultural Imagery Program (NAIP). NAIP acquires digital ortho imagery during the agricultural growing seasons in the continental U.S.. A primary goal of the NAIP program is to enable availability of ortho imagery within a year of acquisition. NAIP provides two main products: 1 meter ground sample distance (GSD) ortho imagery rectified to a horizontal accuracy of within +/- 5 meters of reference digital ortho quarter quads (DOQQS) from the National Digital Ortho Program (NDOP); and, 2 meter GSD ortho imagery rectified to within +/- 10 meters of reference DOQQs. The tiling format of NAIP imagery is based on a 3.75' x 3.75' quarter quadrangle with a 360 meter buffer on all four sides. NAIP quarter quads are rectified to the UTM coordinate system NAD83. NAIP imagery can obtain as much as 10% cloud cover per tile. All Timpanogos Cave tiles were mosaicked into a MrSID format.</abstract>
      <purpose>The 1 meter GSD NAIP is intended as a source for current digital ortho imagery in USDA Field Service Center GIS and for other uses that require ortho imagery acquired during the agricultural growing season. The intended use of all data in the park's GIS library is to support diverse park activities including planning, management, maintenance, research, and interpretation.</purpose>
    </descript>
    <timeperd>
      <timeinfo>
        <sngdate>
          <caldate>20060818</caldate>
        </sngdate>
      </timeinfo>
      <current>ground condition</current>
    </timeperd>
    <status>
      <progress>Complete</progress>
      <update>None planned</update>
    </status>
    <spdom>
      <descgeog>Timpanogos Cave National Monument and environs</descgeog>
      <bounding>
        <westbc>-111.755098</westbc>
        <eastbc>-111.620062</eastbc>
        <northbc>40.503603</northbc>
        <southbc>40.371374</southbc>
      </bounding>
    </spdom>
    <keywords>
      <theme>
        <themekt>None</themekt>
        <themekey>Digital Georectified Image</themekey>
        <themekey>Georectified Image</themekey>
        <themekey>Georectified</themekey>
        <themekey>Georectification</themekey>
        <themekey>Georeferenced Image</themekey>
        <themekey>Georeferenced</themekey>
        <themekey>Quarter Quadrangle Centered</themekey>
        <themekey>NAIP</themekey>
        <themekey>Aerial Compliance</themekey>
        <themekey>Compliance</themekey>
        <themekey>USDA-FSA-APFO Aerial Photography Field Office</themekey>
        <themekey>United States Department of Agriculture (USDA)</themekey>
        <themekey>Aerial photography</themekey>
      </theme>
      <theme>
        <themekt>National Park Service Theme Category Thesaurus</themekt>
        <themekey>Digital Orthophoto</themekey>
      </theme>
      <theme>
        <themekt>ISO 19115 Topic Category</themekt>
        <themekey>imageryBaseMapsEarthCover</themekey>
      </theme>
      <place>
        <placekt>none</placekt>
        <placekey>Timpanogos Cave National Monument</placekey>
        <placekey>TICA</placekey>
        <placekey>Utah County</placekey>
        <placekey>Utah</placekey>
        <placekey>UT</placekey>
        <placekey>Colorado Plateau</placekey>
        <placekey>National Park Service</placekey>
        <placekey>NPS</placekey>
        <placekey>USA</placekey>
      </place>
      <place>
        <placekt>National Park System Unit Name Thesaurus</placekt>
        <placekey>Timpanogos Cave National Monument</placekey>
      </place>
      <place>
        <placekt>National Park System Unit Code Thesaurus</placekt>
        <placekey>TICA</placekey>
      </place>
    </keywords>
    <accconst>There are no limitations for access.</accconst>
    <useconst>None, The Aerial Photography Field Office asks to be credited in derived products.</useconst>
    <ptcontac>
      <cntinfo>
        <cntorgp>
          <cntorg>Aerial Photography Field Office (APFO)</cntorg>
        </cntorgp>
        <cntaddr>
          <addrtype>mailing and physical address</addrtype>
          <address>2222 West 2300 South</address>
          <city>Salt Lake City</city>
          <state>Utah</state>
          <postal>84119-2020</postal>
          <country>USA</country>
        </cntaddr>
        <cntvoice>801-975-3503</cntvoice>
        <cntfax>801-975-3532</cntfax>
        <cntemail>sales@apfo.usda.gov</cntemail>
      </cntinfo>
    </ptcontac>
    <native>Microsoft Windows XP Version 5.1 (Build 2600) Service Pack 2; ESRI ArcCatalog 9.3.1.1850</native>
    <crossref>
      <citeinfo>
        <origin>Coles, J., J. Von Loh, A. Wight, K. Schulz, and A. Evenden</origin>
        <pubdate>20090401</pubdate>
        <title>Vegetation Classification and Mapping Project Report, Timpanogos Cave National Monument</title>
        <geoform>report</geoform>
        <onlink>http://science.nature.nps.gov/im/units/ncpn/</onlink>
      </citeinfo>
    </crossref>
  </idinfo>
  <dataqual>
    <logic>NAIP 3.75 minute tile file names are based on the USGS quadrangle naming convention.</logic>
    <complete>None</complete>
    <posacc>
      <horizpa>
        <horizpar>The positional accuracy for the digital data is tested by visual comparison to a data source with a higher order of accuracy.</horizpar>
      </horizpa>
    </posacc>
    <lineage>
      <srcinfo>
        <srccite>
          <citeinfo>
            <origin>USDA-FSA-APFO Aerial Photography Field Office</origin>
            <pubdate>20070118</pubdate>
            <title>TIMPANOGOS CAVE, NE</title>
            <geoform>remote-sensing image</geoform>
          </citeinfo>
        </srccite>
        <typesrc>Digital Linear Tape (DLT)</typesrc>
        <srctime>
          <timeinfo>
            <sngdate>
              <caldate>20060818</caldate>
            </sngdate>
          </timeinfo>
          <srccurr>Aerial Photography Date for aerial photo source.</srccurr>
        </srctime>
        <srccitea>Georectifed Image</srccitea>
        <srccontr>Digital Georectifed Image.</srccontr>
      </srcinfo>
      <procstep>
        <procdesc>Imagery was flown with Leica ADS40 digital sensors to capture 0.9m raw data.  Raw data is then downloaded using Leica GPro software into 12 bit TIFF format.  The raw TIFF imagery is then georeferenced and reprojected using GPS/INS 200Hz exterior orientation information (x/y/z/o/p/k) to allow stereo viewable imagery.  This stereo viewable imagery is processed with the GPro/LPS automatic point matching algorithm to determine common match points every 2000 pixels across the imagery strip and 333 pixels along strip. This pattern includes dual rows of line ties to the adjacent line of imagery.  The resulting point data is imported in Leica ORIMA and used to perform a full bundle adjustment of the imagery point data.  Any blunders are removed, and weak areas are manually supplemented to ensure good coverage of points.

Once the point data is cleaned and point coverage is acceptable vertical control points from the prior generation MDOQQ's are introduced in the corners and center of the block being adjusted.  This control is used to perform any datum shift (x/y/z and rotation) to ensure the new adjusted imagery fits the existing MDOQQ reference imagery.  The output from this bundle adjustment process is revised exterior orientation data for the sensor with any GPS/INS, datum, and sensor calibration errors modeled and compensated for.  Using this revised EO data orthorectified image strips are created using the USGS DEM.  The 10m DEM is used where available and 30m DEM is used elsewhere.  The orthorectified strips are overlaid over the existing MDOQQ compressed files to ensure accuracy is met by a visual inspection and manually measuring features.  Once the accuracy of the orthorectified image strips are validated the strips are processed with a NWG proprietary dodging package that compensates for the bi-directional reflectance function that is caused by the sun's position relative to the image area.  This compensated imagery is then imported into Inpho's OrthoVista 4.0 package which is used for the final radiometric balance, and DOQQ sheet creation.  These final DOQQ sheets contain a 300m minimum buffer.  These final DOQQ tiles are edge inspected to the existing MDOQQ sheets for accuracy validation.  A visual inspection is performed of the DOQQ to ensure the radiometric quality and content of the DOQQ looks good.</procdesc>
        <procdate>20070118</procdate>
      </procstep>
    </lineage>
  </dataqual>
  <spdoinfo>
    <indspref>Utah County, UT</indspref>
    <direct>Raster</direct>
    <rastinfo>
      <rasttype>Pixel</rasttype>
      <rowcount>14590</rowcount>
      <colcount>11340</colcount>
    </rastinfo>
  </spdoinfo>
  <spref>
    <horizsys>
      <planar>
        <gridsys>
          <gridsysn>Universal Transverse Mercator</gridsysn>
          <utm>
            <utmzone>12</utmzone>
            <transmer>
              <sfctrmer>0.999600</sfctrmer>
              <longcm>-111.000000</longcm>
              <latprjo>0.000000</latprjo>
              <feast>500000.000000</feast>
              <fnorth>0.000000</fnorth>
            </transmer>
          </utm>
        </gridsys>
        <planci>
          <plance>coordinate pair</plance>
          <coordrep>
            <absres>1</absres>
            <ordres>1</ordres>
          </coordrep>
          <plandu>meters</plandu>
        </planci>
      </planar>
      <geodetic>
        <horizdn>North American Datum of 1983</horizdn>
        <ellips>Geodetic Reference System 80</ellips>
        <semiaxis>6378137.000000</semiaxis>
        <denflat>298.257222</denflat>
      </geodetic>
    </horizsys>
  </spref>
  <eainfo>
    <overview>
      <eaover>24-bit pixels, 3 band color(RGB) values 0 - 255</eaover>
      <eadetcit>None</eadetcit>
    </overview>
  </eainfo>
  <distinfo>
    <distrib>
      <cntinfo>
        <cntorgp>
          <cntorg>USGS/CSS/Core Science Analytics and Synthesis</cntorg>
          <cntper>USGS-NPS Vegetation Characterization Program Coordinator</cntper>
        </cntorgp>
        <cntaddr>
          <addrtype>mailing and physical address</addrtype>
          <address>Denver Federal Center, Building 810, MS 302</address>
          <city>Denver</city>
          <state>Colorado</state>
          <postal>80225</postal>
        </cntaddr>
        <cntvoice>(303) 202-4220</cntvoice>
        <cntfax>303-202-4219</cntfax>
        <cntemail>gs-b-npsveg@usgs.gov</cntemail>
      </cntinfo>
    </distrib>
    <resdesc>Downloadable Data. n_4011135_ne_12_1_20060818_20070105.tif.</resdesc>
    <distliab>The U.S. Geological Survey and the National Park Service shall not be held liable for improper or incorrect use of the data described and/or contained herein.  These data and related graphics (if available) are not legal documents and are not intended to be used as such.

The information contained in these data is dynamic and may change over time.  The data are not better than the original sources from which they were derived.  It is the responsibility of the data user to use the data appropriately and consistent within the limitations of geospatial data in general and these data in particular.  Any related graphics (if available) are intended to aid the data user in acquiring relevant data; it is not approriate to use the related graphics as data.

The U.S. Geological Survey and the National Park Service gives no warranty, expressed or implied, as to the accuracy, reliability, or completeness of these data.  It is strongly recommended that these data are directly acquired from an U.S. Geological Survey and National Park Service servers and not indirectly through other sources which may have changed the data in some way.  Although these data have been processed successfully on a computer system at the U.S. Geological Survey, no warranty expressed or implied is made regarding the utility of the data on another system or for general or scientific purposes, nor shall the act of distribution constitute any such warranty. This disclaimer applies both to individual use of the data and aggregate use with other data. It is also strongly recommended that careful attention be paid to the contents of the metadata file associated with these data. Mention of trade names or commercial products in this metadata report does not constitute endorsement or recommendation for use by the U. S. Department of the Interior, U. S. Geological Survey and National Park Service.</distliab>
    <stdorder>
      <digform>
        <digtinfo>
          <formname>HTML</formname>
        </digtinfo>
        <digtopt>
          <onlinopt>
            <computer>
              <networka>
                <networkr>http://www.usgs.gov/core_science_systems/csas/vip/parks/tica.html</networkr>
              </networka>
            </computer>
            <accinstr>Internet Access</accinstr>
          </onlinopt>
        </digtopt>
      </digform>
      <fees>None</fees>
    </stdorder>
  </distinfo>
  <metainfo>
    <metd>20070118</metd>
    <metrd>20100615</metrd>
    <metc>
      <cntinfo>
        <cntorgp>
          <cntorg>USGS/CSS/Core Science Analytics and Synthesis</cntorg>
          <cntper>USGS-NPS Vegetation Characterization Program Coordinator</cntper>
        </cntorgp>
        <cntaddr>
          <addrtype>mailing and physical address</addrtype>
          <address>Denver Federal Center, Building 810, MS 302</address>
          <city>Denver</city>
          <state>Colorado</state>
          <postal>80225</postal>
        </cntaddr>
        <cntvoice>(303) 202-4220</cntvoice>
        <cntfax>303-202-4219</cntfax>
        <cntemail>gs-b-npsveg@usgs.gov</cntemail>
      </cntinfo>
    </metc>
    <metstdn>FGDC Biological Data Profile of the Content Standard for Digital Geospatial Metadata</metstdn>
    <metstdv>FGDC-STD-001.1-1999</metstdv>
    <metextns>
      <onlink>http://www.usgs.gov/core_science_systems/csas/metadata/index.html</onlink>
    </metextns>
  </metainfo>
</metadata>
