<?xml version="1.0" encoding="UTF-8"?>
<metadata>
  <idinfo>
    <citation>
      <citeinfo>
        <origin>North Carolina State University, Center for Earth Observation</origin>
        <pubdate>20031002</pubdate>
        <title>Thomas Stone National Historic Site Vegetation Mapping Project - Color Infrared Orthorectified Photomosaic Leaf-off</title>
        <geoform>remote-sensing image</geoform>
        <onlink>http://www1.usgs.gov/vip/thst/thstortho.zip</onlink>
        <onlink>doi:10.5066/F7HX19PN</onlink>
      </citeinfo>
    </citation>
    <descript>
      <abstract>Orthorectified color infrared ERDAS Imagine image of Thomas Stone National Historic Site.  Produced from 10 color infrared photos taken February 18, 2002.  Orthorectification accomplished with Imagine Orthobase v8.6 software.  The overall positional accuracy for the photomosaic meets the NMAS Class 1 standards.</abstract>
      <purpose>The dataset was developed for use by Thomas Stone National Historic Site as a GIS component and for digital monoplotting and mapping.</purpose>
    </descript>
    <timeperd>
      <timeinfo>
        <sngdate>
          <caldate>20020218</caldate>
        </sngdate>
      </timeinfo>
      <current>ground condition</current>
    </timeperd>
    <status>
      <progress>Complete</progress>
      <update>Unknown</update>
    </status>
    <spdom>
      <descgeog>Thomas Stone National Historic Site and environs</descgeog>
      <bounding>
        <westbc>-77.051670</westbc>
        <eastbc>-77.024571</eastbc>
        <northbc>38.543637</northbc>
        <southbc>38.511749</southbc>
      </bounding>
    </spdom>
    <keywords>
      <theme>
        <themekt>none</themekt>
        <themekey>Orthorectification</themekey>
        <themekey>Color Infrared</themekey>
        <themekey>mosaic</themekey>
        <themekey>aerial photo</themekey>
        <themekey>CIR</themekey>
        <themekey>image</themekey>
        <themekey>leaf-off</themekey>
      </theme>
      <place>
        <placekt>none</placekt>
        <placekey>Maryland</placekey>
        <placekey>National Park</placekey>
        <placekey>Thomas Stone National Historic Site</placekey>
      </place>
      <temporal>
        <tempkt>none</tempkt>
        <tempkey>20021108</tempkey>
        <tempkey>spring</tempkey>
        <tempkey>february</tempkey>
      </temporal>
    </keywords>
    <accconst>none</accconst>
    <useconst>none</useconst>
    <ptcontac>
      <cntinfo>
        <cntperp>
          <cntper>Rijk Morawe</cntper>
          <cntorg>George Washington Birthplace NM</cntorg>
        </cntperp>
        <cntpos>Natural Resource Manager</cntpos>
        <cntaddr>
          <addrtype>mailing and physical address</addrtype>
          <address>George Washington Birthplace National Monument
1732 Popes Creek Road</address>
          <city>Washington's Birthplace</city>
          <state>Virginia</state>
          <postal>22443-5115</postal>
          <country>USA</country>
        </cntaddr>
        <cntvoice>(804) 224-1732</cntvoice>
        <cntemail>Rijk_Morawe@nps.gov</cntemail>
      </cntinfo>
    </ptcontac>
    <browse>
      <browsen>http://www1.usgs.gov/vip/thst/thstortho.pdf</browsen>
      <browsed>Orthophoto; low resolution for web browsing.</browsed>
      <browset>PDF</browset>
    </browse>
    <datacred>William Millinor</datacred>
    <native>ERDAS Imagine IMG File and MrSID Compressed File</native>
  </idinfo>
  <dataqual>
    <logic>none</logic>
    <complete>none</complete>
    <posacc>
      <horizpa>
        <horizpar>Overall positional accuracy of .987 meters RMSE Meets the NMAS Class 1 map standards.

Horizontal accuracy was assessed on the basis of 23 field survey points distributed throughout the image.  The actual field coordinates for these points were recorded with a Trimble ProXRS GPS unit with real-time differential correction with a minimum of 120 fixes per point.  The field coordinates were then compared to the image mosaic coordinates for these points, determined in ESRI ArcView 3.3 software.</horizpar>
      </horizpa>
    </posacc>
    <lineage>
      <srcinfo>
        <srccite>
          <citeinfo>
            <origin>USGS (http://gisdata.usgs.net/ned)</origin>
            <pubdate>unknown</pubdate>
            <title>30 Meter Digital Elevation Model- USGS National Elevation Dataset</title>
            <geoform>model</geoform>
          </citeinfo>
        </srccite>
        <srcscale>30 meter</srcscale>
        <typesrc>online</typesrc>
        <srctime>
          <timeinfo>
            <sngdate>
              <caldate>20011003</caldate>
            </sngdate>
          </timeinfo>
          <srccurr>20011003</srccurr>
        </srctime>
        <srccitea>dem</srccitea>
        <srccontr>elevation</srccontr>
      </srcinfo>
      <srcinfo>
        <srccite>
          <citeinfo>
            <origin>Kucera Internation, Inc</origin>
            <pubdate>Unpublished Material</pubdate>
            <title>Aerial photographs of Thomas Stone National Historic Site</title>
            <geoform>remote-sensing image</geoform>
          </citeinfo>
        </srccite>
        <srcscale>6000</srcscale>
        <typesrc>color ir aerial transparencies</typesrc>
        <srctime>
          <timeinfo>
            <sngdate>
              <caldate>20020218</caldate>
            </sngdate>
          </timeinfo>
          <srccurr>ground condition</srccurr>
        </srctime>
        <srccitea>photos</srccitea>
        <srccontr>Aerial view of Thomas Stone National Historic Site</srccontr>
      </srcinfo>
      <procstep>
        <procdesc>The photos (10 total) were used to create an orthorectified mosaic using Erdas Imagine. The photos were scanned at 600 dpi and imported into Imagine. The DEM was resampled from 30 meters to 10 meters in ArcInfo Workstation using cubic convolution. The images were orthorectified using ERDAS Imagine Orthobase software.  Airborne GPS and IMU data were used in the aerial triangulation procedure.  Aerial triangulation produced a single RMSE of less than 1 meter for the entire block of photos.  The orthorectified images were then mosaiced and color balanced within ER Mapper 6.3 to form one seamless basemap image for Thomas Stone National Historic Site. The mosaic was compressed using MrSID software at a 1:20 target compression ratio.</procdesc>
        <procdate>200306</procdate>
        <proccont>
          <cntinfo>
            <cntorgp>
              <cntorg>NCSU, Center for Earth Observation</cntorg>
            </cntorgp>
            <cntaddr>
              <addrtype>mailing address</addrtype>
              <address>NCSU, Center For Earth Observation
NCSU Campus Box 7106</address>
              <city>Raleigh</city>
              <state>NC</state>
              <postal>27695-7106</postal>
              <country>USA</country>
            </cntaddr>
            <cntvoice>919-515-3430</cntvoice>
            <cntfax>919-515-3439</cntfax>
          </cntinfo>
        </proccont>
      </procstep>
    </lineage>
  </dataqual>
  <spdoinfo>
    <direct>Raster</direct>
    <rastinfo>
      <rasttype>Pixel</rasttype>
      <rowcount>14064</rowcount>
      <colcount>9213</colcount>
      <vrtcount>1</vrtcount>
    </rastinfo>
  </spdoinfo>
  <spref>
    <horizsys>
      <planar>
        <gridsys>
          <gridsysn>Universal Transverse Mercator</gridsysn>
          <utm>
            <utmzone>18</utmzone>
            <transmer>
              <sfctrmer>0.999600</sfctrmer>
              <longcm>-75.000000</longcm>
              <latprjo>0.000000</latprjo>
              <feast>500000.000000</feast>
              <fnorth>0.000000</fnorth>
            </transmer>
          </utm>
        </gridsys>
        <planci>
          <plance>row and column</plance>
          <coordrep>
            <absres>0.248146</absres>
            <ordres>0.248146</ordres>
          </coordrep>
          <plandu>meters</plandu>
        </planci>
      </planar>
      <geodetic>
        <horizdn>North American Datum of 1983</horizdn>
        <ellips>Geodetic Reference System 80</ellips>
        <semiaxis>6378137.000000</semiaxis>
        <denflat>298.257222</denflat>
      </geodetic>
    </horizsys>
  </spref>
  <eainfo>
    <detailed>
      <enttyp>
        <enttypl>Layer_1</enttypl>
        <enttypd>Band 1 of a three band image.</enttypd>
        <enttypds>ERDAS</enttypds>
      </enttyp>
      <attr>
        <attrlabl>ObjectID</attrlabl>
        <attrdef>Internal feature number.</attrdef>
        <attrdefs>ESRI</attrdefs>
        <attrdomv>
          <udom>Sequential unique whole numbers that are automatically generated.</udom>
        </attrdomv>
      </attr>
      <attr>
        <attrlabl>Value</attrlabl>
        <attrdef>cell value</attrdef>
        <attrdefs>ERDAS</attrdefs>
        <attrdomv>
          <udom>0 - 255</udom>
        </attrdomv>
      </attr>
      <attr>
        <attrlabl>Count</attrlabl>
        <attrdef>Count of the number of cells in each value.</attrdef>
        <attrdefs>ERDAS</attrdefs>
        <attrdomv>
          <udom>Count of the number of cells in each value.</udom>
        </attrdomv>
      </attr>
    </detailed>
    <detailed>
      <enttyp>
        <enttypl>Layer_2</enttypl>
        <enttypd>Band 2 of a three band image.</enttypd>
        <enttypds>ERDAS</enttypds>
      </enttyp>
      <attr>
        <attrlabl>ObjectID</attrlabl>
        <attrdef>Internal feature number.</attrdef>
        <attrdefs>ESRI</attrdefs>
        <attrdomv>
          <udom>Sequential unique whole numbers that are automatically generated.</udom>
        </attrdomv>
      </attr>
      <attr>
        <attrlabl>Value</attrlabl>
        <attrdef>cell value</attrdef>
        <attrdefs>ERDAS</attrdefs>
        <attrdomv>
          <udom>0 - 255</udom>
        </attrdomv>
      </attr>
      <attr>
        <attrlabl>Count</attrlabl>
        <attrdef>Count of the number of cells in each value.</attrdef>
        <attrdefs>ERDAS</attrdefs>
        <attrdomv>
          <udom>Count of the number of cells in each value.</udom>
        </attrdomv>
      </attr>
    </detailed>
    <detailed>
      <enttyp>
        <enttypl>Layer_3</enttypl>
        <enttypd>Band 3 of a three band image.</enttypd>
        <enttypds>ERDAS</enttypds>
      </enttyp>
      <attr>
        <attrlabl>ObjectID</attrlabl>
        <attrdef>Internal feature number.</attrdef>
        <attrdefs>ESRI</attrdefs>
        <attrdomv>
          <udom>Sequential unique whole numbers that are automatically generated.</udom>
        </attrdomv>
      </attr>
      <attr>
        <attrlabl>Value</attrlabl>
        <attrdef>cell value</attrdef>
        <attrdefs>ERDAS</attrdefs>
        <attrdomv>
          <udom>0 - 255</udom>
        </attrdomv>
      </attr>
      <attr>
        <attrlabl>Count</attrlabl>
        <attrdef>Count of the number of cells in each value.</attrdef>
        <attrdefs>ERDAS</attrdefs>
        <attrdomv>
          <udom>Count of the number of cells in each value.</udom>
        </attrdomv>
      </attr>
    </detailed>
  </eainfo>
  <distinfo>
    <distrib>
      <cntinfo>
        <cntorgp>
          <cntorg>USGS/CSS/Core Science Analytics and Synthesis</cntorg>
          <cntper>USGS-NPS Vegetation Characterization Program Coordinator</cntper>
        </cntorgp>
        <cntaddr>
          <addrtype>mailing and physical address</addrtype>
          <address>Denver Federal Center, Building 810, MS 302</address>
          <city>Denver</city>
          <state>Colorado</state>
          <postal>80225</postal>
        </cntaddr>
        <cntvoice>(303) 202-4220</cntvoice>
        <cntfax>303-202-4219</cntfax>
        <cntemail>gs-b-npsveg@usgs.gov</cntemail>
      </cntinfo>
    </distrib>
    <resdesc>Downloadable Data</resdesc>
    <distliab>The U.S. Geological Survey and the National Park Service shall not be held liable for improper or incorrect use of the data described and/or contained herein.  These data and related graphics (if available) are not legal documents and are not intended to be used as such.

The information contained in these data is dynamic and may change over time.  The data are not better than the original sources from which they were derived.  It is the responsibility of the data user to use the data appropriately and consistent within the limitations of geospatial data in general and these data in particular. Any related graphics (if available) are intended to aid the data user in acquiring relevant data; it is not approriate to use the related graphics as data.

The U.S. Geological Survey and the National Park Service gives no warranty, expressed or implied, as to the accuracy, reliability, or completeness of these data.  It is strongly recommended that these data are directly acquired from an U.S. Geological Survey and National Park Service servers and not indirectly through other sources which may have changed the data in some way.  Although these data have been processed successfully on a computer system at the U.S. Geological Survey, no warranty expressed or implied is made regarding the utility of the data on another system or for general or scientific purposes, nor shall the act of distribution constitute any such warranty. This disclaimer applies both to individual use of the data and aggregate use with other data. It is also strongly recommended that careful attention be paid to the contents of the metadata file associated with these data. Mention of trade names or commercial products in this metadata report does not constitute endorsement or recommendation for use by the U. S. Department of the Interior, U. S. Geological Survey and National Park Service.</distliab>
    <stdorder>
      <digform>
        <digtinfo>
          <formname>HTML</formname>
        </digtinfo>
        <digtopt>
          <onlinopt>
            <computer>
              <networka>
                <networkr>http://www.usgs.gov/core_science_systems/csas/vip/parks/thst.html</networkr>
              </networka>
            </computer>
            <accinstr>Internet Access</accinstr>
          </onlinopt>
        </digtopt>
      </digform>
      <fees>None</fees>
    </stdorder>
  </distinfo>
  <metainfo>
    <metd>20120426</metd>
    <metrd>20120617</metrd>
    <metc>
      <cntinfo>
        <cntorgp>
          <cntorg>USGS/CSS/Core Science Analytics and Synthesis</cntorg>
          <cntper>USGS-NPS Vegetation Characterization Program Coordinator</cntper>
        </cntorgp>
        <cntaddr>
          <addrtype>mailing and physical address</addrtype>
          <address>Denver Federal Center, Building 810, MS 302</address>
          <city>Denver</city>
          <state>Colorado</state>
          <postal>80225</postal>
        </cntaddr>
        <cntvoice>(303) 202-4220</cntvoice>
        <cntfax>303-202-4219</cntfax>
        <cntemail>gs-b-npsveg@usgs.gov</cntemail>
      </cntinfo>
    </metc>
    <metstdn>FGDC Biological Data Profile of the Content Standard for Digital Geospatial Metadata</metstdn>
    <metstdv>FGDC-STD-001.1-1999</metstdv>
    <metextns>
      <onlink>http://www.usgs.gov/core_science_systems/csas/metadata/index.html</onlink>
    </metextns>
  </metainfo>
</metadata>
