<?xml version="1.0" encoding="UTF-8"?>
<metadata>
  <idinfo>
    <citation>
      <citeinfo>
        <origin>Imagery acquired from Space Imaging Corporation</origin>
        <pubdate>20020104</pubdate>
        <title>Tallgrass Prairie National Preserve Vegetation Mapping Project - IKONOS Satellite Imagery</title>
        <geoform>remote-sensing image</geoform>
        <onlink>http://www1.usgs.gov/vip/tapr/taprortho.zip</onlink>
        <onlink>doi:10.5066/F7PN93M3</onlink>
      </citeinfo>
    </citation>
    <descript>
      <abstract>Three-band (natural color) composite and Three-band (CIR) composite of pan-sharpened multispectral IKONOS imagery covering Tallgrass Prairie National Preserve.</abstract>
      <purpose>Imagery were acquired by Heartland I&amp;M network for use in adjacent landuse studies.</purpose>
    </descript>
    <timeperd>
      <timeinfo>
        <sngdate>
          <caldate>20011023</caldate>
        </sngdate>
      </timeinfo>
      <current>ground condition</current>
    </timeperd>
    <status>
      <progress>Complete</progress>
      <update>None planned</update>
    </status>
    <spdom>
      <descgeog>Tallgrass Prairie National Preserve and environs</descgeog>
      <bounding>
        <westbc>-96.657530</westbc>
        <eastbc>-96.442138</eastbc>
        <northbc>38.541900</northbc>
        <southbc>38.350388</southbc>
      </bounding>
    </spdom>
    <keywords>
      <theme>
        <themekt>None</themekt>
        <themekey>IKONOS imagery</themekey>
        <themekey>Natural Color Composite</themekey>
        <themekey>False color composite</themekey>
        <themekey>MrSid Format</themekey>
      </theme>
      <place>
        <placekt>None</placekt>
        <placekey>Tallgrass Prairie National Preserve</placekey>
        <placekey>Chase County</placekey>
        <placekey>Kansas</placekey>
      </place>
    </keywords>
    <accconst>The imagery is covered by a license agreement with Space Imaging.  These data are strictly for internal, NPS usage and cannot be shared or distributed in accordance with our license agreement.</accconst>
    <useconst>For internal (NPS) only.</useconst>
    <ptcontac>
      <cntinfo>
        <cntorgp>
          <cntorg>National Park Service - Midwest Region GIS Technical Support Center</cntorg>
          <cntper>Midwest Region GIS Coordinator</cntper>
        </cntorgp>
        <cntpos>GIS Coordinator</cntpos>
        <cntaddr>
          <addrtype>mailing and physical address</addrtype>
          <address>B102 Steenbock</address>
          <address>550 Babcock Dr</address>
          <city>Madison</city>
          <state>WI</state>
          <postal>53706</postal>
          <country>US</country>
        </cntaddr>
        <cntvoice>608.265.3515</cntvoice>
        <cntfax>608.262.2500</cntfax>
        <cntemail>peter_budde@nps.gov</cntemail>
        <hours>0700 - 1700 CT</hours>
      </cntinfo>
    </ptcontac>
    <secinfo>
      <secsys>None</secsys>
      <secclass>Restricted</secclass>
      <sechandl>For internal use only.</sechandl>
    </secinfo>
    <native>Microsoft Windows 2000 Version 5.0 (Build 2195) Service Pack 2; ESRI ArcCatalog 8.1.1.649</native>
  </idinfo>
  <dataqual>
    <attracc>
      <attraccr>n/a</attraccr>
    </attracc>
    <logic>n/a</logic>
    <complete>Image covers national preserve and 3-mile buffer</complete>
    <posacc>
      <horizpa>
        <horizpar>Imagery registered by Space Imaging</horizpar>
        <qhorizpa>
          <horizpav>10 meters</horizpav>
          <horizpae>Based on Space Imaging's Precision Pro specifications</horizpae>
        </qhorizpa>
      </horizpa>
      <vertacc>
        <vertaccr>n/a</vertaccr>
      </vertacc>
    </posacc>
    <lineage>
      <procstep>
        <procdesc>Generated 3-band image stack (r = r g = g, b =b) from mosaiced images</procdesc>
        <procdate>20020116</procdate>
      </procstep>
      <procstep>
        <procdesc>Generated 3-band image stack (r = nir, g = r, b = g) from mosaiced images</procdesc>
        <procdate>20020116</procdate>
      </procstep>
      <procstep>
        <procdesc>Compressed image (factor of 10) using MrSid</procdesc>
        <procdate>20020117</procdate>
      </procstep>
    </lineage>
    <cloud>0</cloud>
  </dataqual>
  <spdoinfo>
    <direct>Raster</direct>
    <rastinfo>
      <rasttype>Pixel</rasttype>
      <rowcount>20784</rowcount>
      <colcount>18260</colcount>
    </rastinfo>
  </spdoinfo>
  <spref>
    <horizsys>
      <planar>
        <gridsys>
          <gridsysn>Universal Transverse Mercator</gridsysn>
          <utm>
            <utmzone>14</utmzone>
            <transmer>
              <sfctrmer>0.999600</sfctrmer>
              <longcm>-99.000000</longcm>
              <latprjo>0.000000</latprjo>
              <feast>500000.000000</feast>
              <fnorth>0.000000</fnorth>
            </transmer>
          </utm>
        </gridsys>
        <planci>
          <plance>row and column</plance>
          <coordrep>
            <absres>1.000000</absres>
            <ordres>1.000000</ordres>
          </coordrep>
          <plandu>meters</plandu>
        </planci>
      </planar>
      <geodetic>
        <horizdn>North American Datum of 1983</horizdn>
        <ellips>Geodetic Reference System 80</ellips>
        <semiaxis>6378137.000000</semiaxis>
        <denflat>298.257222</denflat>
      </geodetic>
    </horizsys>
  </spref>
  <eainfo>
    <detailed>
      <enttyp>
        <enttypl>Band_1</enttypl>
        <enttypd>Red Digital Values</enttypd>
        <enttypds>Space Imaging Dynamic Range Adjustment</enttypds>
      </enttyp>
      <attr>
        <attrlabl>ObjectID</attrlabl>
        <attrdef>generic value</attrdef>
        <attrdefs>n/a</attrdefs>
        <attrdomv>
          <udom>unknkown</udom>
        </attrdomv>
      </attr>
      <attr>
        <attrlabl>Value</attrlabl>
        <attrdef>Digital number from satellite</attrdef>
        <attrdefs>Space Imaging</attrdefs>
        <attrdomv>
          <rdom>
            <rdommin>0</rdommin>
            <rdommax>255</rdommax>
          </rdom>
        </attrdomv>
      </attr>
      <attr>
        <attrlabl>Count</attrlabl>
        <attrdef>Count of values</attrdef>
        <attrdefs>System</attrdefs>
        <attrdomv>
          <udom>unknkown</udom>
        </attrdomv>
      </attr>
    </detailed>
    <detailed>
      <enttyp>
        <enttypl>Band_2</enttypl>
        <enttypd>Green Digital Values</enttypd>
        <enttypds>Space Imaging Dynamic Range Adjustment</enttypds>
      </enttyp>
      <attr>
        <attrlabl>ObjectID</attrlabl>
        <attrdef>generic value</attrdef>
        <attrdefs>n/a</attrdefs>
        <attrdomv>
          <udom>unknkown</udom>
        </attrdomv>
      </attr>
      <attr>
        <attrlabl>Value</attrlabl>
        <attrdef>Digital number from satellite</attrdef>
        <attrdefs>Space Imaging</attrdefs>
        <attrdomv>
          <rdom>
            <rdommin>0</rdommin>
            <rdommax>255</rdommax>
          </rdom>
        </attrdomv>
      </attr>
      <attr>
        <attrlabl>Count</attrlabl>
        <attrdef>Count of values</attrdef>
        <attrdefs>System</attrdefs>
        <attrdomv>
          <udom>unknkown</udom>
        </attrdomv>
      </attr>
    </detailed>
    <detailed>
      <enttyp>
        <enttypl>Band_3</enttypl>
        <enttypd>Blue Digital Values</enttypd>
        <enttypds>Space Imaging Dynamic Range Adjustment</enttypds>
      </enttyp>
      <attr>
        <attrlabl>ObjectID</attrlabl>
        <attrdef>Generic Value</attrdef>
        <attrdefs>n/a</attrdefs>
        <attrdomv>
          <udom>unknkown</udom>
        </attrdomv>
      </attr>
      <attr>
        <attrlabl>Value</attrlabl>
        <attrdef>Digital number from satellite</attrdef>
        <attrdefs>Space Imaging</attrdefs>
        <attrdomv>
          <rdom>
            <rdommin>0</rdommin>
            <rdommax>255</rdommax>
          </rdom>
        </attrdomv>
      </attr>
      <attr>
        <attrlabl>Count</attrlabl>
        <attrdef>Summary of values</attrdef>
        <attrdefs>System</attrdefs>
        <attrdomv>
          <udom>unknkown</udom>
        </attrdomv>
      </attr>
    </detailed>
    <overview>
      <eaover>Values for each band derived from dynamic range adjustment of individual bands.</eaover>
      <eadetcit>N/A</eadetcit>
    </overview>
  </eainfo>
  <distinfo>
    <distrib>
      <cntinfo>
        <cntorgp>
          <cntorg>USGS/CSS/Core Science Analytics and Synthesis</cntorg>
          <cntper>USGS-NPS Vegetation Characterization Program Coordinator</cntper>
        </cntorgp>
        <cntaddr>
          <addrtype>mailing and physical address</addrtype>
          <address>Denver Federal Center, Building 810, MS 302</address>
          <city>Denver</city>
          <state>Colorado</state>
          <postal>80225</postal>
        </cntaddr>
        <cntvoice>(303) 202-4220</cntvoice>
        <cntfax>303-202-4219</cntfax>
        <cntemail>gs-b-npsveg@usgs.gov</cntemail>
      </cntinfo>
    </distrib>
    <resdesc>Downloadable Data</resdesc>
    <distliab>The U.S. Geological Survey and the National Park Service shall not be held liable for improper or incorrect use of the data described and/or contained herein.  These data and related graphics (if available) are not legal documents and are not intended to be used as such.

The information contained in these data is dynamic and may change over time.  The data are not better than the original sources from which they were derived.  It is the responsibility of the data user to use the data appropriately and consistent within the limitations of geospatial data in general and these data in particular.  Any related graphics (if available) are intended to aid the data user in acquiring relevant data; it is not approriate to use the related graphics as data.

The U.S. Geological Survey and the National Park Service gives no warranty, expressed or implied, as to the accuracy, reliability, or completeness of these data.  It is strongly recommended that these data are directly acquired from an U.S. Geological Survey and National Park Service servers and not indirectly through other sources which may have changed the data in some way.  Although these data have been processed successfully on a computer system at the U.S. Geological Survey, no warranty expressed or implied is made regarding the utility of the data on another system or for general or scientific purposes, nor shall the act of distribution constitute any such warranty. This disclaimer applies both to individual use of the data and aggregate use with other data. It is also strongly recommended that careful attention be paid to the contents of the metadata file associated with these data. Mention of trade names or commercial products in this metadata report does not constitute endorsement or recommendation for use by the U. S. Department of the Interior, U. S. Geological Survey and National Park Service.</distliab>
    <stdorder>
      <digform>
        <digtinfo>
          <formname>HTML</formname>
        </digtinfo>
        <digtopt>
          <onlinopt>
            <computer>
              <networka>
                <networkr>http://www.usgs.gov/core_science_systems/csas/vip/parks/tapr.html</networkr>
              </networka>
            </computer>
            <accinstr>Internet Access</accinstr>
          </onlinopt>
        </digtopt>
      </digform>
      <fees>None</fees>
    </stdorder>
  </distinfo>
  <metainfo>
    <metd>20020117</metd>
    <metrd>20110602</metrd>
    <metc>
      <cntinfo>
        <cntorgp>
          <cntorg>USGS/CSS/Core Science Analytics and Synthesis</cntorg>
          <cntper>USGS-NPS Vegetation Characterization Program Coordinator</cntper>
        </cntorgp>
        <cntaddr>
          <addrtype>mailing and physical address</addrtype>
          <address>Denver Federal Center, Building 810, MS 302</address>
          <city>Denver</city>
          <state>Colorado</state>
          <postal>80225</postal>
        </cntaddr>
        <cntvoice>(303) 202-4220</cntvoice>
        <cntfax>303-202-4219</cntfax>
        <cntemail>gs-b-npsveg@usgs.gov</cntemail>
      </cntinfo>
    </metc>
    <metstdn>FGDC Biological Data Profile of the Content Standard for Digital Geospatial Metadata</metstdn>
    <metstdv>FGDC-STD-001.1-1999</metstdv>
    <metextns>
      <onlink>http://www.usgs.gov/core_science_systems/csas/metadata/index.html</onlink>
    </metextns>
  </metainfo>
</metadata>
