<?xml version="1.0" encoding="UTF-8"?>
<metadata>
  <idinfo>
    <citation>
      <citeinfo>
        <origin>United States Army Corps of Engineers</origin>
        <pubdate>20080217</pubdate>
        <title>Salt River Bay National Historical Park and Ecological Preserve Vegetation Mapping Project - Orthorectified Photomosaic</title>
        <geoform>remote-sensing image</geoform>
        <pubinfo>
          <pubplace>401 Dividend Drive, Suite K, Peachtree City, GA 30269</pubplace>
          <publish>3001, Inc.</publish>
        </pubinfo>
        <onlink>http://www1.usgs.gov/vip/sari/sariortho.zip</onlink>
        <onlink>doi:10.5066/F7PR7SZ4</onlink>
      </citeinfo>
    </citation>
    <descript>
      <abstract>This file is an extract from a collection of GeoTIFF format natural color and false color infrared orthophotos covering the islands of Puerto Rico, Culebra, Vieques, St. Thomas, St. John, and St. Croix (USVI). An orthophoto is remotely sensed image data in which displacement of features in the image caused by terrain relief and sensor orientation have been mathematically removed. Orthophotography combines the image characteristics of a photograph with the geometric qualities of a map. Each orthophoto provides imagery for a standard USGS 1/16th quadrangle map. False color infrared imagery was only generated for those 1/16th quadrangle maps falling within one kilometer of the coast line. The source imagery was obtained from November 2006 through March 2007 and used to produce orthophotos with a one foot ground sample distance (GSD). Imagery was acquired at 0.9 foot GSD resolution. Flight height maintained during mission was 8,650 feet AGL. The imagery was captured at 12-bit radiometric resolution and converted to 8-bit radiometric resolution during post processing. The imagery was captured with 30% sidelap between all adjacent flight lines. The PRVI project area was divided into 20 flight blocks due to neccessary base station and flight line length requirements. The imagery was obtained and processed by all digital means beginning with data acquisition using an ADS40 digital sensor. The orthophotos are available in GeoTIFF form. The projected coordinate system is State Plane Puerto Rico / US Virgin Islands (Zone 5200), NAD 83, GRS 80, Units Meters.</abstract>
      <purpose>The purpose of the project is to provide the United States Army Corps of Engineers with current year digital orthophotos covering all of Puerto Rico and the US Virgin Islands. The Corps regularly uses digital orthophotos to support regulatory, land management and acquistion, planning, engineering and habitat restoration projects. The data may also become available to local, state and other federal agencies for their specific management and analysis needs. The one-foot resolution data collected for this project is higher resolution than the previous island-wide collection in 2004, which was one-meter resolution.</purpose>
      <supplinf>The data design specifications for this product includes several directed to insure its quality, consistency, and useability. These specifications address some of the technical issues associated with orthoimage production: 1) the tops of buildings and other structures elevated above the surface of the ground 'tilt' away from the center point of the source photography and from their own bases as a result of perspective and their height which is not compensated for in digital elevation models of the ground surface and 2) individual orthoimages may be assembled from several source images (strips).</supplinf>
    </descript>
    <timeperd>
      <timeinfo>
        <sngdate>
          <caldate>20071022</caldate>
        </sngdate>
      </timeinfo>
      <current>Date of image acquisition</current>
    </timeperd>
    <status>
      <progress>Complete</progress>
      <update>None planned</update>
    </status>
    <spdom>
      <descgeog>Salt River Bay National Historical Park and Ecological Preserve and environs.</descgeog>
      <bounding>
        <westbc>-64.779146</westbc>
        <eastbc>-64.733474</eastbc>
        <northbc>17.789324</northbc>
        <southbc>17.751805</southbc>
      </bounding>
    </spdom>
    <keywords>
      <theme>
        <themekt>none</themekt>
        <themekey>framework</themekey>
        <themekey>orthoimage</themekey>
      </theme>
      <place>
        <placekt>none</placekt>
        <placekey>Puerto Rico</placekey>
        <placekey>Culebra</placekey>
        <placekey>Vieques</placekey>
        <placekey>U.S. Virgin Islands</placekey>
      </place>
    </keywords>
    <accconst>None</accconst>
    <useconst>None. Acknowledgment of the United States Army Corps of Engineers would be appreciated for products derived from these data.</useconst>
    <ptcontac>
      <cntinfo>
        <cntorgp>
          <cntorg>U.S. Army Corps of Engineers</cntorg>
        </cntorgp>
        <cntaddr>
          <addrtype>mailing address</addrtype>
          <address>1222 Spruce Street</address>
          <city>St. Louis</city>
          <state>MO</state>
          <postal>63103-2833</postal>
          <country>US</country>
        </cntaddr>
        <cntvoice>314-331-8385</cntvoice>
        <cntfax>314-331-8071</cntfax>
        <cntemail>Robert.D.Mesko@mvs02.usace.army.mil</cntemail>
      </cntinfo>
    </ptcontac>
    <native>Microsoft Windows XP Version 5.1 (Build 2600) Service Pack 3; ESRI ArcCatalog 9.3.1.3000</native>
  </idinfo>
  <dataqual>
    <logic>Sample points taken from overlapping areas of adjacent image strips that contributed image chips to each orthophoto tile are typically consistent to the 2-3 pixel level. This not only ensures that a consistent mosaic can be created from the adjacent image strips acquired with the ADS40 pushbroom scanner but also means that the images have good precision and as a group are spatially self-consistent.</logic>
    <complete>These data cover all of the islands of Puerto Rico, Culebra, Vieques, and the US Virgin Islands. Each orthophoto has an overedge of approximately 30 meters on all sides of its centering 1.875 minute cell.</complete>
    <posacc>
      <horizpa>
        <horizpar>The accuracy value was determined by measuring photo-identifiable control points collected with GPS survey methods in the orthophotos.</horizpar>
        <qhorizpa>
          <horizpav>5.00</horizpav>
          <horizpae>ASPRS Class I Standard for 200 Scale Mapping for areas defined in the document PR_USVI_DEM_Footprint07_Rev.pdf</horizpae>
        </qhorizpa>
        <qhorizpa>
          <horizpav>10.0</horizpav>
          <horizpae>ASPRS Class I Standard for 400 Scale Mapping for areas defined in the document PR_USVI_DEM_Footprint07_Rev.pdf</horizpae>
        </qhorizpa>
      </horizpa>
    </posacc>
    <lineage>
      <srcinfo>
        <srccite>
          <citeinfo>
            <origin>3001, Inc.</origin>
            <pubdate>20080217</pubdate>
            <title>Digital Aerial Imagery for 2006-2007 PRVI Orthophotography</title>
            <geoform>imagery</geoform>
            <pubinfo>
              <pubplace>401 Dividend Drive, Suite K, Peachtree City, GA 30269</pubplace>
              <publish>3001, Inc.</publish>
            </pubinfo>
            <othercit>Additional Information: (770) 631-0903</othercit>
          </citeinfo>
        </srccite>
        <srcscale>2400</srcscale>
        <typesrc>disc</typesrc>
        <srctime>
          <timeinfo>
            <sngdate>
              <caldate>20071022</caldate>
            </sngdate>
          </timeinfo>
          <srccurr>Date of image acquisition</srccurr>
        </srctime>
        <srccitea>dig_aer_img</srccitea>
        <srccontr>Flight planning, image acquisition, image processing and image packaging.</srccontr>
      </srcinfo>
      <srcinfo>
        <srccite>
          <citeinfo>
            <origin>RLDA</origin>
            <pubdate>20070115</pubdate>
            <title>Ground Control for 2006-2007 PRVI Orthophotography</title>
            <geoform>GPS</geoform>
            <pubinfo>
              <pubplace>PO Box 41033, San Juan, Puerto Rico, 00940</pubplace>
              <publish>RLDA</publish>
            </pubinfo>
            <othercit>Additional Information: (787)268-6097</othercit>
          </citeinfo>
        </srccite>
        <srcscale>2400</srcscale>
        <typesrc>disc</typesrc>
        <srctime>
          <timeinfo>
            <sngdate>
              <caldate>20061101</caldate>
            </sngdate>
          </timeinfo>
          <srccurr>Date ground control was collected</srccurr>
        </srctime>
        <srccitea>photo_control</srccitea>
        <srccontr>Horizontal and vertical control used to establish positions and elevations for reference and correlation purposes and as input to the aerotriangulation process.</srccontr>
      </srcinfo>
      <srcinfo>
        <srccite>
          <citeinfo>
            <origin>3001, Inc</origin>
            <pubdate>20050201</pubdate>
            <title>DEM for Orthorectification of 2006-2007 PRVI Orthophotography</title>
            <geoform>raster digital data</geoform>
            <pubinfo>
              <pubplace>401 Dividend Drive, Suite K, Peachtree City, GA 30269</pubplace>
              <publish>001, Inc.</publish>
            </pubinfo>
            <othercit>Additional Information: (770) 631-0903</othercit>
          </citeinfo>
        </srccite>
        <srcscale>2400</srcscale>
        <typesrc>disc</typesrc>
        <srctime>
          <timeinfo>
            <sngdate>
              <caldate>20050201</caldate>
            </sngdate>
          </timeinfo>
          <srccurr>Date DEM was processed by 3001, Inc.</srccurr>
        </srctime>
        <srccitea>ortho_dem</srccitea>
        <srccontr>Ground elevations used for orthorectification process</srccontr>
      </srcinfo>
      <procstep>
        <procdesc>Ground control consisted of photo identifiable surveyed points. The imagery was collected at an altitude of 8650 ft using an ADS40 digital sensor. Image quality was verified during the post flight review phase. Factors considered during this review included but were not limited to the presence of smoke and/or cloud cover, contrails, light conditions and sun glint.

The triangulated strips were rectified with a recent DEM of the area provided by 3001, Inc. The vertical accuracy of the DEM varies based on the elevation postings and is generally estimated at 30-45cm. The red, green and blue bands were combined to generate a final natural color orthophoto, and the near - infrared, red and green bands were combined to generate a final false color infrared orthophoto.

The ADS40 sensor collects twelve bit image data which requires radiometric adjustment for output in standard eight bit image channels. Converting to eight bit results in a reduction of the color range from 4096 to 256 - thus loss of radiometric detail is inevitable. The extra dynamic range of the sensor permits greater object differentiation in shadows and in bright areas. The sixteen bit dynamic range permitted the imagery to be more effectively color balanced than is possible with eight bit imagery. This was accomplished by performing tonal enhancements immediately prior to the reduction from sixteen bit to eight bit data. In addition to color banancing these eight bit images were adjusted to create seamless imagery to the highest extent practically achievable.

The imagery was mosaicked using a combination of automated and manual seamlines generation. Project specified tiles were extracted from the mosaic. Final image tiles were reviewed for artifacts and anomalies and adjusted as part of quality control procedures. When necessary, local corrections to the imagery were performed to minimize such effects.</procdesc>
        <srcused>dig_aer_img</srcused>
        <srcused>photo_control</srcused>
        <srcused>ortho_dem</srcused>
        <procdate>20080217</procdate>
        <proccont>
          <cntinfo>
            <cntperp>
              <cntper>Peter Briere</cntper>
              <cntorg>3001, Inc</cntorg>
            </cntperp>
            <cntaddr>
              <addrtype>mailing and physical address</addrtype>
              <address>401 Dividend Drive, Suite K</address>
              <city>Peachtree City</city>
              <state>GA</state>
              <postal>30269</postal>
              <country>US</country>
            </cntaddr>
            <cntvoice>(770) 631-0903</cntvoice>
            <cntfax>(770) 631-0820</cntfax>
            <cntemail>pbriere@3001inc.com</cntemail>
            <hours>8:00 a.m. to 5:00 p.m.</hours>
          </cntinfo>
        </proccont>
      </procstep>
      <procstep>
        <procdesc>Metadata imported.</procdesc>
        <srcused>C:\army_corp_metadata.xml</srcused>
        <procdate>20090213</procdate>
      </procstep>
      <procstep>
        <procdesc>Metadata imported.</procdesc>
        <procdate>20090626</procdate>
      </procstep>
      <procstep>
        <procdesc>Metadata imported.</procdesc>
        <procdate>20090701</procdate>
      </procstep>
    </lineage>
    <cloud>5</cloud>
  </dataqual>
  <spdoinfo>
    <direct>Raster</direct>
    <rastinfo>
      <rasttype>Pixel</rasttype>
      <rowcount>13816</rowcount>
      <colcount>15767</colcount>
    </rastinfo>
  </spdoinfo>
  <spref>
    <horizsys>
      <planar>
        <mapproj>
          <mapprojn>Lambert Conformal Conic</mapprojn>
          <lambertc>
            <stdparll>18.033333</stdparll>
            <longcm>-66.433333</longcm>
            <latprjo>17.833333</latprjo>
            <feast>200000.000000</feast>
            <fnorth>200000.000000</fnorth>
          </lambertc>
        </mapproj>
        <planci>
          <plance>row and column</plance>
          <coordrep>
            <absres>0.304800</absres>
            <ordres>0.297388</ordres>
          </coordrep>
          <plandu>meters</plandu>
        </planci>
      </planar>
      <geodetic>
        <horizdn>North American Datum of 1983</horizdn>
        <ellips>Geodetic Reference System 80</ellips>
        <semiaxis>6378137.000000</semiaxis>
        <denflat>298.257222</denflat>
      </geodetic>
    </horizsys>
  </spref>
  <eainfo>
    <detailed>
      <enttyp>
        <enttypl>r_1.img.vat</enttypl>
        <enttypd>Table</enttypd>
        <enttypds>United States Army Corps of Engineers</enttypds>
      </enttyp>
      <attr>
        <attrlabl>ObjectID</attrlabl>
        <attrdef>Internal feature number.</attrdef>
        <attrdefs>ESRI</attrdefs>
        <attrdomv>
          <udom>Sequential unique whole numbers that are automatically generated.</udom>
        </attrdomv>
      </attr>
      <attr>
        <attrlabl>Value</attrlabl>
        <attrdef>Internal feature number.</attrdef>
        <attrdefs>ESRI</attrdefs>
        <attrdomv>
          <udom>Sequential unique whole numbers that are automatically generated.</udom>
        </attrdomv>
      </attr>
      <attr>
        <attrlabl>BinValues</attrlabl>
        <attrdef>Internal feature number.</attrdef>
        <attrdefs>ESRI</attrdefs>
        <attrdomv>
          <udom>Sequential unique whole numbers that are automatically generated.</udom>
        </attrdomv>
      </attr>
      <attr>
        <attrlabl>Count</attrlabl>
        <attrdef>Number.</attrdef>
        <attrdefs>ESRI</attrdefs>
        <attrdomv>
          <udom>Numerical.</udom>
        </attrdomv>
      </attr>
    </detailed>
    <detailed>
      <enttyp>
        <enttypl>r_1.img.vat</enttypl>
        <enttypd>Table</enttypd>
        <enttypds>United States Army Corps of Engineers</enttypds>
      </enttyp>
      <attr>
        <attrlabl>ObjectID</attrlabl>
        <attrdef>Internal feature number.</attrdef>
        <attrdefs>ESRI</attrdefs>
        <attrdomv>
          <udom>Sequential unique whole numbers that are automatically generated.</udom>
        </attrdomv>
      </attr>
      <attr>
        <attrlabl>Value</attrlabl>
        <attrdef>Internal feature number.</attrdef>
        <attrdefs>ESRI</attrdefs>
        <attrdomv>
          <udom>Sequential unique whole numbers that are automatically generated.</udom>
        </attrdomv>
      </attr>
      <attr>
        <attrlabl>BinValues</attrlabl>
        <attrdef>Internal feature number.</attrdef>
        <attrdefs>ESRI</attrdefs>
        <attrdomv>
          <udom>Sequential unique whole numbers that are automatically generated.</udom>
        </attrdomv>
      </attr>
      <attr>
        <attrlabl>Count</attrlabl>
        <attrdef>Number.</attrdef>
        <attrdefs>ESRI</attrdefs>
        <attrdomv>
          <udom>Numerical.</udom>
        </attrdomv>
      </attr>
    </detailed>
    <detailed>
      <enttyp>
        <enttypl>r_1.img.vat</enttypl>
        <enttypd>Table</enttypd>
        <enttypds>United States Army Corps of Engineers</enttypds>
      </enttyp>
      <attr>
        <attrlabl>ObjectID</attrlabl>
        <attrdef>Internal feature number.</attrdef>
        <attrdefs>ESRI</attrdefs>
        <attrdomv>
          <udom>Sequential unique whole numbers that are automatically generated.</udom>
        </attrdomv>
      </attr>
      <attr>
        <attrlabl>Value</attrlabl>
        <attrdef>Internal feature number.</attrdef>
        <attrdefs>ESRI</attrdefs>
        <attrdomv>
          <udom>Sequential unique whole numbers that are automatically generated.</udom>
        </attrdomv>
      </attr>
      <attr>
        <attrlabl>BinValues</attrlabl>
        <attrdef>Internal feature number.</attrdef>
        <attrdefs>ESRI</attrdefs>
        <attrdomv>
          <udom>Sequential unique whole numbers that are automatically generated.</udom>
        </attrdomv>
      </attr>
      <attr>
        <attrlabl>Count</attrlabl>
        <attrdef>Number.</attrdef>
        <attrdefs>ESRI</attrdefs>
        <attrdomv>
          <udom>Numerical.</udom>
        </attrdomv>
      </attr>
    </detailed>
  </eainfo>
  <distinfo>
    <distrib>
      <cntinfo>
        <cntorgp>
          <cntorg>USGS/CSS/Core Science Analytics and Synthesis</cntorg>
          <cntper>USGS-NPS Vegetation Mapping Program Coordinator</cntper>
        </cntorgp>
        <cntaddr>
          <addrtype>mailing and physical address</addrtype>
          <address>Denver Federal Center, Building 810, MS 302</address>
          <city>Denver</city>
          <state>Colorado</state>
          <postal>80225</postal>
        </cntaddr>
        <cntvoice>(303) 202-4220</cntvoice>
        <cntfax>303-202-4219</cntfax>
        <cntemail>gs-b-npsveg@usgs.gov</cntemail>
      </cntinfo>
    </distrib>
    <resdesc>Downloadable Data</resdesc>
    <distliab>The U.S. Geological Survey and the National Park Service shall not be held liable for improper or incorrect use of the data described and/or contained herein.  These data and related graphics (if available) are not legal documents and are not intended to be used as such.

The information contained in these data is dynamic and may change over time.  The data are not better than the original sources from which they were derived.  It is the responsibility of the data user to use the data appropriately and consistent within the limitations of geospatial data in general and these data in particular.  Any related graphics (if available) are intended to aid the data user in acquiring relevant data; it is not approriate to use the related graphics as data.

The U.S. Geological Survey and the National Park Service gives no warranty, expressed or implied, as to the accuracy, reliability, or completeness of these data.  It is strongly recommended that these data are directly acquired from an U.S. Geological Survey and National Park Service servers and not indirectly through other sources which may have changed the data in some way.  Although these data have been processed successfully on a computer system at the U.S. Geological Survey, no warranty expressed or implied is made regarding the utility of the data on another system or for general or scientific purposes, nor shall the act of distribution constitute any such warranty. This disclaimer applies both to individual use of the data and aggregate use with other data. It is also strongly recommended that careful attention be paid to the contents of the metadata file associated with these data. Mention of trade names or commercial products in this metadata report does not constitute endorsement or recommendation for use by the U. S. Department of the Interior, U. S. Geological Survey and National Park Service.</distliab>
    <stdorder>
      <digform>
        <digtinfo>
          <formname>HTML</formname>
        </digtinfo>
        <digtopt>
          <onlinopt>
            <computer>
              <networka>
                <networkr>http://www.usgs.gov/core_science_systems/csas/vip/parks/sari.html</networkr>
              </networka>
            </computer>
            <accinstr>Internet Access</accinstr>
          </onlinopt>
        </digtopt>
      </digform>
      <fees>None</fees>
    </stdorder>
  </distinfo>
  <metainfo>
    <metd>20090706</metd>
    <metrd>20120927</metrd>
    <metc>
      <cntinfo>
        <cntorgp>
          <cntorg>USGS/CSS/Core Science Analytics and Synthesis</cntorg>
          <cntper>USGS-NPS Vegetation Mapping Program Coordinator</cntper>
        </cntorgp>
        <cntaddr>
          <addrtype>mailing and physical address</addrtype>
          <address>Denver Federal Center, Building 810, MS 302</address>
          <city>Denver</city>
          <state>Colorado</state>
          <postal>80225</postal>
        </cntaddr>
        <cntvoice>(303) 202-4220</cntvoice>
        <cntfax>303-202-4219</cntfax>
        <cntemail>gs-b-npsveg@usgs.gov</cntemail>
      </cntinfo>
    </metc>
    <metstdn>FGDC Biological Data Profile of the Content Standard for Digital Geospatial Metadata</metstdn>
    <metstdv>FGDC-STD-001.1-1999</metstdv>
    <metextns>
      <onlink>http://www.nbii.gov/portal/server.pt/community/fgdc_metadata/255</onlink>
    </metextns>
  </metainfo>
</metadata>
