<?xml version="1.0" encoding="UTF-8"?>
<metadata>
  <idinfo>
    <citation>
      <citeinfo>
        <origin>Earth Data Analysis Center, University of New Mexico</origin>
        <pubdate>20050801</pubdate>
        <title>Salinas Pueblo Missions National Monument Vegetation Mapping Project - Orthorectified Aerial Photograph for Gran Quivira Unit</title>
        <geoform>raster digital data</geoform>
        <othercit>&gt;Mosaic of 29 orthorectified air photos acquired by Blue Sky Consulting, LLC on April 1, 2003 at 1:3,000 scale using a Wild RC10 camera with a 153 mm focal length.</othercit>
        <onlink>http://www1.usgs.gov/vip/sapu/sapuortho1.zip</onlink>
        <onlink>doi:10.5066/F7BK19B5</onlink>
      </citeinfo>
    </citation>
    <descript>
      <abstract>This image is a mosaic of 29 ortho-rectifed aerial photos over the Salinas National Monument, Gran Quivira Unit.</abstract>
      <purpose>This image was created in order to provide a relatively seamless air-photo map at 0.1 meter spatial resolution over the National Park administrative area and surrounding lands.</purpose>
    </descript>
    <timeperd>
      <timeinfo>
        <sngdate>
          <caldate>20030401</caldate>
        </sngdate>
      </timeinfo>
      <current>ground condition</current>
    </timeperd>
    <status>
      <progress>Complete</progress>
      <update>None planned</update>
    </status>
    <spdom>
      <descgeog>Salinas Pueblo Missions National Monument and environs</descgeog>
      <bounding>
        <westbc>-106.113112</westbc>
        <eastbc>-106.066209</eastbc>
        <northbc>34.265373</northbc>
        <southbc>34.253883</southbc>
      </bounding>
    </spdom>
    <keywords>
      <theme>
        <themekt>none</themekt>
        <themekey>air photo</themekey>
      </theme>
      <place>
        <placekt>None</placekt>
        <placekey>New Mexico</placekey>
        <placekey>Salinas National Monument</placekey>
        <placekey>Gran Quivira</placekey>
      </place>
      <temporal>
        <tempkt>None</tempkt>
        <tempkey>May</tempkey>
        <tempkey>2002</tempkey>
      </temporal>
    </keywords>
    <accconst>None</accconst>
    <useconst>Earth Data Analysis Center (EDAC) provides these geographic data "as is" and makes no guarantee or warranty concerning the accuracy of information contained in the geographic data. EDAC further makes no warranties, either expressed or implied as to any other matter whatsoever, including, without limitation, the condition of the product, or its fitness for any particular purpose. The burden for determining fitness for use lies entirely with the user. Although these data have been processed successfully on computers at EDAC, no warranty, expressed or implied, is made by EDAC regarding the use of these data on any other system, nor does the fact of distribution constitute or imply any such warranty. In no event shall EDAC have any liability whatsoever for payment of any consequential, incidental, indirect, special, or tort damages of any kind, including, but not limited to, any loss of profits arising out of use of or reliance on the geographic data or arising out of the delivery, installation, operation, or support by EDAC.</useconst>
    <ptcontac>
      <cntinfo>
        <cntperp>
          <cntper>Paul Neville</cntper>
          <cntorg>Earth Data Analysis Center, University of New Mexico</cntorg>
        </cntperp>
        <cntpos>Remote Sensing Specialist</cntpos>
        <cntaddr>
          <addrtype>mailing address</addrtype>
          <address>MSC01 1110</address>
          <address>Bandelier West, Rm #111, University of New Mexico</address>
          <city>Albuquerque</city>
          <state>NM</state>
          <postal>87131-0001</postal>
          <country>USA</country>
        </cntaddr>
        <cntvoice>(505) 277-3622 (x244)</cntvoice>
        <cntfax>(505) 277-3614</cntfax>
        <cntemail>pneville@edac.unm.edu</cntemail>
        <hours>M-F 9:00 AM - 5:00 PM MST</hours>
      </cntinfo>
    </ptcontac>
    <datacred>Original air photos acquired by Blue Sky Consulting, LLC, 2505 Clark Carr Loop SE, 7-Bar Aviation Terminal, Albuquerque, NM 87106-5611, (505) 440-0828 (Voice), (505) 842-8555 (FAX).</datacred>
    <native>Microsoft Windows Server 2008 R2 Version 6.1 (Build 7601) Service Pack 1; ESRI ArcGIS 10.0.0.2414</native>
  </idinfo>
  <dataqual>
    <logic>Unknown.</logic>
    <complete>Unknown.</complete>
    <lineage>
      <procstep>
        <procdesc>Air photos were scanned and imported into ERDAS Imagine 8.5's Orthobase software where they were ortho-rectified using an USGS Digital Ortho-photo Quad (1m spatial resolution) and an USGS Digital Elevation Model (10m spatial resolution). The ortho-rectified air photos were cropped (50% NS, 30% EW), color balanced using a parabolic algorithm, and histogram-matched based on overlap values, and then mosaicked together.</procdesc>
        <procdate>Unknown</procdate>
        <proccont>
          <cntinfo>
            <cntperp>
              <cntper>Paul Neville</cntper>
              <cntorg>Earth Data Analysis Center</cntorg>
            </cntperp>
            <cntpos>Remote Sensing Specialist</cntpos>
            <cntaddr>
              <addrtype>mailing address</addrtype>
              <address>MSC01 1110</address>
              <address>Bandelier West, Rm #111, University of New Mexico</address>
              <city>Albuquerque</city>
              <state>NM</state>
              <postal>87131-0001</postal>
              <country>USA</country>
            </cntaddr>
            <cntvoice>(505) 277-3622 (x244)</cntvoice>
            <cntfax>(505) 277-3614</cntfax>
            <cntemail>pneville@edac.unm.edu</cntemail>
            <hours>M-F 9:00 AM - 5:00 PM</hours>
          </cntinfo>
        </proccont>
      </procstep>
    </lineage>
  </dataqual>
  <spdoinfo>
    <direct>Raster</direct>
    <rastinfo>
      <rasttype>Pixel</rasttype>
      <rowcount>13225</rowcount>
      <colcount>46369</colcount>
    </rastinfo>
  </spdoinfo>
  <spref>
    <horizsys>
      <planar>
        <gridsys>
          <gridsysn>Universal Transverse Mercator</gridsysn>
          <utm>
            <utmzone>13</utmzone>
            <transmer>
              <sfctrmer>0.999600</sfctrmer>
              <longcm>-105.000000</longcm>
              <latprjo>0.000000</latprjo>
              <feast>500000.000000</feast>
              <fnorth>0.000000</fnorth>
            </transmer>
          </utm>
        </gridsys>
        <planci>
          <plance>row and column</plance>
          <coordrep>
            <absres>0.092861</absres>
            <ordres>0.092861</ordres>
          </coordrep>
          <plandu>meters</plandu>
        </planci>
      </planar>
      <geodetic>
        <horizdn>North American Datum of 1983</horizdn>
        <ellips>Geodetic Reference System 80</ellips>
        <semiaxis>6378137.000000</semiaxis>
        <denflat>298.257222</denflat>
      </geodetic>
    </horizsys>
  </spref>
  <eainfo>
    <detailed>
      <enttyp>
        <enttypl>gqmosaic.img.vat</enttypl>
        <enttypd>Table</enttypd>
        <enttypds>Earth Data Analysis Center, University of New Mexico</enttypds>
      </enttyp>
      <attr>
        <attrlabl>ObjectID</attrlabl>
        <attrdef>Internal feature number.</attrdef>
        <attrdefs>ESRI</attrdefs>
        <attrdomv>
          <udom>Sequential unique whole numbers that are automatically generated.</udom>
        </attrdomv>
      </attr>
      <attr>
        <attrlabl>Value</attrlabl>
        <attrdef>Internal feature number.</attrdef>
        <attrdefs>ESRI</attrdefs>
        <attrdomv>
          <udom>Sequential unique whole numbers that are automatically generated.</udom>
        </attrdomv>
      </attr>
      <attr>
        <attrlabl>Count</attrlabl>
        <attrdef>Number.</attrdef>
        <attrdefs>ESRI</attrdefs>
        <attrdomv>
          <udom>Numerical.</udom>
        </attrdomv>
      </attr>
    </detailed>
    <detailed>
      <enttyp>
        <enttypl>gqmosaic.img(Layer_2).vat</enttypl>
        <enttypd>Table</enttypd>
        <enttypds>Earth Data Analysis Center, University of New Mexico</enttypds>
      </enttyp>
      <attr>
        <attrlabl>ObjectID</attrlabl>
        <attrdef>Internal feature number.</attrdef>
        <attrdefs>ESRI</attrdefs>
        <attrdomv>
          <udom>Sequential unique whole numbers that are automatically generated.</udom>
        </attrdomv>
      </attr>
      <attr>
        <attrlabl>Value</attrlabl>
        <attrdef>Internal feature number.</attrdef>
        <attrdefs>ESRI</attrdefs>
        <attrdomv>
          <udom>Sequential unique whole numbers that are automatically generated.</udom>
        </attrdomv>
      </attr>
      <attr>
        <attrlabl>Count</attrlabl>
        <attrdef>Number.</attrdef>
        <attrdefs>ESRI</attrdefs>
        <attrdomv>
          <udom>Numerical.</udom>
        </attrdomv>
      </attr>
    </detailed>
    <detailed>
      <enttyp>
        <enttypl>gqmosaic.img(Layer_3).vat</enttypl>
        <enttypd>Table</enttypd>
        <enttypds>Earth Data Analysis Center, University of New Mexico</enttypds>
      </enttyp>
      <attr>
        <attrlabl>ObjectID</attrlabl>
        <attrdef>Internal feature number.</attrdef>
        <attrdefs>ESRI</attrdefs>
        <attrdomv>
          <udom>Sequential unique whole numbers that are automatically generated.</udom>
        </attrdomv>
      </attr>
      <attr>
        <attrlabl>Value</attrlabl>
        <attrdef>Internal feature number.</attrdef>
        <attrdefs>ESRI</attrdefs>
        <attrdomv>
          <udom>Sequential unique whole numbers that are automatically generated.</udom>
        </attrdomv>
      </attr>
      <attr>
        <attrlabl>Count</attrlabl>
        <attrdef>Number.</attrdef>
        <attrdefs>ESRI</attrdefs>
        <attrdomv>
          <udom>Numerical.</udom>
        </attrdomv>
      </attr>
    </detailed>
  </eainfo>
  <distinfo>
    <distrib>
      <cntinfo>
        <cntorgp>
          <cntorg>USGS/CSS/Core Science Analytics and Synthesis</cntorg>
          <cntper>USGS-NPS Vegetation Characterization Program Coordinator</cntper>
        </cntorgp>
        <cntaddr>
          <addrtype>mailing and physical address</addrtype>
          <address>Denver Federal Center, Building 810, MS 302</address>
          <city>Denver</city>
          <state>Colorado</state>
          <postal>80225</postal>
        </cntaddr>
        <cntvoice>(303) 202-4220</cntvoice>
        <cntfax>303-202-4219</cntfax>
        <cntemail>gs-b-npsveg@usgs.gov</cntemail>
      </cntinfo>
    </distrib>
    <resdesc>Downloadable Data</resdesc>
    <distliab>The U.S. Geological Survey and the National Park Service shall not be held liable for improper or incorrect use of the data described and/or contained herein.  These data and related graphics (if available) are not legal documents and are not intended to be used as such.

The information contained in these data is dynamic and may change over time.  The data are not better than the original sources from which they were derived.  It is the responsibility of the data user to use the data appropriately and consistent within the limitations of geospatial data in general and these data in particular.  Any related graphics (if available) are intended to aid the data user in acquiring relevant data; it is not approriate to use the related graphics as data.

The U.S. Geological Survey and the National Park Service gives no warranty, expressed or implied, as to the accuracy, reliability, or completeness of these data.  It is strongly recommended that these data are directly acquired from an U.S. Geological Survey and National Park Service servers and not indirectly through other sources which may have changed the data in some way.  Although these data have been processed successfully on a computer system at the U.S. Geological Survey, no warranty expressed or implied is made regarding the utility of the data on another system or for general or scientific purposes, nor shall the act of distribution constitute any such warranty. This disclaimer applies both to individual use of the data and aggregate use with other data. It is also strongly recommended that careful attention be paid to the contents of the metadata file associated with these data. Mention of trade names or commercial products in this metadata report does not constitute endorsement or recommendation for use by the U. S. Department of the Interior, U. S. Geological Survey and National Park Service.</distliab>
    <stdorder>
      <digform>
        <digtinfo>
          <formname>HTML</formname>
        </digtinfo>
        <digtopt>
          <onlinopt>
            <computer>
              <networka>
                <networkr>http://www.usgs.gov/core_science_systems/csas/vip/parks/sapu.html</networkr>
              </networka>
            </computer>
            <accinstr>Internet Access</accinstr>
          </onlinopt>
        </digtopt>
      </digform>
      <fees>None</fees>
    </stdorder>
  </distinfo>
  <metainfo>
    <metd>20101029</metd>
    <metrd>20120719</metrd>
    <metc>
      <cntinfo>
        <cntorgp>
          <cntorg>USGS/CSS/Core Science Analytics and Synthesis</cntorg>
          <cntper>USGS-NPS Vegetation Characterization Program Coordinator</cntper>
        </cntorgp>
        <cntaddr>
          <addrtype>mailing and physical address</addrtype>
          <address>Denver Federal Center, Building 810, MS 302</address>
          <city>Denver</city>
          <state>Colorado</state>
          <postal>80225</postal>
        </cntaddr>
        <cntvoice>(303) 202-4220</cntvoice>
        <cntfax>303-202-4219</cntfax>
        <cntemail>gs-b-npsveg@usgs.gov</cntemail>
      </cntinfo>
    </metc>
    <metstdn>FGDC Biological Data Profile of the Content Standard for Digital Geospatial Metadata</metstdn>
    <metstdv>FGDC-STD-001.1-1999</metstdv>
    <metextns>
      <onlink>http://www.usgs.gov/core_science_systems/csas/metadata/index.html</onlink>
    </metextns>
  </metainfo>
</metadata>
