<?xml version="1.0" encoding="UTF-8"?>
<metadata>
  <idinfo>
    <citation>
      <citeinfo>
        <origin>NatureServe</origin>
        <pubdate>20071230</pubdate>
        <title>Saugus Ironworks National Historical Site Vegetation Mapping Project - True Color Orthorectified Image</title>
        <edition>200504</edition>
        <geoform>remote-sensing image</geoform>
        <onlink>http://www1.usgs.gov/vip/sair/sairortho.zip</onlink>
        <onlink>doi:10.5066/F7H70CSJ</onlink>
      </citeinfo>
    </citation>
    <descript>
      <abstract>Orthorectified true color image of Saugus Ironworks National Historical Site. Sanborn Colorado L.L.C. of Colorado Springs, CO, flew the photography in April 2005. The scale of the photography is 1:5,000.</abstract>
      <purpose>The image was adopted for use by Saugus Ironworks NHS as a GIS component and for digital mapping.</purpose>
    </descript>
    <timeperd>
      <timeinfo>
        <sngdate>
          <caldate>200504</caldate>
        </sngdate>
      </timeinfo>
      <current>ground condition</current>
    </timeperd>
    <status>
      <progress>Complete</progress>
      <update>Unknown</update>
    </status>
    <spdom>
      <descgeog>Saugus Iron Works National Historic Site and environs (Saugus, MA 01906)</descgeog>
      <bounding>
        <westbc>-71.051468</westbc>
        <eastbc>-71.000245</eastbc>
        <northbc>42.476515</northbc>
        <southbc>42.438585</southbc>
      </bounding>
    </spdom>
    <keywords>
      <theme>
        <themekt>none</themekt>
        <themekey>Orthorectified</themekey>
        <themekey>True Color</themekey>
        <themekey>mosaic</themekey>
        <themekey>aerial photo</themekey>
        <themekey>leaf-off</themekey>
      </theme>
      <place>
        <placekt>none</placekt>
        <placekey>Massachusetts</placekey>
        <placekey>National Historical Site</placekey>
        <placekey>National Park</placekey>
        <placekey>Saugus Ironworks</placekey>
      </place>
      <temporal>
        <tempkt>none</tempkt>
        <tempkey>200504</tempkey>
        <tempkey>April</tempkey>
        <tempkey>spring</tempkey>
      </temporal>
    </keywords>
    <accconst>none</accconst>
    <useconst>none</useconst>
    <ptcontac>
      <cntinfo>
        <cntorgp>
          <cntorg>NatureServe</cntorg>
          <cntper>Lesley Sneddon</cntper>
        </cntorgp>
        <cntpos>Senior Regional Ecologist</cntpos>
        <cntaddr>
          <addrtype>mailing and physical address</addrtype>
          <address>11 Avenue de Lafaytte 5th Floor</address>
          <city>Boston</city>
          <state>MA</state>
          <postal>02111</postal>
          <country>USA</country>
        </cntaddr>
        <cntvoice>617.542.1908 x 245</cntvoice>
        <cntemail>lesley_sneddon@natureserve.org</cntemail>
        <hours>9-5</hours>
      </cntinfo>
    </ptcontac>
    <browse>
      <browsen>http://www1.usgs.gov/vip/sair/sairortho.pdf</browsen>
      <browsed>Orthophoto; low resolution for web browsing.</browsed>
      <browset>PDF</browset>
    </browse>
    <datacred>MASS GIS, Jon Hak</datacred>
    <native>Microsoft Windows XP Version 5.1 (Build 2600) Service Pack 2; ESRI ArcCatalog 9.1.0.780</native>
  </idinfo>
  <dataqual>
    <logic>Raster Data</logic>
    <complete>Saugus Ironworks NHS and surrounding area</complete>
    <posacc>
      <horizpa>
        <horizpar>Image horizontal accuracy is +/-3 meters at the 95% confidence level at the nominal scale of 1:5,000. The ground control used to support the mapping was collected by photographic identification of strategic points. The ground control coordinates were collected via GPS ground survey techniques. Aerial Triangulation was performed on softcopy workstations using Intergraph ISAT software for photo measurement and matching. The final bundle adjustment was performed using BINGO 5.2 software.MassGIS quality assurance included rigorous independent checks of the spatial accuracy using other datasets of significantly higher accuracy, and field work that included the capture of highly accurate GPS points that were compared to the same locations appearing on the deliverables. MassGIS also assessed the visual quality and appearance of the images.</horizpar>
      </horizpa>
    </posacc>
    <lineage>
      <srcinfo>
        <srccite>
          <citeinfo>
            <origin>MASS GIS-http://www.mass.gov/mgis/new-oq05delivery.htm</origin>
            <pubdate>20070223</pubdate>
            <title>2005 Ortho Imagery  "Contrast Stretched" MrSID and JPEG 2000</title>
            <geoform>remote-sensing image</geoform>
          </citeinfo>
        </srccite>
        <srcscale>5000</srcscale>
        <typesrc>true color aerial photos</typesrc>
        <srctime>
          <timeinfo>
            <sngdate>
              <caldate>200504</caldate>
            </sngdate>
          </timeinfo>
          <srccurr>ground condition</srccurr>
        </srctime>
        <srccitea>photos</srccitea>
        <srccontr>Aerial view of Saugus Ironworks NHS</srccontr>
      </srcinfo>
      <procstep>
        <procdesc>Sanborn Colorado L.L.C. of Colorado Springs, CO, performed all work for this project. The source imagery was acquired with a Vexcel Ultracam digital camera at a flying height of 5,070 meters above mean terrain and an approximate pixel resolution of 45 cm. Forward overlap was approximately 60%, except 80% in areas with tall structures (downtown Boston, Worcester, and Springfield), in order to reduce building lean, with sidelap of 33%. The entire state was covered by about 5500 image frames, captured over seven days from April 9 through April 17, 2005.The ground control used to support the mapping was collected by photographic identification of strategic points. The ground control coordinates were collected via GPS ground survey techniques. Aerial Triangulation was performed on softcopy workstations using Intergraph ISAT software for photo measurement and matching. The final bundle adjustment was performed using BINGO 5.2 software A new digital elevation model was stereo compiled for the entire State from the newly acquired 2005 imagery. The DTM includes mass points, soft breaklines and hard breaklines. The images were ortho-rectified using METRO, Sanborn's proprietary software. Bridges were modeled in 3-D using standard photogrammetric stereo-compilation techniques on softcopy workstations. Sanborn's Metro process rectifies the bridges using the 3-Dimensional model using similar methodologies for correcting the positional accuracy of other ground features. The bridges were uniquely coded and later removed from the final deliverable DTM file.

Imagery ws georeferenced to Massachusetts State Plane Mainland (Lambert Conformal Conic Projection) NAD83 coordinate system, denominated in meters and ocnverted to NAD 83 UTM Zone 19 for the orthomosaic.

Color balancing was performed using METRO_NICE software. The resulting images were mosaicked into one seamless database of imagery and extracted to match the existing MassGIS Orthophoto Index Grid tile layout (each image tile covers 4,000 x 4,000 meters on the ground.). Images were quality-controlled by Sanborn using Adobe PhotoShop software. Final deliverables included 1/2-meter pixel resolution GeoTiff images with supplementary tfw files and metadata.

MassGIS quality assurance included rigorous independent checks of the spatial accuracy using other datasets of significantly higher accuracy, and field work that included the capture of highly accurate GPS points that were compared to the same locations appearing on the deliverables. MassGIS also assessed the visual quality and appearance of the images.</procdesc>
        <procdate>200504</procdate>
        <proccont>
          <cntinfo>
            <cntorgp>
              <cntorg>Office of Geographic and Environmental Information (MassGIS)</cntorg>
            </cntorgp>
            <cntaddr>
              <addrtype>mailing and physical address</addrtype>
              <address>251 Causeway St., Suite 500</address>
              <city>Boston, MA</city>
              <state>MA</state>
              <postal>02114</postal>
            </cntaddr>
            <cntvoice>(617) 626-1238</cntvoice>
          </cntinfo>
        </proccont>
      </procstep>
    </lineage>
  </dataqual>
  <spdoinfo>
    <direct>Raster</direct>
    <rastinfo>
      <rasttype>Pixel</rasttype>
      <rowcount>8232</rowcount>
      <colcount>8232</colcount>
    </rastinfo>
  </spdoinfo>
  <spref>
    <horizsys>
      <planar>
        <gridsys>
          <gridsysn>Universal Transverse Mercator</gridsysn>
          <utm>
            <utmzone>19</utmzone>
            <transmer>
              <sfctrmer>0.999600</sfctrmer>
              <longcm>-69.000000</longcm>
              <latprjo>0.000000</latprjo>
              <feast>500000.000000</feast>
              <fnorth>0.000000</fnorth>
            </transmer>
          </utm>
        </gridsys>
        <planci>
          <plance>row and column</plance>
          <coordrep>
            <absres>0.500000</absres>
            <ordres>0.500000</ordres>
          </coordrep>
          <plandu>meters</plandu>
        </planci>
      </planar>
      <geodetic>
        <horizdn>North American Datum of 1983</horizdn>
        <ellips>Geodetic Reference System 80</ellips>
        <semiaxis>6378137.000000</semiaxis>
        <denflat>298.257222</denflat>
      </geodetic>
    </horizsys>
  </spref>
  <eainfo>
    <detailed>
      <enttyp>
        <enttypl>SAIR_TrueColor_Spring_2005.sid.vat</enttypl>
        <enttypd>Table</enttypd>
        <enttypds>NatureServe</enttypds>
      </enttyp>
      <attr>
        <attrlabl>ObjectID</attrlabl>
        <attrdef>Internal feature number.</attrdef>
        <attrdefs>ESRI</attrdefs>
        <attrdomv>
          <udom>Sequential unique whole numbers that are automatically generated.</udom>
        </attrdomv>
      </attr>
      <attr>
        <attrlabl>Value</attrlabl>
        <attrdef>Internal feature number.</attrdef>
        <attrdefs>ESRI</attrdefs>
        <attrdomv>
          <udom>Sequential unique whole numbers that are automatically generated.</udom>
        </attrdomv>
      </attr>
      <attr>
        <attrlabl>Count</attrlabl>
        <attrdef>Number.</attrdef>
        <attrdefs>ESRI</attrdefs>
        <attrdomv>
          <udom>Numerical.</udom>
        </attrdomv>
      </attr>
    </detailed>
    <detailed>
      <enttyp>
        <enttypl>SAIR_TrueColor_Spring_2005.sid(Band_2).vat</enttypl>
        <enttypd>Table</enttypd>
        <enttypds>NatureServe</enttypds>
      </enttyp>
      <attr>
        <attrlabl>ObjectID</attrlabl>
        <attrdef>Internal feature number.</attrdef>
        <attrdefs>ESRI</attrdefs>
        <attrdomv>
          <udom>Sequential unique whole numbers that are automatically generated.</udom>
        </attrdomv>
      </attr>
      <attr>
        <attrlabl>Value</attrlabl>
        <attrdef>Internal feature number.</attrdef>
        <attrdefs>ESRI</attrdefs>
        <attrdomv>
          <udom>Sequential unique whole numbers that are automatically generated.</udom>
        </attrdomv>
      </attr>
      <attr>
        <attrlabl>Count</attrlabl>
        <attrdef>Number.</attrdef>
        <attrdefs>ESRI</attrdefs>
        <attrdomv>
          <udom>Numerical.</udom>
        </attrdomv>
      </attr>
    </detailed>
    <detailed>
      <enttyp>
        <enttypl>SAIR_TrueColor_Spring_2005.sid(Band_3).vat</enttypl>
        <enttypd>Table</enttypd>
        <enttypds>NatureServe</enttypds>
      </enttyp>
      <attr>
        <attrlabl>ObjectID</attrlabl>
        <attrdef>Internal feature number.</attrdef>
        <attrdefs>ESRI</attrdefs>
        <attrdomv>
          <udom>Sequential unique whole numbers that are automatically generated.</udom>
        </attrdomv>
      </attr>
      <attr>
        <attrlabl>Value</attrlabl>
        <attrdef>Internal feature number.</attrdef>
        <attrdefs>ESRI</attrdefs>
        <attrdomv>
          <udom>Sequential unique whole numbers that are automatically generated.</udom>
        </attrdomv>
      </attr>
      <attr>
        <attrlabl>Count</attrlabl>
        <attrdef>Number.</attrdef>
        <attrdefs>ESRI</attrdefs>
        <attrdomv>
          <udom>Numerical.</udom>
        </attrdomv>
      </attr>
    </detailed>
    <overview>
      <eaover>Image type is 4-band (RGBN) natural color (Red, Green, Blue) and Near infrared in 8 bits (values ranging 0-255) per band format.</eaover>
      <eadetcit>none</eadetcit>
    </overview>
  </eainfo>
  <distinfo>
    <distrib>
      <cntinfo>
        <cntorgp>
          <cntorg>USGS/CSS/Core Science Analytics and Synthesis</cntorg>
          <cntper>USGS-NPS Vegetation Characterization Program Coordinator</cntper>
        </cntorgp>
        <cntaddr>
          <addrtype>mailing and physical address</addrtype>
          <address>Denver Federal Center, Building 810, MS 302</address>
          <city>Denver</city>
          <state>Colorado</state>
          <postal>80225</postal>
        </cntaddr>
        <cntvoice>(303) 202-4220</cntvoice>
        <cntfax>303-202-4219</cntfax>
        <cntemail>gs-b-npsveg@usgs.gov</cntemail>
      </cntinfo>
    </distrib>
    <resdesc>Downloadable Data. Orthorectified 4 band true color image of Saugus Ironworks NHS.  SAIR_TrueColor_Spring_2005.sid</resdesc>
    <distliab>The U.S. Geological Survey and the National Park Service shall not be held liable for improper or incorrect use of the data described and/or contained herein.  These data and related graphics (if available) are not legal documents and are not intended to be used as such.

The information contained in these data is dynamic and may change over time.  The data are not better than the original sources from which they were derived.  It is the responsibility of the data user to use the data appropriately and consistent within the limitations of geospatial data in general and these data in particular.  Any related graphics (if available) are intended to aid the data user in acquiring relevant data; it is not approriate to use the related graphics as data.

The U.S. Geological Survey and the National Park Service gives no warranty, expressed or implied, as to the accuracy, reliability, or completeness of these data.  It is strongly recommended that these data are directly acquired from an U.S. Geological Survey and National Park Service servers and not indirectly through other sources which may have changed the data in some way.  Although these data have been processed successfully on a computer system at the U.S. Geological Survey, no warranty expressed or implied is made regarding the utility of the data on another system or for general or scientific purposes, nor shall the act of distribution constitute any such warranty. This disclaimer applies both to individual use of the data and aggregate use with other data. It is also strongly recommended that careful attention be paid to the contents of the metadata file associated with these data. Mention of trade names or commercial products in this metadata report does not constitute endorsement or recommendation for use by the U. S. Department of the Interior, U. S. Geological Survey and National Park Service.</distliab>
    <stdorder>
      <digform>
        <digtinfo>
          <formname>HTML</formname>
        </digtinfo>
        <digtopt>
          <onlinopt>
            <computer>
              <networka>
                <networkr>http://www.usgs.gov/core_science_systems/csas/vip/parks/sair.html</networkr>
              </networka>
            </computer>
            <accinstr>Internet Access</accinstr>
          </onlinopt>
        </digtopt>
      </digform>
      <fees>None</fees>
    </stdorder>
  </distinfo>
  <metainfo>
    <metd>20080207</metd>
    <metrd>20100615</metrd>
    <metc>
      <cntinfo>
        <cntorgp>
          <cntorg>USGS/CSS/Core Science Analytics and Synthesis</cntorg>
          <cntper>USGS-NPS Vegetation Characterization Program Coordinator</cntper>
        </cntorgp>
        <cntaddr>
          <addrtype>mailing and physical address</addrtype>
          <address>Denver Federal Center, Building 810, MS 302</address>
          <city>Denver</city>
          <state>Colorado</state>
          <postal>80225</postal>
        </cntaddr>
        <cntvoice>(303) 202-4220</cntvoice>
        <cntfax>303-202-4219</cntfax>
        <cntemail>gs-b-npsveg@usgs.gov</cntemail>
      </cntinfo>
    </metc>
    <metstdn>FGDC Biological Data Profile of the Content Standard for Digital Geospatial Metadata</metstdn>
    <metstdv>FGDC-STD-001.1-1999</metstdv>
    <metextns>
      <onlink>http://www.usgs.gov/core_science_systems/csas/metadata/index.html</onlink>
    </metextns>
  </metainfo>
</metadata>
