<?xml version="1.0" encoding="UTF-8"?>
<metadata>
  <idinfo>
    <citation>
      <citeinfo>
        <origin>North Carolina State University, Center for Earth Observation</origin>
        <pubdate>20041005</pubdate>
        <title>Sagamore Hill National Historic Site Vegetation Mapping Project - Color Infrared Orthorectified Photomosaic Leaf-off</title>
        <edition>final</edition>
        <geoform>remote-sensing image</geoform>
        <onlink>http://www1.usgs.gov/vip/sahi/sahiortho.zip</onlink>
        <onlink>doi:10.5066/F71834GR</onlink>
      </citeinfo>
    </citation>
    <descript>
      <abstract>Orthorectified color infrared ERDAS IMAGINE image of Sagamore Hill National Historic Site (sahi_final.img).  Produced from 3 color infrared photos taken April 28, 2003.  Orthorectification was accomplished with IMAGINE Orthobase 8.7 software.  The overall positional accuracy for the photomosaic is 2.77 meters RMSE.</abstract>
      <purpose>The dataset was developed for use by Sagamore Hill National Historical Park as a GIS component and for digital monoplotting and mapping.</purpose>
    </descript>
    <timeperd>
      <timeinfo>
        <sngdate>
          <caldate>20030428</caldate>
        </sngdate>
      </timeinfo>
      <current>ground condition</current>
    </timeperd>
    <status>
      <progress>Complete</progress>
      <update>Unknown</update>
    </status>
    <spdom>
      <descgeog>Sagamore Hill National Historic Site and environs</descgeog>
      <bounding>
        <westbc>-73.510770</westbc>
        <eastbc>-73.487701</eastbc>
        <northbc>40.894995</northbc>
        <southbc>40.878130</southbc>
      </bounding>
    </spdom>
    <keywords>
      <theme>
        <themekt>none</themekt>
        <themekey>Orthorectification</themekey>
        <themekey>Color Infrared</themekey>
        <themekey>mosaic</themekey>
        <themekey>aerial photo</themekey>
        <themekey>CIR</themekey>
        <themekey>IMAGINE</themekey>
        <themekey>leaf-off</themekey>
      </theme>
      <place>
        <placekt>none</placekt>
        <placekey>New York</placekey>
        <placekey>National Historical Park</placekey>
        <placekey>National Park</placekey>
        <placekey>Sagamore Hill</placekey>
      </place>
      <temporal>
        <tempkt>none</tempkt>
        <tempkey>April</tempkey>
        <tempkey>spring</tempkey>
        <tempkey>2003</tempkey>
      </temporal>
    </keywords>
    <accconst>none</accconst>
    <useconst>none</useconst>
    <ptcontac>
      <cntinfo>
        <cntperp>
          <cntper>Sara Stevens</cntper>
        </cntperp>
        <cntpos>Data Manager, Northeast Coastal and Barrier Network</cntpos>
        <cntaddr>
          <addrtype>mailing and physical address</addrtype>
          <address>University of Rhode Island
105 Coastal Institute in Kingston</address>
          <city>Kingston</city>
          <state>Rhode Island</state>
          <postal>02881</postal>
          <country>USA</country>
        </cntaddr>
        <cntvoice>(401) 874-4548</cntvoice>
        <cntemail>sara_stevens@nps.gov</cntemail>
      </cntinfo>
    </ptcontac>
    <browse>
      <browsen>http://www1.usgs.gov/vip/sahi/sahiortho.pdf</browsen>
      <browsed>Orthophoto; low resolution for web browsing.</browsed>
      <browset>PDF</browset>
    </browse>
    <datacred>Bill Millinor, Angela Hubbs</datacred>
    <native>ERDAS IMAGINE .img File and MrSID Compressed File</native>
  </idinfo>
  <dataqual>
    <logic>none</logic>
    <complete>Sagamore Hill National Historic Site</complete>
    <posacc>
      <horizpa>
        <horizpar>Overall positional accuracy of 2.77 meters RMSE.
Horizontal accuracy was assessed on the basis of 25 field survey points distributed throughout the image.  The actual field coordinates for these points were recorded with a Trimble ProXRS GPS unit with real-time differential correction with a minimum of 120 (180 unless field conditions were poor) fixes per point.  The field coordinates were then compared to the image mosaic coordinates for these points, determined in ESRI ArcMap 9.0.</horizpar>
      </horizpa>
    </posacc>
    <lineage>
      <srcinfo>
        <srccite>
          <citeinfo>
            <origin>William Frament</origin>
            <pubdate>Unpublished Material</pubdate>
            <title>Aerial photographs of Sagamore Hill National Historic Site</title>
            <geoform>remote-sensing image</geoform>
          </citeinfo>
        </srccite>
        <srcscale>8000</srcscale>
        <typesrc>color IR aerial transparencies</typesrc>
        <srctime>
          <timeinfo>
            <sngdate>
              <caldate>20030428</caldate>
            </sngdate>
          </timeinfo>
          <srccurr>ground condition</srccurr>
        </srctime>
        <srccitea>photos</srccitea>
        <srccontr>Aerial view of Sagamore Hill National Historic Site</srccontr>
      </srcinfo>
      <srcinfo>
        <srccite>
          <citeinfo>
            <origin>USGS</origin>
            <pubdate>unknown</pubdate>
            <title>USGS National Digital Orthophotography Program</title>
            <geoform>remote-sensing image</geoform>
          </citeinfo>
        </srccite>
        <srcscale>40000</srcscale>
        <typesrc>cd-rom</typesrc>
        <srctime>
          <timeinfo>
            <sngdate>
              <caldate>unknown</caldate>
            </sngdate>
          </timeinfo>
          <srccurr>ground condition</srccurr>
        </srctime>
        <srccitea>photos</srccitea>
        <srccontr>ground control (x and y) for creation of orthophoto mosaic of Sagamore Hill National Historic Site</srccontr>
      </srcinfo>
      <srcinfo>
        <srccite>
          <citeinfo>
            <origin>USGS (http://ned.usgs.gov/)</origin>
            <pubdate>unknown</pubdate>
            <title>30 Meter Digital Elevation Model- USGS National Elevation Dataset (NED)</title>
            <geoform>model</geoform>
          </citeinfo>
        </srccite>
        <srcscale>30 meter</srcscale>
        <typesrc>online</typesrc>
        <srctime>
          <timeinfo>
            <sngdate>
              <caldate>200409</caldate>
            </sngdate>
          </timeinfo>
          <srccurr>200409</srccurr>
        </srctime>
        <srccitea>dem</srccitea>
        <srccontr>elevation (z values)</srccontr>
      </srcinfo>
      <procstep>
        <procdesc>The photos (3 total) were used to create an orthorectified mosaic using ER Mapper 6.4 and ERDAS IMAGINE 8.7. The photos were scanned at 600 dpi and imported into IMAGINE.  The DEM was resampled from 30 meters to 10 meters. The individual DOQQs were mosaicked to create a single file for use as ground control. The images were orthorectified in ERDAS IMAGINE Orthobase software using the DOQQs and the DEM as ground control. Aerial triangulation produced a single RMSE of less than 1 meter for the entire block of photos.  The orthorectified images were then mosaicked within ER Mapper to form one seamless basemap image for Sagamore Hill National Historic Site.  The mosaic was compressed using MrSID software at a 20:1 target compression ratio.</procdesc>
        <procdate>200409</procdate>
        <proccont>
          <cntinfo>
            <cntorgp>
              <cntorg>North Carolina State University, Center for Earth Observation</cntorg>
            </cntorgp>
            <cntaddr>
              <addrtype>mailing address</addrtype>
              <address>NCSU Campus Box 7106</address>
              <city>Raleigh</city>
              <state>NC</state>
              <postal>27695-7106</postal>
              <country>USA</country>
            </cntaddr>
            <cntvoice>919-515-3430</cntvoice>
            <cntfax>919-515-3439</cntfax>
          </cntinfo>
        </proccont>
      </procstep>
    </lineage>
  </dataqual>
  <spdoinfo>
    <direct>Raster</direct>
    <rastinfo>
      <rasttype>Pixel</rasttype>
      <rowcount>5246</rowcount>
      <colcount>5453</colcount>
    </rastinfo>
  </spdoinfo>
  <spref>
    <horizsys>
      <planar>
        <gridsys>
          <gridsysn>Universal Transverse Mercator</gridsysn>
          <utm>
            <utmzone>18</utmzone>
            <transmer>
              <sfctrmer>0.999600</sfctrmer>
              <longcm>-75.000000</longcm>
              <latprjo>0.000000</latprjo>
              <feast>500000.000000</feast>
              <fnorth>0.000000</fnorth>
            </transmer>
          </utm>
        </gridsys>
        <planci>
          <plance>row and column</plance>
          <coordrep>
            <absres>0.35073317</absres>
            <ordres>0.35073317</ordres>
          </coordrep>
          <plandu>meters</plandu>
        </planci>
      </planar>
      <geodetic>
        <horizdn>North American Datum of 1983</horizdn>
        <ellips>Geodetic Reference System 80</ellips>
        <semiaxis>6378137.000000</semiaxis>
        <denflat>298.257222</denflat>
      </geodetic>
    </horizsys>
  </spref>
  <eainfo>
    <overview>
      <eaover>Dataset consists of a raster 3 band color image.  The bands are blue, green and near infrared.  Each pixel contains a value between 0 - 255.</eaover>
      <eadetcit>none</eadetcit>
    </overview>
  </eainfo>
  <distinfo>
    <distrib>
      <cntinfo>
        <cntorgp>
          <cntorg>USGS/CSS/Core Science Analytics and Synthesis</cntorg>
          <cntper>USGS-NPS Vegetation Characterization Program Coordinator</cntper>
        </cntorgp>
        <cntaddr>
          <addrtype>mailing and physical address</addrtype>
          <address>Denver Federal Center, Building 810, MS 302</address>
          <city>Denver</city>
          <state>Colorado</state>
          <postal>80225</postal>
        </cntaddr>
        <cntvoice>(303) 202-4220</cntvoice>
        <cntfax>303-202-4219</cntfax>
        <cntemail>gs-b-npsveg@usgs.gov</cntemail>
      </cntinfo>
    </distrib>
    <resdesc>Downloadable data: orthorectified 3 band color infrared image of Sagamore Hill National Historic Site.</resdesc>
    <distliab>The U.S. Geological Survey and the National Park Service shall not be held liable for improper or incorrect use of the data described and/or contained herein.  These data and related graphics (if available) are not legal documents and are not intended to be used as such.

The information contained in these data is dynamic and may change over time.  The data are not better than the original sources from which they were derived.  It is the responsibility of the data user to use the data appropriately and consistent within the limitations of geospatial data in general and these data in particular.  Any related graphics (if available) are intended to aid the data user in acquiring relevant data; it is not approriate to use the related graphics as data.

The U.S. Geological Survey and the National Park Service gives no warranty, expressed or implied, as to the accuracy, reliability, or completeness of these data.  It is strongly recommended that these data are directly acquired from an U.S. Geological Survey and National Park Service servers and not indirectly through other sources which may have changed the data in some way.  Although these data have been processed successfully on a computer system at the U.S. Geological Survey, no warranty expressed or implied is made regarding the utility of the data on another system or for general or scientific purposes, nor shall the act of distribution constitute any such warranty. This disclaimer applies both to individual use of the data and aggregate use with other data. It is also strongly recommended that careful attention be paid to the contents of the metadata file associated with these data. Mention of trade names or commercial products in this metadata report does not constitute endorsement or recommendation for use by the U. S. Department of the Interior, U. S. Geological Survey and National Park Service.</distliab>
    <stdorder>
      <digform>
        <digtinfo>
          <formname>HTML</formname>
        </digtinfo>
        <digtopt>
          <onlinopt>
            <computer>
              <networka>
                <networkr>http://www.usgs.gov/core_science_systems/csas/vip/parks/sahi.html</networkr>
              </networka>
            </computer>
            <accinstr>Internet Access</accinstr>
          </onlinopt>
        </digtopt>
      </digform>
      <fees>None</fees>
    </stdorder>
  </distinfo>
  <metainfo>
    <metd>20041005</metd>
    <metrd>20100615</metrd>
    <metc>
      <cntinfo>
        <cntorgp>
          <cntorg>USGS/CSS/Core Science Analytics and Synthesis</cntorg>
          <cntper>USGS-NPS Vegetation Characterization Program Coordinator</cntper>
        </cntorgp>
        <cntaddr>
          <addrtype>mailing and physical address</addrtype>
          <address>Denver Federal Center, Building 810, MS 302</address>
          <city>Denver</city>
          <state>Colorado</state>
          <postal>80225</postal>
        </cntaddr>
        <cntvoice>(303) 202-4220</cntvoice>
        <cntfax>303-202-4219</cntfax>
        <cntemail>gs-b-npsveg@usgs.gov</cntemail>
      </cntinfo>
    </metc>
    <metstdn>FGDC Biological Data Profile of the Content Standard for Digital Geospatial Metadata</metstdn>
    <metstdv>FGDC-STD-001.1-1999</metstdv>
    <metextns>
      <onlink>http://www.usgs.gov/core_science_systems/csas/metadata/index.html</onlink>
    </metextns>
  </metainfo>
</metadata>
