<?xml version="1.0" encoding="UTF-8"?>
<metadata>
  <idinfo>
    <citation>
      <citeinfo>
        <origin>Center for Remote Sensing and Mapping Science - University of Georgia</origin>
        <pubdate>Metadata created 11-07-07; data released 2007</pubdate>
        <title>Russell Cave National Monument Vegetation Mapping Project - Orthorectified Aerial Photograph</title>
        <geoform>remote-sensing image</geoform>
        <onlink>http://www1.usgs.gov/vip/ruca/rucaortho.zip</onlink>
        <onlink>doi:10.5066/F7FF3QBF</onlink>
      </citeinfo>
    </citation>
    <descript>
      <abstract>Color infrared orthophoto</abstract>
      <purpose>To provide a geometrically correct record of the state of the vegetgation at the time the mapping was performed. This is the source photo of the vegetation map.</purpose>
    </descript>
    <timeperd>
      <timeinfo>
        <sngdate>
          <caldate>20011025</caldate>
        </sngdate>
      </timeinfo>
      <current>ground condition</current>
    </timeperd>
    <status>
      <progress>Complete</progress>
      <update>None planned</update>
    </status>
    <spdom>
      <descgeog>Russell Cave National Monument and environs</descgeog>
      <bounding>
        <westbc>-85.825937</westbc>
        <eastbc>-85.795289</eastbc>
        <northbc>34.989641</northbc>
        <southbc>34.958641</southbc>
      </bounding>
    </spdom>
    <keywords>
      <theme>
        <themekt>None</themekt>
        <themekey>Orthophoto</themekey>
      </theme>
      <theme>
        <themekt>National Park Service Theme Category Thesaurus</themekt>
        <themekey>Vegetation</themekey>
      </theme>
      <theme>
        <themekt>ISO 19115 Topic Category</themekt>
        <themekey>biota</themekey>
      </theme>
      <place>
        <placekt>None</placekt>
        <placekey>Russell Cave NM</placekey>
      </place>
    </keywords>
    <accconst>None</accconst>
    <useconst>None</useconst>
    <ptcontac>
      <cntinfo>
        <cntperp>
          <cntper>Tommy Jordan / Marguerite Madden</cntper>
          <cntorg>Center for Remote Sensing and Mapping Science, University of Georgia</cntorg>
        </cntperp>
        <cntpos>Assoc Director / Director</cntpos>
        <cntaddr>
          <addrtype>mailing address</addrtype>
          <address>Dept of Geography/University of Georgia</address>
          <city>Athens</city>
          <state>GA</state>
          <postal>30602</postal>
          <country>USA</country>
        </cntaddr>
        <cntvoice>706-542-2372</cntvoice>
        <cntvoice>706-542-2379</cntvoice>
        <cntfax>706-542-2388</cntfax>
        <cntemail>tombob@uga.edu</cntemail>
        <cntemail>mmadden@uga.edu</cntemail>
        <hours>0900 - 1700 M-F</hours>
      </cntinfo>
    </ptcontac>
    <native>Microsoft Windows XP Version 5.1 (Build 2600) Service Pack 3; ESRI ArcCatalog 9.3.1.3000</native>
  </idinfo>
  <dataqual>
    <logic>None</logic>
    <complete>None</complete>
    <posacc>
      <horizpa>
        <horizpar>Horizontal accuracy is designed to meet NMAS for the published map scale (1:12,000) - horizontal accuracy of well-defined points is approximately 4-5 meters.  It should be noted that many of the polygon edge represent fuzzy boundaries or ecotones and, while interpreted as accurately as possible, these boundaries do not correspond to the same accuracy standards as the well-defined points described in the National Map Accuracy Standards.</horizpar>
      </horizpa>
      <vertacc>
        <vertaccr>N/A</vertaccr>
      </vertacc>
    </posacc>
    <lineage>
      <srcinfo>
        <srccite>
          <citeinfo>
            <origin>Center for Remote Sensing and Mapping Science - University of Georgia</origin>
            <pubdate>Unknown</pubdate>
            <title>Russell Cave National Monument - ruca_ortho_mosiac.img</title>
            <geoform>remote-sensing image</geoform>
          </citeinfo>
        </srccite>
        <srcscale>12,000</srcscale>
        <typesrc>Color-infrared aerial photographs</typesrc>
        <srctime>
          <timeinfo>
            <sngdate>
              <caldate>20011025</caldate>
            </sngdate>
          </timeinfo>
          <srccurr>ground condition</srccurr>
        </srctime>
        <srccitea>aerial photograph</srccitea>
        <srccontr>Unknown</srccontr>
      </srcinfo>
      <procstep>
        <procdesc>Vegetation polygons were delineated from color aerial photographs.  The overlays were orthorectified to photogrammetric control and then converted to vector GIS Layers.  After editing, the individual photo coverages were edgematched and attributed to create the final GIS vegetation layer.</procdesc>
        <srcused>\\MARYVILLE1\tj_laptop_c\CUGA\Geodatabase\Cumberland_Gap_Final.mdb</srcused>
        <procdate>Unknown</procdate>
      </procstep>
      <procstep>
        <procdesc>Metadata imported.</procdesc>
        <srcused>C:\DOCUME~1\tombob\LOCALS~1\Temp\xml37A.tmp</srcused>
        <procdate>Unknown</procdate>
      </procstep>
      <procstep>
        <procdesc>Metadata imported.</procdesc>
        <srcused>C:\DOCUME~1\tombob\LOCALS~1\Temp\xml380.tmp</srcused>
        <procdate>Unknown</procdate>
      </procstep>
      <procstep>
        <procdesc>Dataset copied.</procdesc>
        <srcused>P:\NPS\ruca\Photos\ruca_ortho_mosaic.img</srcused>
        <procdate>Unknown</procdate>
      </procstep>
      <procstep>
        <procdesc>Metadata imported.</procdesc>
        <procdate>201103</procdate>
      </procstep>
    </lineage>
  </dataqual>
  <spdoinfo>
    <direct>Raster</direct>
    <rastinfo>
      <rasttype>Pixel</rasttype>
      <rowcount>5676</rowcount>
      <colcount>4596</colcount>
    </rastinfo>
  </spdoinfo>
  <spref>
    <horizsys>
      <planar>
        <gridsys>
          <gridsysn>Universal Transverse Mercator</gridsysn>
          <utm>
            <utmzone>16</utmzone>
            <transmer>
              <sfctrmer>0.999600</sfctrmer>
              <longcm>-87.000000</longcm>
              <latprjo>0.000000</latprjo>
              <feast>500000.000000</feast>
              <fnorth>0.000000</fnorth>
            </transmer>
          </utm>
        </gridsys>
        <planci>
          <plance>row and column</plance>
          <coordrep>
            <absres>0.600000</absres>
            <ordres>0.600000</ordres>
          </coordrep>
          <plandu>meters</plandu>
        </planci>
      </planar>
      <geodetic>
        <horizdn>North American Datum of 1983</horizdn>
        <ellips>Geodetic Reference System 80</ellips>
        <semiaxis>6378137.000000</semiaxis>
        <denflat>298.257222</denflat>
      </geodetic>
    </horizsys>
  </spref>
  <eainfo>
    <detailed>
      <enttyp>
        <enttypl>ruca_ortho_mosaic.img.vat</enttypl>
        <enttypd>Table</enttypd>
        <enttypds>Earth Data Analysis Center, University of New Mexico</enttypds>
      </enttyp>
      <attr>
        <attrlabl>ObjectID</attrlabl>
        <attrdef>Internal feature number.</attrdef>
        <attrdefs>ESRI</attrdefs>
        <attrdomv>
          <udom>Sequential unique whole numbers that are automatically generated.</udom>
        </attrdomv>
      </attr>
      <attr>
        <attrlabl>Value</attrlabl>
        <attrdef>Internal feature number.</attrdef>
        <attrdefs>ESRI</attrdefs>
        <attrdomv>
          <udom>Sequential unique whole numbers that are automatically generated.</udom>
        </attrdomv>
      </attr>
      <attr>
        <attrlabl>Count</attrlabl>
        <attrdef>Number.</attrdef>
        <attrdefs>ESRI</attrdefs>
        <attrdomv>
          <udom>Numerical.</udom>
        </attrdomv>
      </attr>
    </detailed>
    <detailed>
      <enttyp>
        <enttypl>ruca_ortho_mosaic.img(Layer_2).vat</enttypl>
        <enttypd>Table</enttypd>
        <enttypds>Earth Data Analysis Center, University of New Mexico</enttypds>
      </enttyp>
      <attr>
        <attrlabl>ObjectID</attrlabl>
        <attrdef>Internal feature number.</attrdef>
        <attrdefs>ESRI</attrdefs>
        <attrdomv>
          <udom>Sequential unique whole numbers that are automatically generated.</udom>
        </attrdomv>
      </attr>
      <attr>
        <attrlabl>Value</attrlabl>
        <attrdef>Internal feature number.</attrdef>
        <attrdefs>ESRI</attrdefs>
        <attrdomv>
          <udom>Sequential unique whole numbers that are automatically generated.</udom>
        </attrdomv>
      </attr>
      <attr>
        <attrlabl>Count</attrlabl>
        <attrdef>Number.</attrdef>
        <attrdefs>ESRI</attrdefs>
        <attrdomv>
          <udom>Numerical.</udom>
        </attrdomv>
      </attr>
    </detailed>
    <detailed>
      <enttyp>
        <enttypl>ruca_ortho_mosaic.img(Layer_3).vat</enttypl>
        <enttypd>Table</enttypd>
        <enttypds>Earth Data Analysis Center, University of New Mexico</enttypds>
      </enttyp>
      <attr>
        <attrlabl>ObjectID</attrlabl>
        <attrdef>Internal feature number.</attrdef>
        <attrdefs>ESRI</attrdefs>
        <attrdomv>
          <udom>Sequential unique whole numbers that are automatically generated.</udom>
        </attrdomv>
      </attr>
      <attr>
        <attrlabl>Value</attrlabl>
        <attrdef>Internal feature number.</attrdef>
        <attrdefs>ESRI</attrdefs>
        <attrdomv>
          <udom>Sequential unique whole numbers that are automatically generated.</udom>
        </attrdomv>
      </attr>
      <attr>
        <attrlabl>Count</attrlabl>
        <attrdef>Number.</attrdef>
        <attrdefs>ESRI</attrdefs>
        <attrdomv>
          <udom>Numerical.</udom>
        </attrdomv>
      </attr>
    </detailed>
  </eainfo>
  <distinfo>
    <distrib>
      <cntinfo>
        <cntorgp>
          <cntorg>USGS/CSS/Core Science Analytics and Synthesis</cntorg>
          <cntper>USGS-NPS Vegetation Characterization Program Coordinator</cntper>
        </cntorgp>
        <cntaddr>
          <addrtype>mailing and physical address</addrtype>
          <address>Denver Federal Center, Building 810, MS 302</address>
          <city>Denver</city>
          <state>Colorado</state>
          <postal>80225</postal>
        </cntaddr>
        <cntvoice>(303) 202-4220</cntvoice>
        <cntfax>303-202-4219</cntfax>
        <cntemail>gs-b-npsveg@usgs.gov</cntemail>
      </cntinfo>
    </distrib>
    <resdesc>Downloadable Data</resdesc>
    <distliab>The U.S. Geological Survey and the National Park Service shall not be held liable for improper or incorrect use of the data described and/or contained herein.  These data and related graphics (if available) are not legal documents and are not intended to be used as such.

The information contained in these data is dynamic and may change over time.  The data are not better than the original sources from which they were derived.  It is the responsibility of the data user to use the data appropriately and consistent within the limitations of geospatial data in general and these data in particular.  Any related graphics (if available) are intended to aid the data user in acquiring relevant data; it is not approriate to use the related graphics as data.

The U.S. Geological Survey and the National Park Service gives no warranty, expressed or implied, as to the accuracy, reliability, or completeness of these data.  It is strongly recommended that these data are directly acquired from an U.S. Geological Survey and National Park Service servers and not indirectly through other sources which may have changed the data in some way.  Although these data have been processed successfully on a computer system at the U.S. Geological Survey, no warranty expressed or implied is made regarding the utility of the data on another system or for general or scientific purposes, nor shall the act of distribution constitute any such warranty. This disclaimer applies both to individual use of the data and aggregate use with other data. It is also strongly recommended that careful attention be paid to the contents of the metadata file associated with these data. Mention of trade names or commercial products in this metadata report does not constitute endorsement or recommendation for use by the U. S. Department of the Interior, U. S. Geological Survey and National Park Service.</distliab>
    <stdorder>
      <digform>
        <digtinfo>
          <formname>HTML</formname>
        </digtinfo>
        <digtopt>
          <onlinopt>
            <computer>
              <networka>
                <networkr>http://www.usgs.gov/core_science_systems/csas/vip/parks/ruca.html</networkr>
              </networka>
            </computer>
            <accinstr>Internet Access</accinstr>
          </onlinopt>
        </digtopt>
      </digform>
      <fees>None</fees>
    </stdorder>
  </distinfo>
  <metainfo>
    <metd>20110225</metd>
    <metrd>20110301</metrd>
    <metc>
      <cntinfo>
        <cntorgp>
          <cntorg>USGS/CSS/Core Science Analytics and Synthesis</cntorg>
          <cntper>USGS-NPS Vegetation Characterization Program Coordinator</cntper>
        </cntorgp>
        <cntaddr>
          <addrtype>mailing and physical address</addrtype>
          <address>Denver Federal Center, Building 810, MS 302</address>
          <city>Denver</city>
          <state>Colorado</state>
          <postal>80225</postal>
        </cntaddr>
        <cntvoice>(303) 202-4220</cntvoice>
        <cntfax>303-202-4219</cntfax>
        <cntemail>gs-b-npsveg@usgs.gov</cntemail>
      </cntinfo>
    </metc>
    <metstdn>FGDC Biological Data Profile of the Content Standard for Digital Geospatial Metadata</metstdn>
    <metstdv>FGDC-STD-001.1-1999</metstdv>
    <metextns>
      <onlink>http://www.usgs.gov/core_science_systems/csas/metadata/index.html</onlink>
    </metextns>
  </metainfo>
</metadata>
