<?xml version="1.0" encoding="UTF-8"?>
<metadata>
  <idinfo>
    <citation>
      <citeinfo>
        <origin>Unknown</origin>
        <pubdate>Unknown</pubdate>
        <title>Pipe Spring National Monument Vegetation Mapping Project - Color Imagery Orthophotos</title>
        <geoform>remote-sensing image</geoform>
        <onlink>http://www1.usgs.gov/vip/pisp/pisportho.zip</onlink>
        <onlink>doi:10.5066/F72B8W0G</onlink>
      </citeinfo>
    </citation>
    <descript>
      <abstract>This imagery was obtained from the Arizona State Land Department (www.land.state.az.us).  The NCPN obtained both the uncompressed as well as compressed versions of the imagery.  A index file was sent with the data, the following blurb is an excerpt from its' metadata file because if does indicate, remotely, the origins of the imagery data:
"This data set is an ESRI shapefile representing the index for the data set entitled "AZ 1-meter Digital Orthophotos" flown between June 2005 and March 2006 by the MDA Corporation on behalf of the USGS. Not all counties were flown - neither Cochise county and Maricopa county are part of this data set. This file, when used in conjunction with the images, allows the user to determine the photo date (thus ground date) of the particular area that is being viewed. The user is cautioned that some areas of the state were flown more than once and therefore, in some instances, the exact photo date is uncertain. A varying amount of overedge (between 50 and 330 meters) also exists between photos, thus dates along photos that share a common edge may also be uncertain. Also, while most of the orthophotos were created from a single source image for each DOQQ, some were produced from multiple images in order to minimize perspective related image smearing problems. For users needing to know the exact date of a particular orthophoto it is suggested that they contact the original source of the orthophotos."</abstract>
      <purpose>none</purpose>
    </descript>
    <timeperd>
      <timeinfo>
        <sngdate>
          <caldate>Unknown</caldate>
        </sngdate>
      </timeinfo>
      <current>Unknown</current>
    </timeperd>
    <status>
      <progress>Complete</progress>
      <update>Irregular</update>
    </status>
    <spdom>
      <descgeog>Pipe Spring National Monument and environs</descgeog>
      <bounding>
        <westbc>-112.755608</westbc>
        <eastbc>-112.682710</eastbc>
        <northbc>36.878651</northbc>
        <southbc>36.808832</southbc>
      </bounding>
    </spdom>
    <keywords>
      <theme>
        <themekt>none</themekt>
        <themekey>DOQ</themekey>
      </theme>
    </keywords>
    <accconst>none</accconst>
    <useconst>none</useconst>
    <native>Microsoft Windows XP Version 5.1 (Build 2600) Service Pack 2; ESRI ArcCatalog 9.2.2.1350</native>
  </idinfo>
  <spdoinfo>
    <direct>Raster</direct>
    <rastinfo>
      <rasttype>Pixel</rasttype>
      <rowcount>7634</rowcount>
      <colcount>6365</colcount>
    </rastinfo>
  </spdoinfo>
  <spref>
    <horizsys>
      <planar>
        <gridsys>
          <gridsysn>Universal Transverse Mercator</gridsysn>
          <utm>
            <utmzone>12</utmzone>
            <transmer>
              <sfctrmer>0.999600</sfctrmer>
              <longcm>-111.000000</longcm>
              <latprjo>0.000000</latprjo>
              <feast>500000.000000</feast>
              <fnorth>0.000000</fnorth>
            </transmer>
          </utm>
        </gridsys>
        <planci>
          <plance>row and column</plance>
          <coordrep>
            <absres>1.000000</absres>
            <ordres>1.000000</ordres>
          </coordrep>
          <plandu>meters</plandu>
        </planci>
      </planar>
      <geodetic>
        <horizdn>North American Datum of 1983</horizdn>
        <ellips>Geodetic Reference System 80</ellips>
        <semiaxis>6378137.000000</semiaxis>
        <denflat>298.257222</denflat>
      </geodetic>
    </horizsys>
  </spref>
  <eainfo>
    <overview>
      <eaover>24-bit pixels, 3 band color (RGB) represent brightness values 0 - 255</eaover>
      <eadetcit>None</eadetcit>
    </overview>
  </eainfo>
  <distinfo>
    <distrib>
      <cntinfo>
        <cntorgp>
          <cntorg>USGS/CSS/Core Science Analytics and Synthesis</cntorg>
          <cntper>USGS-NPS Vegetation Characterization Program Coordinator</cntper>
        </cntorgp>
        <cntaddr>
          <addrtype>mailing and physical address</addrtype>
          <address>Denver Federal Center, Building 810, MS 302</address>
          <city>Denver</city>
          <state>Colorado</state>
          <postal>80225</postal>
        </cntaddr>
        <cntvoice>(303) 202-4220</cntvoice>
        <cntfax>303-202-4219</cntfax>
        <cntemail>gs-b-npsveg@usgs.gov</cntemail>
      </cntinfo>
    </distrib>
    <resdesc>Downloadable Data</resdesc>
    <distliab>The U.S. Geological Survey and the National Park Service shall not be held liable for improper or incorrect use of the data described and/or contained herein.  These data and related graphics (if available) are not legal documents and are not intended to be used as such.

The information contained in these data is dynamic and may change over time.  The data are not better than the original sources from which they were derived.  It is the responsibility of the data user to use the data appropriately and consistent within the limitations of geospatial data in general and these data in particular.  Any related graphics (if available) are intended to aid the data user in acquiring relevant data; it is not approriate to use the related graphics as data.

The U.S. Geological Survey and the National Park Service gives no warranty, expressed or implied, as to the accuracy, reliability, or completeness of these data.  It is strongly recommended that these data are directly acquired from an U.S. Geological Survey and National Park Service servers and not indirectly through other sources which may have changed the data in some way.  Although these data have been processed successfully on a computer system at the U.S. Geological Survey, no warranty expressed or implied is made regarding the utility of the data on another system or for general or scientific purposes, nor shall the act of distribution constitute any such warranty. This disclaimer applies both to individual use of the data and aggregate use with other data. It is also strongly recommended that careful attention be paid to the contents of the metadata file associated with these data. Mention of trade names or commercial products in this metadata report does not constitute endorsement or recommendation for use by the U. S. Department of the Interior, U. S. Geological Survey and National Park Service.</distliab>
    <stdorder>
      <digform>
        <digtinfo>
          <formname>HTML</formname>
        </digtinfo>
        <digtopt>
          <onlinopt>
            <computer>
              <networka>
                <networkr>http://www.usgs.gov/core_science_systems/csas/vip/parks/pisp.html</networkr>
              </networka>
            </computer>
            <accinstr>Internet Access</accinstr>
          </onlinopt>
        </digtopt>
      </digform>
      <fees>None</fees>
    </stdorder>
  </distinfo>
  <metainfo>
    <metd>20080819</metd>
    <metrd>20100604</metrd>
    <metc>
      <cntinfo>
        <cntorgp>
          <cntorg>USGS/CSS/Core Science Analytics and Synthesis</cntorg>
          <cntper>USGS-NPS Vegetation Characterization Program Coordinator</cntper>
        </cntorgp>
        <cntaddr>
          <addrtype>mailing and physical address</addrtype>
          <address>Denver Federal Center, Building 810, MS 302</address>
          <city>Denver</city>
          <state>Colorado</state>
          <postal>80225</postal>
        </cntaddr>
        <cntvoice>(303) 202-4220</cntvoice>
        <cntfax>303-202-4219</cntfax>
        <cntemail>gs-b-npsveg@usgs.gov</cntemail>
      </cntinfo>
    </metc>
    <metstdn>FGDC Biological Data Profile of the Content Standard for Digital Geospatial Metadata</metstdn>
    <metstdv>FGDC-STD-001.1-1999</metstdv>
    <metextns>
      <onlink>http://www.usgs.gov/core_science_systems/csas/metadata/index.html</onlink>
    </metextns>
  </metainfo>
</metadata>
