<?xml version="1.0" encoding="UTF-8"?>
<metadata>
  <idinfo>
    <citation>
      <citeinfo>
        <origin>USDA-FSA-APFO Aerial Photography Field Office</origin>
        <pubdate>20050119</pubdate>
        <title>Minidoka National Historic Site Vegetation Mapping Project - 2004 Orthorectified Photomosaic</title>
        <geoform>remote-sensing image</geoform>
        <pubinfo>
          <pubplace>Salt Lake City, Utah</pubplace>
          <publish>USDA_FSA_APFO Aerial Photography Field Office</publish>
        </pubinfo>
        <onlink>http://www1.usgs.gov/vip/miin/miinortho.zip</onlink>
        <onlink>doi:10.5066/F7DZ069H</onlink>
      </citeinfo>
    </citation>
    <descript>
      <abstract>This data set contains imagery from the National Agricultural Imagery Program (NAIP). NAIP acquires digital ortho imagery during the agricultural growing seasons in the continental U.S.. A primary goal of the NAIP program is to enable availabilty of ortho imagery within a year of acquisition. NAIP provides two main products: 1 meter ground sample distance (GSD) ortho imagery rectified to a horizontal accuracy of within +/- 3 meters of reference digital ortho quarter quads (DOQQS) from the National Digital Ortho Program (NDOP); and, 2 meter GSD ortho imagery rectified to within +/- 20 meters of reference DOQQs. The tiling format of NAIP imagery is based on a 3.75' x 3.75' quarter quadrangle with a 360 meter buffer on all four sides. NAIP quarter quads are rectified to the UTM coordinate system NAD83. NAIP imagery can obtain as much as 10% cloud cover per tile.</abstract>
      <purpose>The 1 meter GSD NAIP is intended as a source for current digital ortho imagery in USDA Field Service Center GIS and for other uses that require ortho imagery acquired during the agricultural growing season.</purpose>
    </descript>
    <timeperd>
      <timeinfo>
        <sngdate>
          <caldate>20040706</caldate>
        </sngdate>
      </timeinfo>
      <current>ground condition</current>
    </timeperd>
    <status>
      <progress>Complete</progress>
      <update>Irregular</update>
    </status>
    <spdom>
      <descgeog>Minidoka National Historic Site and environs</descgeog>
      <bounding>
        <westbc>-114.287023</westbc>
        <eastbc>-114.203416</eastbc>
        <northbc>42.700847</northbc>
        <southbc>42.655071</southbc>
      </bounding>
    </spdom>
    <keywords>
      <theme>
        <themekt>ISO 19115 Topic Category</themekt>
        <themekey>imageryBaseMapsEarthCover</themekey>
      </theme>
      <theme>
        <themekt>None</themekt>
        <themekey>Farming</themekey>
        <themekey>Digital Georectified Image</themekey>
        <themekey>Georectified Image</themekey>
        <themekey>Georectified</themekey>
        <themekey>Georectification</themekey>
        <themekey>Georeferenced Image</themekey>
        <themekey>Georeferenced</themekey>
        <themekey>Quarter Quadrangle Centered</themekey>
        <themekey>NAIP</themekey>
        <themekey>Aerial Compliance</themekey>
        <themekey>Compliance</themekey>
        <themekey>USDA-FSA-APFO Aerial Photography Field Office</themekey>
        <themekey>United States Department of Agriculture (USDA)</themekey>
      </theme>
      <place>
        <placekt>Geographic Names Information System</placekt>
        <placekey>ID</placekey>
        <placekey>Jerome</placekey>
        <placekey>16053</placekey>
        <placekey>ID053</placekey>
        <placekey>JEROME CO ID FSA</placekey>
        <placekey>4211423</placekey>
        <placekey>HUNT, NE</placekey>
        <placekey>HUNT</placekey>
      </place>
    </keywords>
    <accconst>There are no limitations for access.</accconst>
    <useconst>None, The Aerial Photography Field Office asks to be credited in derived products.</useconst>
    <ptcontac>
      <cntinfo>
        <cntorgp>
          <cntorg>Aerial Photography Field Office (APFO)</cntorg>
        </cntorgp>
        <cntpos>Unknown</cntpos>
        <cntaddr>
          <addrtype>mailing and physical address</addrtype>
          <address>2222 West 2300 South</address>
          <city>Salt Lake City</city>
          <state>Utah</state>
          <postal>84119-2020</postal>
          <country>USA</country>
        </cntaddr>
        <cntvoice>801-975-3503</cntvoice>
        <cntfax>801-975-3532</cntfax>
        <cntemail>sales@apfo.usda.gov</cntemail>
      </cntinfo>
    </ptcontac>
    <native>Microsoft Windows XP Version 5.1 (Build 2600) Service Pack 2; ESRI ArcCatalog 9.2.6.1500</native>
  </idinfo>
  <dataqual>
    <logic>NAIP 3.75 minute tile file names are based on the USGS quadrangle naming convention.</logic>
    <complete>none</complete>
    <posacc>
      <horizpa>
        <horizpar>The positional accuracy for the digital data is tested by visual comparison to a data source with a higher order of accuracy.</horizpar>
      </horizpa>
    </posacc>
    <lineage>
      <srcinfo>
        <srccite>
          <citeinfo>
            <origin>USDA-FSA-APFO Aerial Photography Field Office</origin>
            <pubdate>20050119</pubdate>
            <title>HUNT, NE</title>
            <geoform>remote-sensing image</geoform>
          </citeinfo>
        </srccite>
        <typesrc>Digital Linear Tape (DLT)</typesrc>
        <srctime>
          <timeinfo>
            <sngdate>
              <caldate>20040706</caldate>
            </sngdate>
          </timeinfo>
          <srccurr>Aerial Photography Date for aerial photo source.</srccurr>
        </srctime>
        <srccitea>Georectifed Image</srccitea>
        <srccontr>Digital Georectifed Image.</srccontr>
      </srcinfo>
      <procstep>
        <procdesc>Color positive film (Kodak 2427) is scanned using Z/I PhotoScan photogrammetric quality scanning machines at a resolution of 21 microns. The scanned digital imagery is used in the Aerial Triangulation (AT) process in preparation for ortho-rectification. The horizontal accuracy of the orthorectified imagery is primarily determined by the quality of the AT solution and the surface model (digital elevation model or DEM). The AT process is initiated with the population of Z/I project files with ABGPS and horizontal control picked from USDA furnished mosaicked DOQQs (mDOQQs) and vertical control picked from the USGS DTED 2 DEM data. Images are tied together using Z/I ISAT automatic image correlation software with supplemental manually read points using Z/I ISDM software. Upon completion of mensuration, a preliminary adjustment is run to check for image blunders and poor image ties using PATB-NT software. Tie points are corrected or added, ground control is measured and the adjustment is run with ABGPS data and ground control. Withholding select ground control points performs quality control of the adjustment. AT is finalized by densifying the control and generating relative and absolute orientations (RO and AO) for each frame of photography. Orthorectifications are performed on the core portion of each image to minimize the radial horizontal displacement away from the photocenter. Each DOQQ is inspected for relative horizontal accuracy with adjacent DOQQ tiles. A sample of DOQQs is inspected for relative horizontal accuracy with the USDA furnished mDOQQs. Completed and approved DOQQs are assembled into a countywide MrSID file, using a compression factor of 1:50.</procdesc>
        <procdate>20050119</procdate>
      </procstep>
      <procstep>
        <procdesc>Metadata imported.</procdesc>
        <srcused>C:\Projects\nps\MIIN\DOQQ\doi1m2004_42114f2ne_usda.tif.xml</srcused>
        <procdate>Unknown</procdate>
      </procstep>
    </lineage>
  </dataqual>
  <spdoinfo>
    <indspref>Jerome County, ID</indspref>
    <direct>Raster</direct>
    <rastinfo>
      <rasttype>Pixel</rasttype>
      <rowcount>3196</rowcount>
      <colcount>4396</colcount>
    </rastinfo>
  </spdoinfo>
  <spref>
    <horizsys>
      <planar>
        <gridsys>
          <gridsysn>Universal Transverse Mercator</gridsysn>
          <utm>
            <utmzone>11</utmzone>
            <transmer>
              <sfctrmer>0.999600</sfctrmer>
              <longcm>-117.000000</longcm>
              <latprjo>0.000000</latprjo>
              <feast>500000.000000</feast>
              <fnorth>0.000000</fnorth>
            </transmer>
          </utm>
        </gridsys>
        <planci>
          <plance>row and column</plance>
          <coordrep>
            <absres>1.5239453</absres>
            <ordres>1.5239236</ordres>
          </coordrep>
          <plandu>meters</plandu>
        </planci>
      </planar>
      <geodetic>
        <horizdn>North American Datum of 1983</horizdn>
        <ellips>Geodetic Reference System 80</ellips>
        <semiaxis>6378137.000000</semiaxis>
        <denflat>298.257222</denflat>
      </geodetic>
    </horizsys>
  </spref>
  <eainfo>
    <overview>
      <eaover>24-bit pixels, 3 band color(RGB) values 0 - 255</eaover>
      <eadetcit>None</eadetcit>
    </overview>
  </eainfo>
  <distinfo>
    <distrib>
      <cntinfo>
        <cntorgp>
          <cntorg>USGS/CSS/Core Science Analytics and Synthesis</cntorg>
          <cntper>USGS-NPS Vegetation Characterization Program Coordinator</cntper>
        </cntorgp>
        <cntaddr>
          <addrtype>mailing and physical address</addrtype>
          <address>Denver Federal Center, Building 810, MS 302</address>
          <city>Denver</city>
          <state>Colorado</state>
          <postal>80225</postal>
        </cntaddr>
        <cntvoice>(303) 202-4220</cntvoice>
        <cntfax>303-202-4219</cntfax>
        <cntemail>gs-b-npsveg@usgs.gov</cntemail>
      </cntinfo>
    </distrib>
    <resdesc>Downloadable Data</resdesc>
    <distliab>The U.S. Geological Survey and the National Park Service shall not be held liable for improper or incorrect use of the data described and/or contained herein.  These data and related graphics (if available) are not legal documents and are not intended to be used as such.

The information contained in these data is dynamic and may change over time.  The data are not better than the original sources from which they were derived.  It is the responsibility of the data user to use the data appropriately and consistent within the limitations of geospatial data in general and these data in particular.  Any related graphics (if available) are intended to aid the data user in acquiring relevant data; it is not approriate to use the related graphics as data.

The U.S. Geological Survey and the National Park Service gives no warranty, expressed or implied, as to the accuracy, reliability, or completeness of these data.  It is strongly recommended that these data are directly acquired from an U.S. Geological Survey and National Park Service servers and not indirectly through other sources which may have changed the data in some way.  Although these data have been processed successfully on a computer system at the U.S. Geological Survey, no warranty expressed or implied is made regarding the utility of the data on another system or for general or scientific purposes, nor shall the act of distribution constitute any such warranty. This disclaimer applies both to individual use of the data and aggregate use with other data. It is also strongly recommended that careful attention be paid to the contents of the metadata file associated with these data. Mention of trade names or commercial products in this metadata report does not constitute endorsement or recommendation for use by the U. S. Department of the Interior, U. S. Geological Survey and National Park Service.</distliab>
    <stdorder>
      <digform>
        <digtinfo>
          <formname>HTML</formname>
        </digtinfo>
        <digtopt>
          <onlinopt>
            <computer>
              <networka>
                <networkr>http://www.usgs.gov/core_science_systems/csas/vip/parks/miin.html</networkr>
              </networka>
            </computer>
            <accinstr>Internet Access</accinstr>
          </onlinopt>
        </digtopt>
      </digform>
      <fees>None</fees>
    </stdorder>
    <stdorder>
      <digform>
        <digtinfo>
          <formname>TIFF</formname>
        </digtinfo>
        <digtopt>
          <onlinopt>
            <computer>
              <networka>
                <networkr>http://insideidaho.org/data/imageryBaseMapsEarthCover/orthoimagery/2004_1m_idaho/42/doi1m2004_42114f2ne_usda.tif</networkr>
              </networka>
            </computer>
            <accinstr>Internet Access</accinstr>
          </onlinopt>
        </digtopt>
      </digform>
      <fees>None</fees>
    </stdorder>
  </distinfo>
  <metainfo>
    <metd>20090817</metd>
    <metrd>20110926</metrd>
    <metc>
      <cntinfo>
        <cntorgp>
          <cntorg>USGS/CSS/Core Science Analytics and Synthesis</cntorg>
          <cntper>USGS-NPS Vegetation Characterization Program Coordinator</cntper>
        </cntorgp>
        <cntaddr>
          <addrtype>mailing and physical address</addrtype>
          <address>Denver Federal Center, Building 810, MS 302</address>
          <city>Denver</city>
          <state>Colorado</state>
          <postal>80225</postal>
        </cntaddr>
        <cntvoice>(303) 202-4220</cntvoice>
        <cntfax>303-202-4219</cntfax>
        <cntemail>gs-b-npsveg@usgs.gov</cntemail>
      </cntinfo>
    </metc>
    <metstdn>FGDC Biological Data Profile of the Content Standard for Digital Geospatial Metadata</metstdn>
    <metstdv>FGDC-STD-001.1-1999</metstdv>
    <metextns>
      <onlink>http://www.usgs.gov/core_science_systems/csas/metadata/index.html</onlink>
    </metextns>
  </metainfo>
</metadata>
