<?xml version="1.0" encoding="UTF-8"?>
<metadata>
  <idinfo>
    <citation>
      <citeinfo>
        <origin>Center for Remote Sensing and Mapping Science, University of Georgia</origin>
        <pubdate>20071207</pubdate>
        <title>Kings Mountain National Military Park Vegetation Mapping Project - Color Infrared Orthorectified Photomosaic</title>
        <geoform>remote-sensing image</geoform>
        <onlink>http://www1.usgs.gov/vip/kimo/kimoortho1.zip</onlink>
        <onlink>http://www1.usgs.gov/vip/kimo/kimoortho2.zip</onlink>
        <onlink>doi:10.5066/F7KS6PJJ</onlink>
      </citeinfo>
    </citation>
    <descript>
      <abstract>Color Inrared Digital Orthophoto Mosaic</abstract>
      <purpose>Provides an updated image reference for the the vegetation maps</purpose>
    </descript>
    <timeperd>
      <timeinfo>
        <sngdate>
          <caldate>2004</caldate>
        </sngdate>
      </timeinfo>
      <current>Unknown</current>
    </timeperd>
    <status>
      <progress>Complete</progress>
      <update>None planned</update>
    </status>
    <spdom>
      <descgeog>Kings Mountain National Military Park and environs</descgeog>
      <bounding>
        <westbc>-81.427057</westbc>
        <eastbc>-81.353550</eastbc>
        <northbc>35.179889</northbc>
        <southbc>35.101214</southbc>
      </bounding>
    </spdom>
    <keywords>
      <theme>
        <themekt>None</themekt>
        <themekey>Orthophoto</themekey>
      </theme>
      <theme>
        <themekt>National Park Service Theme Category Thesaurus</themekt>
        <themekey>none</themekey>
      </theme>
      <theme>
        <themekt>ISO 19115 Topic Category</themekt>
        <themekey>none</themekey>
      </theme>
      <place>
        <placekt>none</placekt>
        <placekey>Kings Mountain</placekey>
      </place>
    </keywords>
    <accconst>none</accconst>
    <useconst>The National Park Service shall not be held liable for improper or incorrect use of the data described and/or contained herein. These data and related graphics (i.e. GIF or JPG format files) are not legal documents and are not intended to be used as such. The information contained in these data is dynamic and may change over time. The data are not better than the original sources from which they were derived. It is the responsibility of the data user to use the data appropriately and consistent within the limitations of geospatial data in general and these data in particular. The related graphics are intended to aid the data user in acquiring relevant data; it is not appropriate to use the related graphics as data. The National Park Service gives no warranty, expressed or implied, as to the accuracy, reliability, or completeness of these data. It is strongly recommended that these data are directly acquired from an NPS server and not indirectly through other sources which may have changed the data in some way. Although these data have been processed successfully on computer systems at the National Park Service, no warranty expressed or implied is made regarding the utility of the data on other systems for general or scientific purposes, nor shall the act of distribution constitute any such warranty. This disclaimer applies both to individual use of the data and aggregate use with other data</useconst>
    <ptcontac>
      <cntinfo>
        <cntperp>
          <cntper>Thomas R Jordan</cntper>
          <cntorg>Center for Remote Sensing and Mapping Science, University of Georgia</cntorg>
        </cntperp>
        <cntpos>Associate Director</cntpos>
        <cntaddr>
          <addrtype>mailing address</addrtype>
          <address>Dept of Geography</address>
          <address>210 Field St, Room 204</address>
          <city>Athens</city>
          <state>GA</state>
          <postal>30602</postal>
          <country>USA</country>
        </cntaddr>
        <cntvoice>706-542-2372</cntvoice>
        <cntfax>706-542-2388</cntfax>
        <cntemail>tombob@uga.edu</cntemail>
      </cntinfo>
    </ptcontac>
    <datacred>Center for Remote Sensing and Mapping Science, Department of Geography, University of Georgia, Athens, GA   30602, USA  http://www.crms.uga.edu</datacred>
    <native>Microsoft Windows XP Version 5.1 (Build 2600) Service Pack 2; ESRI ArcCatalog 9.2.2.1350</native>
  </idinfo>
  <dataqual>
    <attracc>
      <attraccr>No attributes</attraccr>
    </attracc>
    <logic>none</logic>
    <complete>none</complete>
    <posacc>
      <horizpa>
        <horizpar>The orthophotos were created using horizontal ground control measured from USGS DOQQs and elevation control from the National Elevation Dataset (NED).   Thus, horizontal accuracy is compatible with 1:12,000 maps (approximately 4-5 m RMSE)</horizpar>
      </horizpa>
      <vertacc>
        <vertaccr>there is no vertical component to this dataset.</vertaccr>
      </vertacc>
    </posacc>
    <lineage>
      <srcinfo>
        <srccite>
          <citeinfo>
            <origin>Unknown</origin>
            <pubdate>Unknown</pubdate>
            <title>Unknown</title>
            <geoform>photo</geoform>
          </citeinfo>
        </srccite>
        <srcscale>12,000</srcscale>
        <typesrc>Color infrared aerial photographs in film format were scanned at 600 dpi using Photoshop and an Epson 10000XL scanner.</typesrc>
        <srctime>
          <timeinfo>
            <sngdate>
              <caldate>unknown</caldate>
            </sngdate>
          </timeinfo>
          <srccurr>Unknown</srccurr>
        </srctime>
        <srccitea>unknown</srccitea>
        <srccontr>unknown</srccontr>
      </srcinfo>
      <procstep>
        <procdesc>1. Color infrared aerial photographs in film format were scanned at 600 dpi using Photoshop and an Epson 10000XL scanner.
2. Passpoints were identified and measured on overlapping photos
3. GCPs were identified on USGS DOQQs and measured on all photos
4. Elevations for GCPs were extracted from the National Elevation Dataset (NED)
5. Analytical aerotriangulation was performed to densify the control network
6. Digital orthophotos were created using the Desktop Mapping System (DMS) software, the scanned photos and the NED
7. Final CIR orthophotos were mosaicked using the Mosaic Wizard in Leica-Geosystems Imagine 9.1</procdesc>
        <procdate>200712</procdate>
        <proccont>
          <cntinfo>
            <cntperp>
              <cntper>Tommy Jordan</cntper>
              <cntorg>CRMS-UGA</cntorg>
            </cntperp>
            <cntpos>Associate Director</cntpos>
            <cntaddr>
              <addrtype>Unknown</addrtype>
              <address>Unknown</address>
              <city>Unknown</city>
              <state>Unknown</state>
              <postal>Unknown</postal>
            </cntaddr>
            <cntvoice>706-542-2372</cntvoice>
            <cntfax>706-542-2388</cntfax>
            <cntemail>tombob@uga.edu</cntemail>
          </cntinfo>
        </proccont>
      </procstep>
      <procstep>
        <procdesc>Metadata imported.</procdesc>
        <srcused>C:\DOCUME~1\TJORDA~1.CRM\LOCALS~1\Temp\xml5E.tmp</srcused>
        <procdate>Unknown</procdate>
      </procstep>
    </lineage>
    <cloud>0%</cloud>
  </dataqual>
  <spdoinfo>
    <direct>Raster</direct>
    <rastinfo>
      <rasttype>Pixel</rasttype>
      <rowcount>15000</rowcount>
      <colcount>13400</colcount>
    </rastinfo>
  </spdoinfo>
  <spref>
    <horizsys>
      <planar>
        <gridsys>
          <gridsysn>Universal Transverse Mercator</gridsysn>
          <utm>
            <utmzone>17</utmzone>
            <transmer>
              <sfctrmer>0.999600</sfctrmer>
              <longcm>-81.000000</longcm>
              <latprjo>0.000000</latprjo>
              <feast>500000.000000</feast>
              <fnorth>0.000000</fnorth>
            </transmer>
          </utm>
        </gridsys>
        <planci>
          <plance>row and column</plance>
          <coordrep>
            <absres>0.500000</absres>
            <ordres>0.500000</ordres>
          </coordrep>
          <plandu>meters</plandu>
        </planci>
      </planar>
      <geodetic>
        <horizdn>North American Datum of 1983</horizdn>
        <ellips>Geodetic Reference System 80</ellips>
        <semiaxis>6378137.000000</semiaxis>
        <denflat>298.257222</denflat>
      </geodetic>
    </horizsys>
  </spref>
  <distinfo>
    <distrib>
      <cntinfo>
        <cntorgp>
          <cntorg>USGS/CSS/Core Science Analytics and Synthesis</cntorg>
          <cntper>USGS-NPS Vegetation Characterization Program Coordinator</cntper>
        </cntorgp>
        <cntaddr>
          <addrtype>mailing and physical address</addrtype>
          <address>Denver Federal Center, Building 810, MS 302</address>
          <city>Denver</city>
          <state>Colorado</state>
          <postal>80225</postal>
        </cntaddr>
        <cntvoice>(303) 202-4220</cntvoice>
        <cntfax>303-202-4219</cntfax>
        <cntemail>gs-b-npsveg@usgs.gov</cntemail>
      </cntinfo>
    </distrib>
    <resdesc>Downloadable Data</resdesc>
    <distliab>The U.S. Geological Survey and the National Park Service shall not be held liable for improper or incorrect use of the data described and/or contained herein.  These data and related graphics (if available) are not legal documents and are not intended to be used as such.

The information contained in these data is dynamic and may change over time.  The data are not better than the original sources from which they were derived.  It is the responsibility of the data user to use the data appropriately and consistent within the limitations of geospatial data in general and these data in particular.  Any related graphics (if available) are intended to aid the data user in acquiring relevant data; it is not approriate to use the related graphics as data.

The U.S. Geological Survey and the National Park Service gives no warranty, expressed or implied, as to the accuracy, reliability, or completeness of these data.  It is strongly recommended that these data are directly acquired from an U.S. Geological Survey and National Park Service servers and not indirectly through other sources which may have changed the data in some way.  Although these data have been processed successfully on a computer system at the U.S. Geological Survey, no warranty expressed or implied is made regarding the utility of the data on another system or for general or scientific purposes, nor shall the act of distribution constitute any such warranty. This disclaimer applies both to individual use of the data and aggregate use with other data. It is also strongly recommended that careful attention be paid to the contents of the metadata file associated with these data. Mention of trade names or commercial products in this metadata report does not constitute endorsement or recommendation for use by the U. S. Department of the Interior, U. S. Geological Survey and National Park Service.</distliab>
    <stdorder>
      <digform>
        <digtinfo>
          <formname>HTML</formname>
        </digtinfo>
        <digtopt>
          <onlinopt>
            <computer>
              <networka>
                <networkr>http://www.usgs.gov/core_science_systems/csas/vip/parks/kimo.html</networkr>
              </networka>
            </computer>
            <accinstr>Internet Access</accinstr>
          </onlinopt>
        </digtopt>
      </digform>
      <fees>None</fees>
    </stdorder>
  </distinfo>
  <metainfo>
    <metd>20101227</metd>
    <metrd>20110131</metrd>
    <metc>
      <cntinfo>
        <cntorgp>
          <cntorg>USGS/CSS/Core Science Analytics and Synthesis</cntorg>
          <cntper>USGS-NPS Vegetation Characterization Program Coordinator</cntper>
        </cntorgp>
        <cntaddr>
          <addrtype>mailing and physical address</addrtype>
          <address>Denver Federal Center, Building 810, MS 302</address>
          <city>Denver</city>
          <state>Colorado</state>
          <postal>80225</postal>
        </cntaddr>
        <cntvoice>(303) 202-4220</cntvoice>
        <cntfax>303-202-4219</cntfax>
        <cntemail>gs-b-npsveg@usgs.gov</cntemail>
      </cntinfo>
    </metc>
    <metstdn>FGDC Biological Data Profile of the Content Standard for Digital Geospatial Metadata</metstdn>
    <metstdv>FGDC-STD-001.1-1999</metstdv>
    <metextns>
      <onlink>http://www.usgs.gov/core_science_systems/csas/metadata/index.html</onlink>
    </metextns>
  </metainfo>
</metadata>
