<?xml version="1.0" encoding="UTF-8"?>
<metadata>
  <idinfo>
    <citation>
      <citeinfo>
        <origin>U.S. Department of Agriculture, Natural Resources Conservation Service, National Cartography and Geospatial Center</origin>
        <pubdate>20080611</pubdate>
        <title>Kaloko-Honokohau National Historical Park Vegetation Mapping Project - Orthorectified Photomosaic</title>
        <geoform>remote-sensing image</geoform>
        <pubinfo>
          <pubplace>Fort Worth, Texas</pubplace>
          <publish>U.S. Department of Agriculture, Natural Resources Conservation Service</publish>
        </pubinfo>
        <onlink>http://www1.usgs.gov/vip/kaho/kahoortho.zip</onlink>
        <onlink>doi:10.5066/F73R0QTK</onlink>
      </citeinfo>
    </citation>
    <descript>
      <abstract>Digital orthoimages combine the image characteristics of a digital image with the geometric qualities of a map. The primary dynamic digital orthophoto quarter quadrangle (DigitalGlobe DOQQ) is a 60 centimeter ground resolution, quarter-quadrangle (3.75 minutes of latitude by 3.75 minutes of longitude) image cast to the customer specified projection and datum defined in the Spatial Reference Information section of this metadata document. The geographic extent of the DG DOQQ is equivalent to a quarter-quadrangle plus the overedge of 300 meters beyond the extremes of the primary corner points. The overedge is included to facilitate tonal matching for mosaicking and ensure full coverage if the imagery is reprojected. The normal orientation of data is by lines (rows) and samples (columns). Each line contains a series of pixels ordered from west to east with the order of the lines from north to south. The digital orthoimage is formatted as a GeoTIFF image file with a separate FGDC compliant metadata file.</abstract>
      <purpose>DG DOQQs serve a variety of purposes, from interim maps to field references for geographic information system and as a tool for revision of digital line graphs and topographic maps.</purpose>
      <supplinf>The source imagery for this project is as follows: GSD = 0.6m ; Bands = 4-band (Blue, Green, Red, and Near IR) ; Bits Depth = 16 bits/channel ; Pansharpened = yes ; DRA = off ; GeoTIFF ; License Options = Civil Government Three of the four source imagery bands (Red, Near IR &amp; Green) were merged to create CIR orthophoto mosaics of the Island of Hawaii, Hawaii County, Hawaii in five parts, this being Part 1 of 5.</supplinf>
    </descript>
    <timeperd>
      <timeinfo>
        <rngdates>
          <begdate>20021226</begdate>
          <enddate>20071013</enddate>
        </rngdates>
      </timeinfo>
      <current>ground condition</current>
    </timeperd>
    <status>
      <progress>Complete</progress>
      <update>None planned</update>
    </status>
    <spdom>
      <descgeog>Kaloko-Honokohau National Historical Park and environs</descgeog>
      <bounding>
        <westbc>-156.065019</westbc>
        <eastbc>-155.996500</eastbc>
        <northbc>19.713670</northbc>
        <southbc>19.642482</southbc>
      </bounding>
    </spdom>
    <keywords>
      <theme>
        <themekt>None</themekt>
        <themekey>DOQ</themekey>
        <themekey>DOQQ</themekey>
        <themekey>DG DOQQ</themekey>
        <themekey>DigitalGlobe DOQQ</themekey>
        <themekey>Digital Ortho Quad</themekey>
        <themekey>Digital Ortho Quarter Quad</themekey>
        <themekey>DigitalGlobe Digital Ortho Quad</themekey>
        <themekey>DigitalGlobe Digital Ortho Quarter Quad</themekey>
        <themekey>Digital</themekey>
        <themekey>Ortho</themekey>
        <themekey>Quadrangles</themekey>
        <themekey>Rectified Image</themekey>
        <themekey>Digital image</themekey>
        <themekey>Orthophoto</themekey>
        <themekey>quarter quadrangle</themekey>
      </theme>
      <place>
        <placekt>None</placekt>
        <placekey>Hawaii County</placekey>
        <placekey>USA</placekey>
        <placekey>Island of Hawaii</placekey>
        <placekey>HI</placekey>
      </place>
    </keywords>
    <accconst>Restriction Code: other restrictions; Other Constraints: Access constraints: See Details of Licensing defined in the attached pdf file or the DigitalGlobe Product Guide located online at www.digitalglobe.com.</accconst>
    <useconst>Restriction Code: other restrictions; Other Constraints: Access constraints: See Details of Licensing defined in the attached pdf file or the DigitalGlobe Product Guide located online at www.digitalglobe.com.</useconst>
    <ptcontac>
      <cntinfo>
        <cntorgp>
          <cntorg>U.S. Department of Agriculture, Natural Resources Conservation Service, National Cartography and Geospatial Center</cntorg>
          <cntper>Team Leader</cntper>
        </cntorgp>
        <cntpos>Geospatial Data Branch</cntpos>
        <cntaddr>
          <addrtype>Unknown</addrtype>
          <address>Federal Center, 501 W. Felix St., Bldg. 23</address>
          <city>Fort Worth</city>
          <state>Texas</state>
          <postal>76115</postal>
          <country>US</country>
        </cntaddr>
        <cntvoice>817-509-3400</cntvoice>
        <cntfax>817-509-3469</cntfax>
        <hours>8:00 am to 4:30 pm, Central Time</hours>
      </cntinfo>
    </ptcontac>
    <native>Microsoft Windows XP Version 5.1 (Build 2600) Service Pack 3; ESRI ArcCatalog 9.3.0.1770</native>
    <crossref>
      <citeinfo>
        <origin>DigitalGlobe</origin>
        <pubdate>20080123</pubdate>
        <title>multiple 3.75 minute digital orthoimages</title>
        <geoform>image</geoform>
        <pubinfo>
          <pubplace>Longmont, Colorado</pubplace>
          <publish>DigitalGlobe</publish>
        </pubinfo>
        <othercit>DigitalGlobe Customer Service Representative - info@digitalglobe.com (800) 496-1225, (303) 684-4048</othercit>
      </citeinfo>
    </crossref>
  </idinfo>
  <dataqual>
    <attracc>
      <attraccr>Radiometry is verified by visual inspection of the digital orthophoto quadrangle with the original unrectified image to determine if the digital orthophoto has the same or better image quality as the original unrectified input image. Slight systematic radiometric differences may be detected between adjacent DG DOQQ files due primarily to differences in source imagery capture dates, and off-nadir or sun angles of the QuickBird Imagery.</attraccr>
    </attracc>
    <logic>All DG DOQQ image file sizes are validated by visual inspection.</logic>
    <complete>All DG DOQQ imagery is visually inspected for completeness to ensure that no gaps or image misplacements exist in the image area or in overedge coverage. DG DOQQ images may be derived by mosaicking multiple images, in order to insure complete coverage. All DG DOQQs are cloud free within the image area. Some clouds may be encountered within the DG DOQQ if acceptable to the customer at time of order placement.</complete>
    <lineage>
      <srcinfo>
        <srccite>
          <citeinfo>
            <origin>U.S. Department of Agriculture, Natural Resources Conservation Service, National Cartography and Geospatial Center</origin>
            <pubdate>Unknown</pubdate>
            <title>hi_part1of5_cir.img</title>
            <geoform>map</geoform>
            <pubinfo>
              <pubplace>Fort Worth, Texas</pubplace>
              <publish>U.S. Department of Agriculture, Natural Resources Conservation Service</publish>
            </pubinfo>
          </citeinfo>
        </srccite>
        <typesrc>None</typesrc>
        <srctime>
          <timeinfo>
            <sngdate>
              <caldate>unknown</caldate>
            </sngdate>
          </timeinfo>
          <srccurr>publication date</srccurr>
        </srctime>
        <srccitea>hi_part1of5_cir.img</srccitea>
        <srccontr>seamless county mosaic input for MrSID</srccontr>
      </srcinfo>
      <srcinfo>
        <srccite>
          <citeinfo>
            <origin>DigitalGlobe</origin>
            <pubdate>20080123</pubdate>
            <title>multiple high resolution orthophotographic tiles</title>
            <geoform>map</geoform>
            <pubinfo>
              <pubplace>Longmont, Colorado</pubplace>
              <publish>DigitalGlobe</publish>
            </pubinfo>
          </citeinfo>
        </srccite>
        <typesrc>None</typesrc>
        <srctime>
          <timeinfo>
            <sngdate>
              <caldate>unknown</caldate>
            </sngdate>
          </timeinfo>
          <srccurr>publication date</srccurr>
        </srctime>
        <srccitea>multiple high resolution orthophotographic tiles</srccitea>
        <srccontr>Input imagery for seamless mosaics</srccontr>
      </srcinfo>
      <procstep>
        <procdesc>The rectification process requires, as input, a digital elevation model gridded to Geographic Lat/Lon projection and WGS84 datum, a set of existing USGS DOQQs or a set of GPS surveyed ground control points, and a set of one or more QuickBird images covering the area to be processed into DG DOQQs. If surveyed control is not used, ground control points are acquired from existing DOQQs meeting National Map Accuracy Standard (NMAS) for 1:12,000-scale. Ground control points are extracted from the DOQQs in the Universal Transverse Mercator projection on the NAD83 datum. The positions of the ground control points are measured on the QuickBird digital imagery. Minimum control point configuration consists of 9 control points per QuickBird scene in a 3 x 3 arrangment. A quaternion based iterative analytical adjustment is used in the DigitalGlobe Product Processor to minimize the residual error in the measured ground control points in a least squared error sense. Horizontal and vertical residuals of triangulated tie-points are totally dependent on the quality of the DEM and ground control but are typically equal to or less than 5.0 meters. The principal elevation data sources are standard DEM datasets from the National Elevation Database (NED). All DEM data is equivalent to or better than USGS DEM standard level 1. The DEM used in the production of DG DOQQs generally has a 30-meter grid post spacing and possesses a vertical RMSE of 7-meters or less. A DEM covering the extent of the QuickBird image set is used for the rectification.</procdesc>
        <procdate>20050613</procdate>
        <proccont>
          <cntinfo>
            <cntorgp>
              <cntorg>DigitalGlobe</cntorg>
              <cntper>Customer Service Representative</cntper>
            </cntorgp>
            <cntaddr>
              <addrtype>Unknown</addrtype>
              <address>1601 Dry Creek Drive</address>
              <city>Longmont</city>
              <state>Colorado</state>
              <postal>80503</postal>
              <country>US</country>
            </cntaddr>
            <cntvoice>(800) 496-1225</cntvoice>
            <cntfax>(303) 684-4048</cntfax>
            <cntemail>info@digitalglobe.com</cntemail>
          </cntinfo>
        </proccont>
      </procstep>
      <procstep>
        <procdesc>Four band digital orthophoto quarterquadrangles (DG DOQQs) created under contract by DigitalGlobe, Inc and delivered to USDA/NRCS were imported and merged using Leica's Erdas Imagine software versions 9.0 and 8.6 into four band mosaics of Island of Hawaii County, Hawaii created in five parts, this being part 1 of 5. The source imagery was obtained between December 26, 2006 and and October 13, 2007. Bands 2, 3 &amp; 4 (Green, Red &amp; Near IR) were subset from the four band mosaic using Erdas Imagine's Image Interpreter Subset Utility to to produce a color infrared (CIR) mosaic. As appropriate, tone or range adjustment were made to minimize tone differences between individual tiles and along mosaic seam lines. The mosaic was compressed using LizardTech's GeoExpress 5.0 software to a ratio of about 15:1 to save on storage requirements and to accelerate computer processing and display.</procdesc>
        <procdate>20080506</procdate>
        <proccont>
          <cntinfo>
            <cntorgp>
              <cntorg>U.S. Department of Agriculture, Natural Resources Conservation Service, National Cartography and Geospatial Center</cntorg>
              <cntper>Team Leader</cntper>
            </cntorgp>
            <cntpos>Geospatial Data Branch</cntpos>
            <cntaddr>
              <addrtype>Unknown</addrtype>
              <address>501 W. Felix St., Bldg. 23</address>
              <city>Fort Worth</city>
              <state>Texas</state>
              <postal>76115</postal>
              <country>United States of America</country>
            </cntaddr>
            <cntvoice>(817) 509-3400</cntvoice>
            <cntfax>(817) 509-3469</cntfax>
            <hours>Monday-Friday 8:00 am - 4:30 pm, Central Standard Time</hours>
          </cntinfo>
        </proccont>
      </procstep>
      <procstep>
        <procdesc>The DigitalGlobe imagery was clipped to just outside the Kaloko-Honokohau National Historical Park (KAHO)  mapping project boundary for ease of use.  Two sperate images were created using different band combinations to produce true-color and color infrared images in tagged image format (.tif).</procdesc>
        <procdate>2010</procdate>
        <proccont>
          <cntinfo>
            <cntperp>
              <cntper>Dan Cogan</cntper>
              <cntorg>Cogan Technology, Inc.</cntorg>
            </cntperp>
            <cntpos>Vice-president</cntpos>
            <cntaddr>
              <addrtype>mailing and physical address</addrtype>
              <address>21 Valley Road</address>
              <city>Galena</city>
              <state>Illinois</state>
              <postal>61036</postal>
              <country>USA</country>
            </cntaddr>
            <cntvoice>815-777-1773</cntvoice>
            <cntfax>815-777-1773</cntfax>
            <cntemail>dancogan@cogantech.com</cntemail>
            <hours>8 am - 5 pm CST</hours>
          </cntinfo>
        </proccont>
      </procstep>
    </lineage>
  </dataqual>
  <spdoinfo>
    <direct>Raster</direct>
    <rastinfo>
      <rasttype>Pixel</rasttype>
      <rowcount>12938</rowcount>
      <colcount>11756</colcount>
    </rastinfo>
  </spdoinfo>
  <spref>
    <horizsys>
      <planar>
        <gridsys>
          <gridsysn>Universal Transverse Mercator</gridsysn>
          <utm>
            <utmzone>5</utmzone>
            <transmer>
              <sfctrmer>0.999600</sfctrmer>
              <longcm>-153.000000</longcm>
              <latprjo>0.000000</latprjo>
              <feast>500000.000000</feast>
              <fnorth>0.000000</fnorth>
            </transmer>
          </utm>
        </gridsys>
        <planci>
          <plance>row and column</plance>
          <coordrep>
            <absres>0.600000</absres>
            <ordres>0.600000</ordres>
          </coordrep>
          <plandu>meters</plandu>
        </planci>
      </planar>
      <geodetic>
        <horizdn>North American Datum of 1983</horizdn>
        <ellips>Geodetic Reference System 80</ellips>
        <semiaxis>6378137.000000</semiaxis>
        <denflat>298.257222</denflat>
      </geodetic>
    </horizsys>
  </spref>
  <eainfo>
    <detailed>
      <enttyp>
        <enttypl>KAHO_IR_2006.tif.vat</enttypl>
        <enttypd>Table</enttypd>
        <enttypds>U.S. Department of Agriculture, Natural Resources Conservation Service, National Cartography and Geospatial Center</enttypds>
      </enttyp>
      <attr>
        <attrlabl>ObjectID</attrlabl>
        <attrdef>Internal feature number.</attrdef>
        <attrdefs>ESRI</attrdefs>
        <attrdomv>
          <udom>Sequential unique whole numbers that are automatically generated.</udom>
        </attrdomv>
      </attr>
      <attr>
        <attrlabl>Value</attrlabl>
        <attrdef>Internal feature number.</attrdef>
        <attrdefs>ESRI</attrdefs>
        <attrdomv>
          <udom>Sequential unique whole numbers that are automatically generated.</udom>
        </attrdomv>
      </attr>
      <attr>
        <attrlabl>Count</attrlabl>
        <attrdef>Number.</attrdef>
        <attrdefs>ESRI</attrdefs>
        <attrdomv>
          <udom>Unknown</udom>
        </attrdomv>
      </attr>
    </detailed>
    <detailed>
      <enttyp>
        <enttypl>KAHO_IR_2006.tif.vat</enttypl>
        <enttypd>Table</enttypd>
        <enttypds>U.S. Department of Agriculture, Natural Resources Conservation Service, National Cartography and Geospatial Center</enttypds>
      </enttyp>
      <attr>
        <attrlabl>ObjectID</attrlabl>
        <attrdef>Internal feature number.</attrdef>
        <attrdefs>ESRI</attrdefs>
        <attrdomv>
          <udom>Sequential unique whole numbers that are automatically generated.</udom>
        </attrdomv>
      </attr>
      <attr>
        <attrlabl>Value</attrlabl>
        <attrdef>Internal feature number.</attrdef>
        <attrdefs>ESRI</attrdefs>
        <attrdomv>
          <udom>Sequential unique whole numbers that are automatically generated.</udom>
        </attrdomv>
      </attr>
      <attr>
        <attrlabl>Count</attrlabl>
        <attrdef>Number.</attrdef>
        <attrdefs>ESRI</attrdefs>
        <attrdomv>
          <udom>Unknown</udom>
        </attrdomv>
      </attr>
    </detailed>
    <detailed>
      <enttyp>
        <enttypl>KAHO_IR_2006.tif.vat</enttypl>
        <enttypd>Table</enttypd>
        <enttypds>U.S. Department of Agriculture, Natural Resources Conservation Service, National Cartography and Geospatial Center</enttypds>
      </enttyp>
      <attr>
        <attrlabl>ObjectID</attrlabl>
        <attrdef>Internal feature number.</attrdef>
        <attrdefs>ESRI</attrdefs>
        <attrdomv>
          <udom>Sequential unique whole numbers that are automatically generated.</udom>
        </attrdomv>
      </attr>
      <attr>
        <attrlabl>Value</attrlabl>
        <attrdef>Internal feature number.</attrdef>
        <attrdefs>ESRI</attrdefs>
        <attrdomv>
          <udom>Sequential unique whole numbers that are automatically generated.</udom>
        </attrdomv>
      </attr>
      <attr>
        <attrlabl>Count</attrlabl>
        <attrdef>Number.</attrdef>
        <attrdefs>ESRI</attrdefs>
        <attrdomv>
          <udom>Unknown</udom>
        </attrdomv>
      </attr>
    </detailed>
    <overview>
      <eaover>For DOQ's from panchromatic source each pixel contains an 8-bit gray-scale value between 0-255. A value of 0 represents the color black while a value of 255 represents the color white. All values between 0 and 255 are represented as a shade of gray varying from black to white. For color-infrared and natural color DOQs' a digital number from 0 to 255 will also be assigned to each pixel but that number will refer to a color look-up table which will contain the RGB red, blue and green RGB) values, each from 0 to 255, for that digital number. Areas where the rectification process is incomplete due to incomplete data (i.e., lack of elevation data, gaps), are represented with the numeric value of 0.</eaover>
      <eadetcit>U.S. Department of the Interior, U.S. Geological Survey, 1996, Standards for Digital Orthophotos: Reston, VA. Softcopy in Adobe Acrobat Portable Document File (PDF) format: &lt;http://nationalmap.gov/standards/doqstds.html&gt;</eadetcit>
    </overview>
  </eainfo>
  <distinfo>
    <distrib>
      <cntinfo>
        <cntorgp>
          <cntorg>USGS/CSS/Core Science Analytics and Synthesis</cntorg>
          <cntper>USGS-NPS Vegetation Characterization Program Coordinator</cntper>
        </cntorgp>
        <cntaddr>
          <addrtype>mailing and physical address</addrtype>
          <address>Denver Federal Center, Building 810, MS 302</address>
          <city>Denver</city>
          <state>Colorado</state>
          <postal>80225</postal>
        </cntaddr>
        <cntvoice>(303) 202-4220</cntvoice>
        <cntfax>303-202-4219</cntfax>
        <cntemail>gs-b-npsveg@usgs.gov</cntemail>
      </cntinfo>
    </distrib>
    <resdesc>Downloadable Data</resdesc>
    <distliab>The U.S. Geological Survey and the National Park Service shall not be held liable for improper or incorrect use of the data described and/or contained herein.  These data and related graphics (if available) are not legal documents and are not intended to be used as such.

The information contained in these data is dynamic and may change over time.  The data are not better than the original sources from which they were derived.  It is the responsibility of the data user to use the data appropriately and consistent within the limitations of geospatial data in general and these data in particular.  Any related graphics (if available) are intended to aid the data user in acquiring relevant data; it is not approriate to use the related graphics as data.

The U.S. Geological Survey and the National Park Service gives no warranty, expressed or implied, as to the accuracy, reliability, or completeness of these data.  It is strongly recommended that these data are directly acquired from an U.S. Geological Survey and National Park Service servers and not indirectly through other sources which may have changed the data in some way.  Although these data have been processed successfully on a computer system at the U.S. Geological Survey, no warranty expressed or implied is made regarding the utility of the data on another system or for general or scientific purposes, nor shall the act of distribution constitute any such warranty. This disclaimer applies both to individual use of the data and aggregate use with other data. It is also strongly recommended that careful attention be paid to the contents of the metadata file associated with these data. Mention of trade names or commercial products in this metadata report does not constitute endorsement or recommendation for use by the U. S. Department of the Interior, U. S. Geological Survey and National Park Service.</distliab>
    <stdorder>
      <digform>
        <digtinfo>
          <formname>HTML</formname>
        </digtinfo>
        <digtopt>
          <onlinopt>
            <computer>
              <networka>
                <networkr>http://www.usgs.gov/core_science_systems/csas/vip/parks/kaho.html</networkr>
              </networka>
            </computer>
            <accinstr>Internet Access</accinstr>
          </onlinopt>
        </digtopt>
      </digform>
      <fees>None</fees>
    </stdorder>
  </distinfo>
  <metainfo>
    <metd>20110922</metd>
    <metrd>20111201</metrd>
    <metc>
      <cntinfo>
        <cntorgp>
          <cntorg>USGS/CSS/Core Science Analytics and Synthesis</cntorg>
          <cntper>USGS-NPS Vegetation Characterization Program Coordinator</cntper>
        </cntorgp>
        <cntaddr>
          <addrtype>mailing and physical address</addrtype>
          <address>Denver Federal Center, Building 810, MS 302</address>
          <city>Denver</city>
          <state>Colorado</state>
          <postal>80225</postal>
        </cntaddr>
        <cntvoice>(303) 202-4220</cntvoice>
        <cntfax>303-202-4219</cntfax>
        <cntemail>gs-b-npsveg@usgs.gov</cntemail>
      </cntinfo>
    </metc>
    <metstdn>FGDC Biological Data Profile of the Content Standard for Digital Geospatial Metadata</metstdn>
    <metstdv>FGDC-STD-001.1-1999</metstdv>
    <metextns>
      <onlink>http://www.usgs.gov/core_science_systems/csas/metadata/index.html</onlink>
    </metextns>
  </metainfo>
</metadata>
