<?xml version="1.0" encoding="UTF-8"?>
<metadata>
  <idinfo>
    <citation>
      <citeinfo>
        <origin>North Carolina State University, Center for Earth Observation</origin>
        <pubdate>20040915</pubdate>
        <title>Johnstown Flood National Memorial Vegetation Mapping Project - Color Infrared Orthorectified Photomosaic</title>
        <edition>first</edition>
        <geoform>remote-sensing image</geoform>
        <onlink>http://www1.usgs.gov/vip/jofl/joflortho.zip</onlink>
        <onlink>doi:10.5066/F70Z717G</onlink>
      </citeinfo>
    </citation>
    <descript>
      <abstract>Orthorectified color infrared ERDAS Imagine image of Johnstown Flood National Memorial (jofl_final.img).  Produced from 14 color infrared photos taken April 13, 2003.  Orthorectification accomplished with Imagine Orthobase v8.6 software. RMSE is 1.047 meters meeting class 1 NMAS.</abstract>
      <purpose>The dataset was developed for use by Johnstown Flood National Memorial as a GIS component and for digital monoplotting and mapping.</purpose>
    </descript>
    <timeperd>
      <timeinfo>
        <sngdate>
          <caldate>20030413</caldate>
        </sngdate>
      </timeinfo>
      <current>ground condition</current>
    </timeperd>
    <status>
      <progress>Complete</progress>
      <update>Unknown</update>
    </status>
    <spdom>
      <descgeog>Johnstown Flood National Memorial and environs</descgeog>
      <bounding>
        <westbc>-78.798488</westbc>
        <eastbc>-78.745011</eastbc>
        <northbc>40.369566</northbc>
        <southbc>40.320807</southbc>
      </bounding>
    </spdom>
    <keywords>
      <theme>
        <themekt>none</themekt>
        <themekey>Orthorectification</themekey>
        <themekey>Color Infrared</themekey>
        <themekey>mosaic</themekey>
        <themekey>aerial photo</themekey>
        <themekey>CIR</themekey>
        <themekey>imagine</themekey>
        <themekey>leaf-off</themekey>
      </theme>
      <place>
        <placekt>none</placekt>
        <placekey>Pennsylvania</placekey>
        <placekey>National Park</placekey>
        <placekey>National Memorial</placekey>
        <placekey>Johnstown Flood</placekey>
      </place>
      <temporal>
        <tempkt>none</tempkt>
        <tempkey>20030413</tempkey>
        <tempkey>spring</tempkey>
        <tempkey>April</tempkey>
      </temporal>
    </keywords>
    <accconst>none</accconst>
    <useconst>none</useconst>
    <ptcontac>
      <cntinfo>
        <cntperp>
          <cntper>Nathan Piekielek</cntper>
        </cntperp>
        <cntpos>Data Manager</cntpos>
        <cntaddr>
          <addrtype>mailing and physical address</addrtype>
          <address>208 C Ferguson Building</address>
          <city>University Park</city>
          <state>Pennsylvania</state>
          <postal>16802</postal>
          <country>USA</country>
        </cntaddr>
        <cntvoice>(814) 863-2320</cntvoice>
        <cntemail>Nathan_Piekielek@nps.gov</cntemail>
      </cntinfo>
    </ptcontac>
    <datacred>William Millinor</datacred>
    <native>ERDAS Imagine IMG File and Mr. SID Compressed File</native>
  </idinfo>
  <dataqual>
    <logic>Raster Data</logic>
    <complete>Johnstown Flood National Memorial</complete>
    <posacc>
      <horizpa>
        <horizpar>Overall positional accuracy of 1.047 meters
Horizontal accuracy was assessed on the basis of 33 field survey points distributed throughout the image.  The actual field coordinates for these points were recorded with a Trimble ProXRS GPS unit with real-time differential correction with a minimum of 120 (180 unless field conditions were poor) fixes per point.  The field coordinates were then compared to the image mosaic coordinates for these points, determined in ESRI ArcView 3.3 software.</horizpar>
      </horizpa>
    </posacc>
    <lineage>
      <srcinfo>
        <srccite>
          <citeinfo>
            <origin>USGS (http://seamless.usgs.gov)</origin>
            <pubdate>unknown</pubdate>
            <title>30 Meter Digital Elevation Model- USGS National Elevation Dataset (NED)</title>
            <geoform>model</geoform>
          </citeinfo>
        </srccite>
        <srcscale>30 meter</srcscale>
        <typesrc>online</typesrc>
        <srctime>
          <timeinfo>
            <sngdate>
              <caldate>20031125</caldate>
            </sngdate>
          </timeinfo>
          <srccurr>20031125</srccurr>
        </srctime>
        <srccitea>dem</srccitea>
        <srccontr>elevation</srccontr>
      </srcinfo>
      <srcinfo>
        <srccite>
          <citeinfo>
            <origin>Kucera International, Inc</origin>
            <pubdate>Unpublished Material</pubdate>
            <title>Aerial photographs of Johnstown Flood National Memorial</title>
            <geoform>remote-sensing image</geoform>
          </citeinfo>
        </srccite>
        <srcscale>6000</srcscale>
        <typesrc>color ir aerial transparencies</typesrc>
        <srctime>
          <timeinfo>
            <sngdate>
              <caldate>20030413</caldate>
            </sngdate>
          </timeinfo>
          <srccurr>ground condition</srccurr>
        </srctime>
        <srccitea>photos</srccitea>
        <srccontr>Aerial view of Johnstown Flood National Memorial</srccontr>
      </srcinfo>
      <procstep>
        <procdesc>The photos (14 total) were used to create an orthorectified mosaic using ER Mapper 6.4 and Erdas Imagine 8.6. The photos were scanned at 1200 dpi and imported into Imagine. A 30 meter DEM was download from the NED and then resampled to 10 meters.  The images were orthorectified using ERDAS Imagine Orthobase software and Airborne GPS and IMU data. The orthorectified images were then mosaiced within ER Mapper to form one seamless basemap image for Johnstown Flood National Memorial . The mosaic was compressed using Mr. SID software at a 1:20 target compression ratio.</procdesc>
        <procdate>200402</procdate>
        <proccont>
          <cntinfo>
            <cntorgp>
              <cntorg>NCSU, Center for Earth Observation</cntorg>
            </cntorgp>
            <cntaddr>
              <addrtype>mailing address</addrtype>
              <address>NCSU, Center For Earth Observation
NCSU Campus Box 7106</address>
              <city>Raleigh</city>
              <state>NC</state>
              <postal>27695-7106</postal>
              <country>USA</country>
            </cntaddr>
            <cntvoice>919-515-3430</cntvoice>
            <cntfax>919-515-3439</cntfax>
          </cntinfo>
        </proccont>
      </procstep>
    </lineage>
  </dataqual>
  <spdoinfo>
    <direct>Raster</direct>
    <rastinfo>
      <rasttype>Pixel</rasttype>
      <rowcount>18083</rowcount>
      <colcount>15038</colcount>
    </rastinfo>
  </spdoinfo>
  <spref>
    <horizsys>
      <planar>
        <gridsys>
          <gridsysn>Universal Transverse Mercator</gridsysn>
          <utm>
            <utmzone>17</utmzone>
            <transmer>
              <sfctrmer>0.999600</sfctrmer>
              <longcm>-81.000000</longcm>
              <latprjo>0.000000</latprjo>
              <feast>500000.000000</feast>
              <fnorth>0.000000</fnorth>
            </transmer>
          </utm>
        </gridsys>
        <planci>
          <plance>row and column</plance>
          <coordrep>
            <absres>0.29336159</absres>
            <ordres>0.2933739</ordres>
          </coordrep>
          <plandu>meters</plandu>
        </planci>
      </planar>
      <geodetic>
        <horizdn>North American Datum of 1983</horizdn>
        <ellips>Geodetic Reference System 80</ellips>
        <semiaxis>6378137.000000</semiaxis>
        <denflat>298.257222</denflat>
      </geodetic>
    </horizsys>
  </spref>
  <eainfo>
    <detailed>
      <enttyp>
        <enttypl>jofl_final.sid.vat</enttypl>
        <enttypd>Table</enttypd>
        <enttypds>North Carolina State University, Center for Earth Observation</enttypds>
      </enttyp>
      <attr>
        <attrlabl>ObjectID</attrlabl>
        <attrdef>Internal feature number.</attrdef>
        <attrdefs>ESRI</attrdefs>
        <attrdomv>
          <udom>Sequential unique whole numbers that are automatically generated.</udom>
        </attrdomv>
      </attr>
      <attr>
        <attrlabl>Value</attrlabl>
        <attrdef>Internal feature number.</attrdef>
        <attrdefs>ESRI</attrdefs>
        <attrdomv>
          <udom>Sequential unique whole numbers that are automatically generated.</udom>
        </attrdomv>
      </attr>
      <attr>
        <attrlabl>Count</attrlabl>
        <attrdef>Number.</attrdef>
        <attrdefs>ESRI</attrdefs>
        <attrdomv>
          <udom>Numerical.</udom>
        </attrdomv>
      </attr>
    </detailed>
    <detailed>
      <enttyp>
        <enttypl>jofl_final.sid(Band_2).vat</enttypl>
        <enttypd>Table</enttypd>
        <enttypds>North Carolina State University, Center for Earth Observation</enttypds>
      </enttyp>
      <attr>
        <attrlabl>ObjectID</attrlabl>
        <attrdef>Internal feature number.</attrdef>
        <attrdefs>ESRI</attrdefs>
        <attrdomv>
          <udom>Sequential unique whole numbers that are automatically generated.</udom>
        </attrdomv>
      </attr>
      <attr>
        <attrlabl>Value</attrlabl>
        <attrdef>Internal feature number.</attrdef>
        <attrdefs>ESRI</attrdefs>
        <attrdomv>
          <udom>Sequential unique whole numbers that are automatically generated.</udom>
        </attrdomv>
      </attr>
      <attr>
        <attrlabl>Count</attrlabl>
        <attrdef>Number.</attrdef>
        <attrdefs>ESRI</attrdefs>
        <attrdomv>
          <udom>Numerical.</udom>
        </attrdomv>
      </attr>
    </detailed>
    <detailed>
      <enttyp>
        <enttypl>jofl_final.sid(Band_3).vat</enttypl>
        <enttypd>Table</enttypd>
        <enttypds>North Carolina State University, Center for Earth Observation</enttypds>
      </enttyp>
      <attr>
        <attrlabl>ObjectID</attrlabl>
        <attrdef>Internal feature number.</attrdef>
        <attrdefs>ESRI</attrdefs>
        <attrdomv>
          <udom>Sequential unique whole numbers that are automatically generated.</udom>
        </attrdomv>
      </attr>
      <attr>
        <attrlabl>Value</attrlabl>
        <attrdef>Internal feature number.</attrdef>
        <attrdefs>ESRI</attrdefs>
        <attrdomv>
          <udom>Sequential unique whole numbers that are automatically generated.</udom>
        </attrdomv>
      </attr>
      <attr>
        <attrlabl>Count</attrlabl>
        <attrdef>Number.</attrdef>
        <attrdefs>ESRI</attrdefs>
        <attrdomv>
          <udom>Numerical.</udom>
        </attrdomv>
      </attr>
    </detailed>
    <overview>
      <eaover>Dataset consists of a raster 3 band color image.  The bands are blue, green and near infrared.  Each pixel contains a value between 0 - 255.</eaover>
      <eadetcit>none</eadetcit>
    </overview>
  </eainfo>
  <distinfo>
    <distrib>
      <cntinfo>
        <cntorgp>
          <cntorg>USGS/CSS/Core Science Analytics and Synthesis</cntorg>
          <cntper>USGS-NPS Vegetation Characterization Program Coordinator</cntper>
        </cntorgp>
        <cntaddr>
          <addrtype>mailing and physical address</addrtype>
          <address>Denver Federal Center, Building 810, MS 302</address>
          <city>Denver</city>
          <state>Colorado</state>
          <postal>80225</postal>
        </cntaddr>
        <cntvoice>(303) 202-4220</cntvoice>
        <cntfax>303-202-4219</cntfax>
        <cntemail>gs-b-npsveg@usgs.gov</cntemail>
      </cntinfo>
    </distrib>
    <resdesc>Downloadable Data. Orthorectified 3 band color infrared image of Johnstown Flood National Memorial.</resdesc>
    <distliab>The U.S. Geological Survey and the National Park Service shall not be held liable for improper or incorrect use of the data described and/or contained herein.  These data and related graphics (if available) are not legal documents and are not intended to be used as such.

The information contained in these data is dynamic and may change over time.  The data are not better than the original sources from which they were derived.  It is the responsibility of the data user to use the data appropriately and consistent within the limitations of geospatial data in general and these data in particular.  Any related graphics (if available) are intended to aid the data user in acquiring relevant data; it is not approriate to use the related graphics as data.

The U.S. Geological Survey and the National Park Service gives no warranty, expressed or implied, as to the accuracy, reliability, or completeness of these data.  It is strongly recommended that these data are directly acquired from an U.S. Geological Survey and National Park Service servers and not indirectly through other sources which may have changed the data in some way.  Although these data have been processed successfully on a computer system at the U.S. Geological Survey, no warranty expressed or implied is made regarding the utility of the data on another system or for general or scientific purposes, nor shall the act of distribution constitute any such warranty. This disclaimer applies both to individual use of the data and aggregate use with other data. It is also strongly recommended that careful attention be paid to the contents of the metadata file associated with these data. Mention of trade names or commercial products in this metadata report does not constitute endorsement or recommendation for use by the U. S. Department of the Interior, U. S. Geological Survey and National Park Service.</distliab>
    <stdorder>
      <digform>
        <digtinfo>
          <formname>HTML</formname>
        </digtinfo>
        <digtopt>
          <onlinopt>
            <computer>
              <networka>
                <networkr>http://www.usgs.gov/core_science_systems/csas/vip/parks/jofl.html</networkr>
              </networka>
            </computer>
            <accinstr>Internet Access</accinstr>
          </onlinopt>
        </digtopt>
      </digform>
      <fees>None</fees>
    </stdorder>
    <custom>Contact
Natthan Piekielek
208 C Ferguson Building
University Park, PA  16802
814-863-2320
Nathan_Piekielek@nps.gov</custom>
  </distinfo>
  <metainfo>
    <metd>20040225</metd>
    <metrd>20100601</metrd>
    <metc>
      <cntinfo>
        <cntorgp>
          <cntorg>USGS/CSS/Core Science Analytics and Synthesis</cntorg>
          <cntper>USGS-NPS Vegetation Characterization Program Coordinator</cntper>
        </cntorgp>
        <cntaddr>
          <addrtype>mailing and physical address</addrtype>
          <address>Denver Federal Center, Building 810, MS 302</address>
          <city>Denver</city>
          <state>Colorado</state>
          <postal>80225</postal>
        </cntaddr>
        <cntvoice>(303) 202-4220</cntvoice>
        <cntfax>303-202-4219</cntfax>
        <cntemail>gs-b-npsveg@usgs.gov</cntemail>
      </cntinfo>
    </metc>
    <metstdn>FGDC Biological Data Profile of the Content Standard for Digital Geospatial Metadata</metstdn>
    <metstdv>FGDC-STD-001.1-1999</metstdv>
    <metextns>
      <onlink>http://www.usgs.gov/core_science_systems/csas/metadata/index.html</onlink>
    </metextns>
  </metainfo>
</metadata>
