<?xml version="1.0" encoding="UTF-8"?>
<metadata>
  <idinfo>
    <citation>
      <citeinfo>
        <origin>USDA-FSA Aerial Photography Field Office</origin>
        <pubdate>20091113</pubdate>
        <title>John Day Fossil Beds National Monument Vegetation Mapping Project - 2009 Sheeprock Orthorectified Photomosaic</title>
        <geoform>raster digital data</geoform>
        <pubinfo>
          <pubplace>Salt Lake City, Utah</pubplace>
          <publish>USDA FSA Aerial Photography Field Office</publish>
        </pubinfo>
        <onlink>http://www1.usgs.gov/vip/joda/joda/jodaortho3.zip</onlink>
        <onlink>doi:10.5066/F7NS0RT9</onlink>
      </citeinfo>
    </citation>
    <descript>
      <abstract>This data set contains imagery from the National Agriculture Imagery Program (NAIP).  The NAIP acquires digital ortho imagery during the agricultural growing seasons in the continental U.S.. A primary goal of the NAIP program is to enable availability of ortho imagery within one year of acquisition. The NAIP provides two main products: 1 meter ground sample distance (GSD) ortho imagery rectified to a horizontal accuracy within +/- 5 meters of reference digital ortho quarter quads (DOQQ's) from the National Digital Ortho Program (NDOP) or from the National Agriculture Imagery Program (NAIP); 1 meter GSD ortho imagery rectified within +/- 6 meters to true ground. The tiling format of NAIP imagery is based on a 3.75' x 3.75' quarter quadrangle with a 300 meter buffer on all four sides.  The NAIP imagery is formatted to the UTM coordinate system using the North American Datum of 1983 (NAD83). The NAIP imagery may contain as much as 10% cloud cover per tile. This file was generated by compressing NAIP imagery that cover the county extent. Two types of compression may be used for NAIP imagery: MrSID and JPEG 2000. Target value for the compression ratio is (15:1).</abstract>
      <purpose>The NAIP imagery is available for distribution within 60 days of the end of a flying season and is intended to provide current information of agricultural conditions in support of USDA farm programs. For USDA Farm Service Agency, the 1 meter GSD product provides an ortho image base for Common Land Unit boundaries and other data sets. The NAIP imagery is generally acquired in projects covering full states in cooperation with state government and other federal agencies who use the imagery for a variety of purposes including land use planning and natural resource assessment. The NAIP is also used for disaster response often providing the most current pre-event imagery.</purpose>
    </descript>
    <timeperd>
      <timeinfo>
        <sngdate>
          <caldate>20091113</caldate>
        </sngdate>
      </timeinfo>
      <current>Photography Source Image Dates.</current>
    </timeperd>
    <status>
      <progress>Complete</progress>
      <update>Irregular</update>
    </status>
    <spdom>
      <descgeog>John Day Fossil Beds National Monument and environs</descgeog>
      <bounding>
        <westbc>-119.812331</westbc>
        <eastbc>-119.476857</eastbc>
        <northbc>44.699075</northbc>
        <southbc>44.338098</southbc>
      </bounding>
    </spdom>
    <keywords>
      <theme>
        <themekt>None</themekt>
        <themekey>farming</themekey>
        <themekey>Digital Ortho rectified Image</themekey>
        <themekey>Mosaic</themekey>
        <themekey>Quarter Quadrangle Centered</themekey>
        <themekey>Ortho Rectification</themekey>
        <themekey>Compression</themekey>
        <themekey>MrSID</themekey>
        <themekey>JPEG 2000</themekey>
        <themekey>NAIP</themekey>
        <themekey>Compliance</themekey>
        <themekey>Aerial Compliance</themekey>
      </theme>
      <place>
        <placekt>Geographic Names Information System</placekt>
        <placekey>Wheeler CO. OR</placekey>
        <placekey>FIPS 41069</placekey>
        <placekey>Wheeler</placekey>
        <placekey>Oregon</placekey>
      </place>
    </keywords>
    <accconst>None</accconst>
    <useconst>None, The USDA-FSA Aerial Photography Field Office asks to be credited in derived products. If defects are found in the NAIP imagery during the warranty period such as horizontal offsets, replacement imagery may be provided. Imagery containing defects that require the acquisition of new imagery, such as excessive cloud cover, specular reflectance, etc., will not be replaced within a NAIP project year.</useconst>
    <ptcontac>
      <cntinfo>
        <cntorgp>
          <cntorg>USDA-FSA Aerial Photography Field Office</cntorg>
        </cntorgp>
        <cntaddr>
          <addrtype>mailing and physical address</addrtype>
          <address>2222 West 2300 South</address>
          <city>Salt Lake City</city>
          <state>Utah</state>
          <postal>84119-2020</postal>
          <country>USA</country>
        </cntaddr>
        <cntvoice>801-844-2922</cntvoice>
        <cntfax>801-956-3653</cntfax>
        <cntemail>Unknown</cntemail>
      </cntinfo>
    </ptcontac>
    <native>Microsoft Windows XP Version 5.1 (Build 2600) Service Pack 3; ESRI ArcCatalog 9.2.6.1500</native>
  </idinfo>
  <dataqual>
    <logic>NAIP 3.75 minute tile file names are based on the USGS quadrangle naming convention.</logic>
    <complete>None</complete>
    <posacc>
      <horizpa>
        <horizpar>FSA Digital Orthophoto Specifications.</horizpar>
      </horizpa>
      <vertacc>
        <vertaccr>N/A  2d only</vertaccr>
      </vertacc>
    </posacc>
    <lineage>
      <srcinfo>
        <srccite>
          <citeinfo>
            <origin>Aerial Photography Field Office</origin>
            <pubdate>20091113</pubdate>
            <title>Unknown</title>
            <geoform>imagery</geoform>
          </citeinfo>
        </srccite>
        <srcscale>12000</srcscale>
        <typesrc>CD/DVD</typesrc>
        <srctime>
          <timeinfo>
            <sngdate>
              <caldate>20091113</caldate>
            </sngdate>
          </timeinfo>
          <srccurr>Majority Aerial Photography Date</srccurr>
        </srctime>
        <srccitea>unknown</srccitea>
        <srccontr>Mosaicked County Image</srccontr>
      </srcinfo>
      <procstep>
        <procdesc>The 2009 NAIP Images for Wheeler and Grant Counties were clipped to just outside the JODA project boundary for the Sheeprock Unit using LizardTech Software.  The two clipped images were mosaiced and color balanced in Erdas Imagine software.  The final projection is NAD83, Zone 10, Units Meters, UTM.</procdesc>
        <procdate>20091113</procdate>
        <proccont>
          <cntinfo>
            <cntperp>
              <cntper>Dan Cogan</cntper>
              <cntorg>Cogan Technology, Inc</cntorg>
            </cntperp>
            <cntpos>Vice-president</cntpos>
            <cntaddr>
              <addrtype>mailing and physical address</addrtype>
              <address>21 Valley Road</address>
              <city>Galena</city>
              <state>IL</state>
              <postal>61036</postal>
              <country>USA</country>
            </cntaddr>
            <cntvoice>815-777-1773</cntvoice>
            <cntemail>dancogan@cogantech.com</cntemail>
            <hours>8-5</hours>
          </cntinfo>
        </proccont>
      </procstep>
      <procstep>
        <procdesc>Metadata imported.</procdesc>
        <srcused>Wheeler\ortho_imagery_NAIPM09_or069_1162577_01\ortho_imagery\ortho_1-1_1n_s_or069_2009_2.sid.xml</srcused>
        <procdate>Unknown</procdate>
      </procstep>
      <procstep>
        <procdesc>Metadata imported.</procdesc>
        <srcused>C:\Projects\nps\JODA\CD\Metadata\Basemap\Clarno_2009.xml</srcused>
        <procdate>Unknown</procdate>
      </procstep>
      <procstep>
        <procdesc>Metadata imported.</procdesc>
        <srcused>C:\Projects\nps\JODA\CD\Metadata\Basemap\Painted_Hills_2009.xml</srcused>
        <procdate>Unknown</procdate>
      </procstep>
    </lineage>
  </dataqual>
  <spdoinfo>
    <direct>Raster</direct>
    <rastinfo>
      <rasttype>Pixel</rasttype>
      <rowcount>78633</rowcount>
      <colcount>50832</colcount>
      <vrtcount>1</vrtcount>
    </rastinfo>
  </spdoinfo>
  <spref>
    <horizsys>
      <planar>
        <gridsys>
          <gridsysn>Universal Transverse Mercator</gridsysn>
          <utm>
            <utmzone>10</utmzone>
            <transmer>
              <sfctrmer>0.999600</sfctrmer>
              <longcm>-123.000000</longcm>
              <latprjo>0.000000</latprjo>
              <feast>500000.000000</feast>
              <fnorth>0.000000</fnorth>
            </transmer>
          </utm>
        </gridsys>
        <planci>
          <plance>row and column</plance>
          <coordrep>
            <absres>0.5</absres>
            <ordres>0.5</ordres>
          </coordrep>
          <plandu>meters</plandu>
        </planci>
      </planar>
      <geodetic>
        <horizdn>North American Datum of 1983</horizdn>
        <ellips>Geodetic Reference System 80</ellips>
        <semiaxis>6378137.000000</semiaxis>
        <denflat>298.257222</denflat>
      </geodetic>
    </horizsys>
  </spref>
  <eainfo>
    <overview>
      <eaover>None</eaover>
      <eadetcit>None</eadetcit>
    </overview>
  </eainfo>
  <distinfo>
    <distrib>
      <cntinfo>
        <cntorgp>
          <cntorg>USGS/CSS/Core Science Analytics and Synthesis</cntorg>
          <cntper>USGS-NPS Vegetation Mapping Program Coordinator</cntper>
        </cntorgp>
        <cntaddr>
          <addrtype>mailing and physical address</addrtype>
          <address>Denver Federal Center, Building 810, MS 302</address>
          <city>Denver</city>
          <state>Colorado</state>
          <postal>80225</postal>
        </cntaddr>
        <cntvoice>(303) 202-4220</cntvoice>
        <cntfax>303-202-4219</cntfax>
        <cntemail>gs-b-npsveg@usgs.gov</cntemail>
      </cntinfo>
    </distrib>
    <resdesc>Downloadable Data</resdesc>
    <distliab>The U.S. Geological Survey and the National Park Service shall not be held liable for improper or incorrect use of the data described and/or contained herein.  These data and related graphics (if available) are not legal documents and are not intended to be used as such.

The information contained in these data is dynamic and may change over time.  The data are not better than the original sources from which they were derived.  It is the responsibility of the data user to use the data appropriately and consistent within the limitations of geospatial data in general and these data in particular.  Any related graphics (if available) are intended to aid the data user in acquiring relevant data; it is not approriate to use the related graphics as data.

The U.S. Geological Survey and the National Park Service gives no warranty, expressed or implied, as to the accuracy, reliability, or completeness of these data.  It is strongly recommended that these data are directly acquired from an U.S. Geological Survey and National Park Service servers and not indirectly through other sources which may have changed the data in some way.  Although these data have been processed successfully on a computer system at the U.S. Geological Survey, no warranty expressed or implied is made regarding the utility of the data on another system or for general or scientific purposes, nor shall the act of distribution constitute any such warranty. This disclaimer applies both to individual use of the data and aggregate use with other data. It is also strongly recommended that careful attention be paid to the contents of the metadata file associated with these data. Mention of trade names or commercial products in this metadata report does not constitute endorsement or recommendation for use by the U. S. Department of the Interior, U. S. Geological Survey and National Park Service.</distliab>
    <stdorder>
      <digform>
        <digtinfo>
          <formname>HTML</formname>
        </digtinfo>
        <digtopt>
          <onlinopt>
            <computer>
              <networka>
                <networkr>http://www.usgs.gov/core_science_systems/csas/vip/parks/joda.html</networkr>
              </networka>
            </computer>
            <accinstr>Internet Access</accinstr>
          </onlinopt>
        </digtopt>
      </digform>
      <fees>None</fees>
    </stdorder>
  </distinfo>
  <metainfo>
    <metd>20100602</metd>
    <metrd>20120710</metrd>
    <metc>
      <cntinfo>
        <cntorgp>
          <cntorg>USGS/CSS/Core Science Analytics and Synthesis</cntorg>
          <cntper>USGS-NPS Vegetation Mapping Program Coordinator</cntper>
        </cntorgp>
        <cntaddr>
          <addrtype>mailing and physical address</addrtype>
          <address>Denver Federal Center, Building 810, MS 302</address>
          <city>Denver</city>
          <state>Colorado</state>
          <postal>80225</postal>
        </cntaddr>
        <cntvoice>(303) 202-4220</cntvoice>
        <cntfax>303-202-4219</cntfax>
        <cntemail>gs-b-npsveg@usgs.gov</cntemail>
      </cntinfo>
    </metc>
    <metstdn>FGDC Biological Data Profile of the Content Standard for Digital Geospatial Metadata</metstdn>
    <metstdv>FGDC-STD-001.1-1999</metstdv>
    <metextns>
      <onlink>http://www.nbii.gov/portal/server.pt/community/fgdc_metadata/255</onlink>
    </metextns>
  </metainfo>
</metadata>
