<?xml version="1.0" encoding="UTF-8"?>
<metadata>
  <idinfo>
    <citation>
      <citeinfo>
        <origin>U.S. Geological Survey Upper Midwest Environmental Science Center</origin>
        <pubdate>20070406</pubdate>
        <title>Indiana Dunes National Lakeshore Vegetation Mapping Project - Color Infrared Aerial Photosmosaics</title>
        <geoform>raster digital data</geoform>
        <onlink>http://www1.usgs.gov/vip/indu/induortho.zip</onlink>
        <onlink>doi:10.5066/F7BG2KZW</onlink>
      </citeinfo>
    </citation>
    <descript>
      <abstract>Color infrared (CIR) aerial photographs were acquired as baseline imagery data to produce vegetation spatial database coverages of Indiana Dunes National Lakeshore (INDU) and environs. The aerial photos were collected on October 21, 2004 and October 24, 2004 at a scale of 1:12,000 to capture peak fall leaf phenology. The U.S. Geological Survey (USGS) Upper Midwest Environmental Sciences Center (UMESC) of La Crosse, Wisconsin has produced spatially referenced aerial photo mosaic images of the aerial photographs for the East Unit, West Unit with Calumet Prairie, Pinhook Bog, Heron Rookery, Hobart Prairie Grove, and Hoosier Prairie units and their environs. The photo mosaics are raster datasets compressed with MrSID (LizardTech), projected in Universal Transverse Mercator (UTM), Zone 16, using the North American Datum of 1983 (NAD83).</abstract>
      <purpose>The 2004 color-infrared aerial photo mosaics were developed for use as a general reference image and to assist in the identification of vegetation. The aerial photo mosaics were produced as by-products from the Indiana Dunes National Lakeshore Vegetation Mapping Project, USGS-NPS Vegetation Mapping Program.  The USGS-NPS Vegetation Mapping Program is a cooperative effort by the U.S. Geological Survey and the National Park Service to classify, describe, and map vegetation communities in more than 270 national park units across the United States. This landmark program is both the first to provide national-scale descriptions of vegetation for a federal agency and the first to create national vegetation standards for its data products. Its goal is to meet specific information needs identified by the National Park Service.</purpose>
      <supplinf>The software program MrSid Geospatial Encoder version 1.4 was used to compress the photo mosaic, at a rate of 20:1. The 9x9-inch aerial photo transparencies were collected at a scale of 1:12,000 and scanned at a resolution of 1270 dots per inch by Williams Aerial &amp;amp; Mapping, Inc. in South Bend, Indiana. During the registration process the data were resampled by UMESC using the software program IrfanView, to a resolution of 635 dots per inch, to produce a final image containing 0.5-meter square pixels. A software program capable of viewing these data is required to access the compressed mosaic. Freeware viewers are available from the LizardTech software company, at http://www.lizardtech.com/. Some of the newer viewers have difficulties reading this particular image. Users need to make sure they download a viewer capable of accessing images created using version 1.4 MrSid Geospatial Encoder software.  Also, web browser plugins that allow anyone to view, measure, or export any MrSID images using Internet Explorer or Firefox can be found at http://www.lizardtech.com/downloads/plugins.php.

The initial product delivery for the Indiana Dunes National Lakeshore Vegetation Mapping Project was in October 2008.  An update to select products was completed in September 2009. Since the initial delivery of products, the program name has undergone a name change.  For purposes of this metadata, most references to the "USGS-NPS Vegetation Mapping Program" are now the "NPS Vegetation Inventory Program."  Occasionally, references to point of contacts are now the "USGS Vegetation Characterization Program."</supplinf>
    </descript>
    <timeperd>
      <timeinfo>
        <rngdates>
          <begdate>20041021</begdate>
          <enddate>20041024</enddate>
        </rngdates>
      </timeinfo>
      <current>ground condition</current>
    </timeperd>
    <status>
      <progress>Complete</progress>
      <update>None planned</update>
    </status>
    <spdom>
      <descgeog>Indiana Dunes National Lakeshore and environs</descgeog>
      <bounding>
        <westbc>-87.484003</westbc>
        <eastbc>-86.823354</eastbc>
        <northbc>41.726286</northbc>
        <southbc>41.497692</southbc>
      </bounding>
    </spdom>
    <keywords>
      <theme>
        <themekt>None</themekt>
        <themekey>Aerial Photographs</themekey>
        <themekey>Aerial Photography</themekey>
        <themekey>Color Infrared</themekey>
        <themekey>Photo Mosaic</themekey>
        <themekey>Orthophoto</themekey>
        <themekey>U.S. Geological Survey</themekey>
        <themekey>National Park Service</themekey>
        <themekey>USGS-NPS Vegetation Mapping Program</themekey>
      </theme>
      <place>
        <placekt>Geographic Names</placekt>
        <placekey>Indiana Dunes National Lakeshore</placekey>
        <placekey>INDU</placekey>
        <placekey>East Unit</placekey>
        <placekey>West Unit</placekey>
        <placekey>Calumet Prairie</placekey>
        <placekey>Pinhook Bog</placekey>
        <placekey>Heron Rookery</placekey>
        <placekey>Hobart Prairie</placekey>
        <placekey>Hoosier Prairie</placekey>
        <placekey>Lake County</placekey>
        <placekey>La Porte County</placekey>
        <placekey>Porter County</placekey>
        <placekey>Indiana</placekey>
        <placekey>USA</placekey>
        <placekey>None</placekey>
      </place>
    </keywords>
    <accconst>None</accconst>
    <useconst>Software capable of viewing MrSid format image files (version 1.4) is required to access these data.</useconst>
    <ptcontac>
      <cntinfo>
        <cntorgp>
          <cntorg>USGS - Upper Midwest Environmental Sciences Center</cntorg>
        </cntorgp>
        <cntpos>Resource Mapping and Spatial Analysis Team</cntpos>
        <cntaddr>
          <addrtype>mailing and physical address</addrtype>
          <address>U.S. Geological Survey; Upper Midwest Environmental Sciences Center</address>
          <address>2630 Fanta Reed Road</address>
          <city>La Crosse</city>
          <state>WI</state>
          <postal>54603-1223</postal>
          <country>USA</country>
        </cntaddr>
        <cntvoice>608-783-6451</cntvoice>
        <cntfax>608-783-6066</cntfax>
        <cntemail>metadata_coordinator@umesc.er.usgs.gov</cntemail>
        <hours>7:30 a.m. to 4:00 p.m. Monday Through Friday</hours>
      </cntinfo>
    </ptcontac>
    <native>Microsoft Windows 2000 Version 5.2 (Build 3790) Service Pack 2; ESRI ArcCatalog 9.2.0.1324</native>
  </idinfo>
  <dataqual>
    <logic>As the orthorectified images were created, each processing step included procedures used to check the content and spatial accuracy. If at any time the product did not meet the standards set for a processing procedure, the procedure was repeated.</logic>
    <complete>Every aerial photo was orthorectified within the project boundary (INDU park boundary with 400-meter buffer).</complete>
    <posacc>
      <horizpa>
        <horizpar>The horizontal positional accuracy was tested by visual comparisons between the orthorectified INDU color-infrared aerial photographs and existing high-resolution true-color orthophotos for the same area. The referenced orthophotos had a horizontal root mean square error (RMSE) of no greater than 2.0 meters.</horizpar>
      </horizpa>
    </posacc>
    <lineage>
      <srcinfo>
        <srccite>
          <citeinfo>
            <origin>Williams Aerial Mapping, Inc</origin>
            <pubdate>20041108</pubdate>
            <title>2004 Color Infrared Aerial Photos Indiana Dunes National Lakeshore</title>
            <geoform>imagery</geoform>
            <pubinfo>
              <pubplace>South Bend, Indiana</pubplace>
              <publish>Williams Aerial Mapping, Inc</publish>
            </pubinfo>
          </citeinfo>
        </srccite>
        <srcscale>12000</srcscale>
        <typesrc>9x9-inch format color-infrared transparency</typesrc>
        <srctime>
          <timeinfo>
            <rngdates>
              <begdate>20041021</begdate>
              <enddate>20041024</enddate>
            </rngdates>
          </timeinfo>
          <srccurr>ground condition</srccurr>
        </srctime>
        <srccitea>2004 CIR Aerial Photographs</srccitea>
        <srccontr>The digital scans were used to create the aerial photo mosaics.</srccontr>
      </srcinfo>
      <srcinfo>
        <srccite>
          <citeinfo>
            <origin>Williams Aerial Mapping, Inc</origin>
            <pubdate>20051101</pubdate>
            <title>0.2-Meter True Color Orthophotos</title>
            <geoform>orthorectified imagery in Tagged Image File</geoform>
            <pubinfo>
              <pubplace>South Bend, Indiana</pubplace>
              <publish>Williams Aerial Mapping, Inc</publish>
            </pubinfo>
          </citeinfo>
        </srccite>
        <srcscale>12000</srcscale>
        <typesrc>Digital Raster Data</typesrc>
        <srctime>
          <timeinfo>
            <sngdate>
              <caldate>20050401</caldate>
            </sngdate>
          </timeinfo>
          <srccurr>ground condition</srccurr>
        </srctime>
        <srccitea>True-Color Orthophotos</srccitea>
        <srccontr>The true-color orthophotos were used as background imagery
for orthorectifying the 2004 CIR aerial photographs. Orthorectifying was completed using Orthomapper.</srccontr>
      </srcinfo>
      <srcinfo>
        <srccite>
          <citeinfo>
            <origin>U.S. Geological Survey Eros Data Center</origin>
            <pubdate>Unknown</pubdate>
            <title>National Elevation Data (NED) - 1/3 Arc Second Data</title>
            <geoform>raster digital data</geoform>
            <pubinfo>
              <pubplace>Sioux Falls, SD</pubplace>
              <publish>U.S. Geological Survey</publish>
            </pubinfo>
            <othercit>The U.S. Geological Survey has developed a National Elevation Dataset (NED). The NED is a seamless mosaic of best-available elevation data. The 7.5-minute elevation data for the conterminous United States are the primary initial source data. In addition to the availability of complete 7.5-minute data, efficient processing methods were developed to filter production artifacts in the existing data, convert to the NAD83 datum, edge-match, and fill slivers of missing data at quadrangle seams. One of the effects of the NED processing steps is a much-improved base of elevation data for calculating slope and hydrologic derivatives. The specifications for the NED 1 arc second and 1/3 arc second data are: Geographic coordinate system Horizontal datum of NAD83, except for AK which is NAD27 Vertical datum of NAVD88, except for AK which is NAVD29 Z units of meters.</othercit>
            <onlink>http://gisdata.usgs.gov/website/seamless/viewer.htm</onlink>
          </citeinfo>
        </srccite>
        <srcscale>24000</srcscale>
        <typesrc>Digital database file</typesrc>
        <srctime>
          <timeinfo>
            <sngdate>
              <caldate>Unknown</caldate>
            </sngdate>
          </timeinfo>
          <srccurr>Unknown</srccurr>
        </srctime>
        <srccitea>1/3 NED Data</srccitea>
        <srccontr>NED was used as the elevation data for orthorectifying the 2004 CIR Aerial Photographs. Orthorectifying was completed using Orthomapper.</srccontr>
      </srcinfo>
      <procstep>
        <procdesc>The software program Orthomapper version 3.23 was used to orthorectify the individual aerial photographs. During this process, existing orthophotos for the region were used to obtain coordinates for various points on the photos, and existing elevation data were used to provide elevation information. The orthorectification process uses these data inputs to (a) determine where on earth the image was collected, and (b) remove distortions that may exist within the image, or were caused by changes in elevation. The output images contained 0.5x0.5-meter pixels.</procdesc>
        <srcused>2004 CIR Aerial Photographs</srcused>
        <srcused>True-Color Orthophotos</srcused>
        <srcused>1/3 NED Data</srcused>
        <procdate>20061001</procdate>
      </procstep>
      <procstep>
        <procdesc>Each image was trimmed to remove camera fiducials (i.e., registration marks) from the images.</procdesc>
        <procdate>Unknown</procdate>
      </procstep>
      <procstep>
        <procdesc>The software program Image Analysis 1.1 was used to mosaic the orthorectified aerial photos for three of the units (East Unit, West Unit with Calumet Prairie, and Hobart Prairie Grove), and the software program Orthomapper version 3.23 was used to mosaic the remaining three units (Pinhook Bog, Heron Rookery, and Hoosier Prairie). These images were stored in Tagged Image File Format (TIFF).</procdesc>
        <procdate>20070301</procdate>
      </procstep>
      <procstep>
        <procdesc>The software program MrSid Geospatial Encoder version 1.4 was used to compress the individual mosaics using a 20:1 compression ratio. The result was six orthorectified MrSid (.sid) format images.</procdesc>
        <procdate>20070301</procdate>
        <proccont>
          <cntinfo>
            <cntorgp>
              <cntorg>USGS - Upper Midwest Environmental Sciences Center</cntorg>
            </cntorgp>
            <cntpos>Resource Mapping and Spatial Analysis Team</cntpos>
            <cntaddr>
              <addrtype>mailing and physical address</addrtype>
              <address>U.S. Geological Survey; Upper Midwest Environmental Sciences Center</address>
              <address>2630 Fanta Reed Road</address>
              <city>La Crosse</city>
              <state>Wisconsin</state>
              <postal>54603-1223</postal>
              <country>USA</country>
            </cntaddr>
            <cntvoice>608-783-6451</cntvoice>
            <cntfax>608-783-6066</cntfax>
            <cntemail>metadata_coordinator@umesc.er.usgs.gov</cntemail>
            <hours>7:30 a.m. to 4:00 p.m. Monday Through Friday</hours>
          </cntinfo>
        </proccont>
      </procstep>
    </lineage>
  </dataqual>
  <spdoinfo>
    <direct>Raster</direct>
    <rastinfo>
      <rasttype>Pixel</rasttype>
      <rowcount>35886</rowcount>
      <colcount>73609</colcount>
    </rastinfo>
  </spdoinfo>
  <spref>
    <horizsys>
      <planar>
        <gridsys>
          <gridsysn>Universal Transverse Mercator</gridsysn>
          <utm>
            <utmzone>16</utmzone>
            <transmer>
              <sfctrmer>0.999600</sfctrmer>
              <longcm>-87.000000</longcm>
              <latprjo>0.000000</latprjo>
              <feast>500000.000000</feast>
              <fnorth>0.000000</fnorth>
            </transmer>
          </utm>
        </gridsys>
        <planci>
          <plance>row and column</plance>
          <coordrep>
            <absres>0.500000</absres>
            <ordres>0.500000</ordres>
          </coordrep>
          <plandu>meters</plandu>
        </planci>
      </planar>
      <geodetic>
        <horizdn>North American Datum of 1983</horizdn>
        <ellips>Geodetic Reference System 80</ellips>
        <semiaxis>6378137.000000</semiaxis>
        <denflat>298.257222</denflat>
      </geodetic>
    </horizsys>
  </spref>
  <distinfo>
    <distrib>
      <cntinfo>
        <cntorgp>
          <cntorg>USGS/CSS/Core Science Analytics and Synthesis</cntorg>
          <cntper>USGS-NPS Vegetation Characterization Program Coordinator</cntper>
        </cntorgp>
        <cntaddr>
          <addrtype>mailing and physical address</addrtype>
          <address>Denver Federal Center, Building 810, MS 302</address>
          <city>Denver</city>
          <state>Colorado</state>
          <postal>80225</postal>
        </cntaddr>
        <cntvoice>(303) 202-4220</cntvoice>
        <cntfax>303-202-4219</cntfax>
        <cntemail>gs-b-npsveg@usgs.gov</cntemail>
      </cntinfo>
    </distrib>
    <resdesc>Downloadable Data. Arches National Park Orthophotos.</resdesc>
    <distliab>The U.S. Geological Survey and the National Park Service shall not be held liable for improper or incorrect use of the data described and/or contained herein.  These data and related graphics (if available) are not legal documents and are not intended to be used as such.

The information contained in these data is dynamic and may change over time.  The data are not better than the original sources from which they were derived.  It is the responsibility of the data user to use the data appropriately and consistent within the limitations of geospatial data in general and these data in particular.  Any related graphics (if available) are intended to aid the data user in acquiring relevant data; it is not approriate to use the related graphics as data.

The U.S. Geological Survey and the National Park Service gives no warranty, expressed or implied, as to the accuracy, reliability, or completeness of these data.  It is strongly recommended that these data are directly acquired from an U.S. Geological Survey and National Park Service servers and not indirectly through other sources which may have changed the data in some way.  Although these data have been processed successfully on a computer system at the U.S. Geological Survey, no warranty expressed or implied is made regarding the utility of the data on another system or for general or scientific purposes, nor shall the act of distribution constitute any such warranty. This disclaimer applies both to individual use of the data and aggregate use with other data. It is also strongly recommended that careful attention be paid to the contents of the metadata file associated with these data. Mention of trade names or commercial products in this metadata report does not constitute endorsement or recommendation for use by the U. S. Department of the Interior, U. S. Geological Survey and National Park Service.</distliab>
    <stdorder>
      <digform>
        <digtinfo>
          <formname>HTML</formname>
        </digtinfo>
        <digtopt>
          <onlinopt>
            <computer>
              <networka>
                <networkr>http://www.usgs.gov/core_science_systems/csas/vip/parks/indu.html</networkr>
              </networka>
            </computer>
            <accinstr>Internet Access</accinstr>
          </onlinopt>
        </digtopt>
      </digform>
      <fees>None</fees>
    </stdorder>
  </distinfo>
  <metainfo>
    <metd>20090930</metd>
    <metrd>20100531</metrd>
    <metc>
      <cntinfo>
        <cntorgp>
          <cntorg>USGS/CSS/Core Science Analytics and Synthesis</cntorg>
          <cntper>USGS-NPS Vegetation Characterization Program Coordinator</cntper>
        </cntorgp>
        <cntaddr>
          <addrtype>mailing and physical address</addrtype>
          <address>Denver Federal Center, Building 810, MS 302</address>
          <city>Denver</city>
          <state>Colorado</state>
          <postal>80225</postal>
        </cntaddr>
        <cntvoice>(303) 202-4220</cntvoice>
        <cntfax>303-202-4219</cntfax>
        <cntemail>gs-b-npsveg@usgs.gov</cntemail>
      </cntinfo>
    </metc>
    <metstdn>FGDC Biological Data Profile of the Content Standard for Digital Geospatial Metadata</metstdn>
    <metstdv>FGDC-STD-001.1-1999</metstdv>
    <metextns>
      <onlink>http://www.usgs.gov/core_science_systems/csas/metadata/index.html</onlink>
    </metextns>
  </metainfo>
</metadata>
