<?xml version="1.0" encoding="UTF-8"?>
<metadata>
  <idinfo>
    <citation>
      <citeinfo>
        <origin>North Carolina State University, Center for Earth Observation</origin>
        <pubdate>20041007</pubdate>
        <title>Gateway National Recreation Area Vegetation Mapping Project - Color Infrared Orthorectified Photomosaic Sandy Hook Unit</title>
        <edition>final</edition>
        <geoform>remote-sensing image</geoform>
        <onlink>http://www1.usgs.gov/vip/gate/gateortho.zip</onlink>
        <onlink>doi:10.5066/F7707ZDD</onlink>
      </citeinfo>
    </citation>
    <descript>
      <abstract>Orthorectified color infrared ERDAS Imagine image of the Sandy Hook Unit of Gateway National Recreation Area (sandyhook_mosaic.img).  Produced from 27 color infrared photos taken December 17, 2002.  Orthorectification accomplished with Imagine software.  The overall positional accuracy for the photomosaic is 2.08 meters RMSE.</abstract>
      <purpose>The dataset was developed for use by the Sandy Hook Unit of Gateway National Recreation Area as a GIS component and for digital monoplotting and mapping.</purpose>
    </descript>
    <timeperd>
      <timeinfo>
        <sngdate>
          <caldate>20021217</caldate>
        </sngdate>
      </timeinfo>
      <current>ground condition</current>
    </timeperd>
    <status>
      <progress>Complete</progress>
      <update>Unknown</update>
    </status>
    <spdom>
      <descgeog>Sandy Hook Unit of Gateway National Recreation Area</descgeog>
      <bounding>
        <westbc>-74.030782</westbc>
        <eastbc>-73.962830</eastbc>
        <northbc>40.481604</northbc>
        <southbc>40.388026</southbc>
      </bounding>
    </spdom>
    <keywords>
      <theme>
        <themekt>none</themekt>
        <themekey>Orthorectification</themekey>
        <themekey>Color Infrared</themekey>
        <themekey>mosaic</themekey>
        <themekey>aerial photo</themekey>
        <themekey>CIR</themekey>
        <themekey>imagine</themekey>
        <themekey>leaf-off</themekey>
      </theme>
      <place>
        <placekt>none</placekt>
        <placekey>New York</placekey>
        <placekey>Gateway National Recreation Area</placekey>
        <placekey>National Park</placekey>
        <placekey>Gateway</placekey>
        <placekey>Sandy Hook</placekey>
      </place>
      <temporal>
        <tempkt>none</tempkt>
        <tempkey>December</tempkey>
        <tempkey>2002</tempkey>
      </temporal>
    </keywords>
    <accconst>none</accconst>
    <useconst>none</useconst>
    <ptcontac>
      <cntinfo>
        <cntperp>
          <cntper>Sara Stevens</cntper>
        </cntperp>
        <cntpos>Data Manager, Northeast Coastal and Barrier Network</cntpos>
        <cntaddr>
          <addrtype>mailing and physical address</addrtype>
          <address>University of Rhode Island
105 Coastal Institute in Kingston</address>
          <city>Kingston</city>
          <state>Rhode Island</state>
          <postal>02881</postal>
          <country>USA</country>
        </cntaddr>
        <cntvoice>(401) 874-4548</cntvoice>
        <cntemail>sara_stevens@nps.gov</cntemail>
      </cntinfo>
    </ptcontac>
    <browse>
      <browsen>http://www1.usgs.gov/vip/gate/gateortho.pdf</browsen>
      <browsed>Orthophoto; low resolution for web browsing.</browsed>
      <browset>PDF</browset>
    </browse>
    <datacred>Bill Frament</datacred>
    <native>ERDAS Imagine IMG File and Mr. SID Compressed File</native>
  </idinfo>
  <dataqual>
    <logic>none</logic>
    <complete>Sandy Hook Unit of Gateway National Recreation Area</complete>
    <posacc>
      <horizpa>
        <horizpar>Overall positional accuracy of 2.08 meters RMSE.
Horizontal accuracy was assessed on the basis of 36 field survey points distributed throughout the image and collected by Kathy Mellander.  The actual field coordinates for these points were recorded with a Trimble ProXRS GPS unit with real-time differential correction with a minimum of 120 (180 unless field conditions were poor) fixes per point.  The field coordinates were then compared to the image mosaic coordinates for these points, determined in ESRI ArcMap.</horizpar>
      </horizpa>
    </posacc>
    <lineage>
      <srcinfo>
        <srccite>
          <citeinfo>
            <origin>William Frament</origin>
            <pubdate>Unpublished Material</pubdate>
            <title>Aerial photographs of the Sandy Hook Unit of Gateway National Recreation Area</title>
            <geoform>remote-sensing image</geoform>
          </citeinfo>
        </srccite>
        <srcscale>8000</srcscale>
        <typesrc>color ir aerial transparencies</typesrc>
        <srctime>
          <timeinfo>
            <sngdate>
              <caldate>20021217</caldate>
            </sngdate>
          </timeinfo>
          <srccurr>ground condition</srccurr>
        </srctime>
        <srccitea>photos</srccitea>
        <srccontr>Aerial view of the Sandy Hook Unit of Gateway National Recreation Area</srccontr>
      </srcinfo>
      <srcinfo>
        <srccite>
          <citeinfo>
            <origin>USGS</origin>
            <pubdate>unknown</pubdate>
            <title>USGS National Digital Orthophotography Program</title>
            <geoform>remote-sensing image</geoform>
          </citeinfo>
        </srccite>
        <srcscale>40000</srcscale>
        <typesrc>cd-rom</typesrc>
        <srctime>
          <timeinfo>
            <sngdate>
              <caldate>unknown</caldate>
            </sngdate>
          </timeinfo>
          <srccurr>ground condition</srccurr>
        </srctime>
        <srccitea>photos</srccitea>
        <srccontr>ground control (x and y) for creation of orthophotos mosaics of the Sandy Hook Unit of Gateway National Recreation Area</srccontr>
      </srcinfo>
      <srcinfo>
        <srccite>
          <citeinfo>
            <origin>USGS (http://seamless.usgs.gov)</origin>
            <pubdate>unknown</pubdate>
            <title>30 Meter Digital Elevation Model- USGS National Elevation Dataset (NED)</title>
            <geoform>model</geoform>
          </citeinfo>
        </srccite>
        <srcscale>30 meter</srcscale>
        <typesrc>online</typesrc>
        <srctime>
          <timeinfo>
            <sngdate>
              <caldate>200304</caldate>
            </sngdate>
          </timeinfo>
          <srccurr>200304</srccurr>
        </srctime>
        <srccitea>dem</srccitea>
        <srccontr>elevation (z values)</srccontr>
      </srcinfo>
      <procstep>
        <procdesc>The photos (37 total) were used to create an orthorectified mosaic using ER Mapper 6.4 and Erdas Imagine 8.7. The photos were scanned at 600 dpi and imported into Imagine. The individual DOQQs were mosaiced to create a single file for use as ground control. The images were orthorectified in ERDAS Imagine software using the DOQQs and the DEM as ground control. The orthorectified images were then mosaiced into 2 flightlines within Imagine. These flightlines were then sent to North Carolina State University to be mosaicked into a single seamless basemap using ER Mapper. The final seamless mosaic was compressed using Mr. SID software at a 1:20 target compression ratio.</procdesc>
        <procdate>200307</procdate>
        <proccont>
          <cntinfo>
            <cntorgp>
              <cntorg>Northeastern Research Station</cntorg>
            </cntorgp>
            <cntaddr>
              <addrtype>mailing address</addrtype>
              <address>271 Mast Road
P.O. Box 640</address>
              <city>Durham</city>
              <state>NH</state>
              <postal>03824</postal>
              <country>USA</country>
            </cntaddr>
            <cntvoice>603-868-7707</cntvoice>
          </cntinfo>
        </proccont>
      </procstep>
    </lineage>
  </dataqual>
  <spdoinfo>
    <direct>Raster</direct>
    <rastinfo>
      <rasttype>Pixel</rasttype>
      <rowcount>29399</rowcount>
      <colcount>16080</colcount>
    </rastinfo>
  </spdoinfo>
  <spref>
    <horizsys>
      <planar>
        <gridsys>
          <gridsysn>Universal Transverse Mercator</gridsysn>
          <utm>
            <utmzone>18</utmzone>
            <transmer>
              <sfctrmer>0.999600</sfctrmer>
              <longcm>-75.000000</longcm>
              <latprjo>0.000000</latprjo>
              <feast>500000.000000</feast>
              <fnorth>0.000000</fnorth>
            </transmer>
          </utm>
        </gridsys>
        <planci>
          <plance>row and column</plance>
          <coordrep>
            <absres>0.351186</absres>
            <ordres>0.351186</ordres>
          </coordrep>
          <plandu>meters</plandu>
        </planci>
      </planar>
      <geodetic>
        <horizdn>North American Datum of 1983</horizdn>
        <ellips>Geodetic Reference System 80</ellips>
        <semiaxis>6378137.000000</semiaxis>
        <denflat>298.257222</denflat>
      </geodetic>
    </horizsys>
  </spref>
  <eainfo>
    <overview>
      <eaover>Dataset consists of a raster 3 band color image.  The bands are blue, green and near infrared.  Each pixel contains a value between 0 - 255.</eaover>
      <eadetcit>none</eadetcit>
    </overview>
  </eainfo>
  <distinfo>
    <distrib>
      <cntinfo>
        <cntorgp>
          <cntorg>USGS/CSS/Core Science Analytics and Synthesis</cntorg>
          <cntper>USGS-NPS Vegetation Characterization Program Coordinator</cntper>
        </cntorgp>
        <cntaddr>
          <addrtype>mailing and physical address</addrtype>
          <address>Denver Federal Center, Building 810, MS 302</address>
          <city>Denver</city>
          <state>Colorado</state>
          <postal>80225</postal>
        </cntaddr>
        <cntvoice>(303) 202-4220</cntvoice>
        <cntfax>303-202-4219</cntfax>
        <cntemail>gs-b-npsveg@usgs.gov</cntemail>
      </cntinfo>
    </distrib>
    <resdesc>Downloadable Data</resdesc>
    <distliab>The U.S. Geological Survey and the National Park Service shall not be held liable for improper or incorrect use of the data described and/or contained herein.  These data and related graphics (if available) are not legal documents and are not intended to be used as such.

The information contained in these data is dynamic and may change over time.  The data are not better than the original sources from which they were derived.  It is the responsibility of the data user to use the data appropriately and consistent within the limitations of geospatial data in general and these data in particular.  Any related graphics (if available) are intended to aid the data user in acquiring relevant data; it is not approriate to use the related graphics as data.

The U.S. Geological Survey and the National Park Service gives no warranty, expressed or implied, as to the accuracy, reliability, or completeness of these data.  It is strongly recommended that these data are directly acquired from an U.S. Geological Survey and National Park Service servers and not indirectly through other sources which may have changed the data in some way.  Although these data have been processed successfully on a computer system at the U.S. Geological Survey, no warranty expressed or implied is made regarding the utility of the data on another system or for general or scientific purposes, nor shall the act of distribution constitute any such warranty. This disclaimer applies both to individual use of the data and aggregate use with other data. It is also strongly recommended that careful attention be paid to the contents of the metadata file associated with these data. Mention of trade names or commercial products in this metadata report does not constitute endorsement or recommendation for use by the U. S. Department of the Interior, U. S. Geological Survey and National Park Service.</distliab>
    <stdorder>
      <digform>
        <digtinfo>
          <formname>HTML</formname>
        </digtinfo>
        <digtopt>
          <onlinopt>
            <computer>
              <networka>
                <networkr>http://www.usgs.gov/core_science_systems/csas/vip/parks/gate.html</networkr>
              </networka>
            </computer>
            <accinstr>Internet Access</accinstr>
          </onlinopt>
        </digtopt>
      </digform>
      <fees>None</fees>
    </stdorder>
  </distinfo>
  <metainfo>
    <metd>20041007</metd>
    <metrd>20100526</metrd>
    <metc>
      <cntinfo>
        <cntorgp>
          <cntorg>USGS/CSS/Core Science Analytics and Synthesis</cntorg>
          <cntper>USGS-NPS Vegetation Characterization Program Coordinator</cntper>
        </cntorgp>
        <cntaddr>
          <addrtype>mailing and physical address</addrtype>
          <address>Denver Federal Center, Building 810, MS 302</address>
          <city>Denver</city>
          <state>Colorado</state>
          <postal>80225</postal>
        </cntaddr>
        <cntvoice>(303) 202-4220</cntvoice>
        <cntfax>303-202-4219</cntfax>
        <cntemail>gs-b-npsveg@usgs.gov</cntemail>
      </cntinfo>
    </metc>
    <metstdn>FGDC Biological Data Profile of the Content Standard for Digital Geospatial Metadata</metstdn>
    <metstdv>FGDC-STD-001.1-1999</metstdv>
    <metextns>
      <onlink>http://www.usgs.gov/core_science_systems/csas/metadata/index.html</onlink>
    </metextns>
  </metainfo>
</metadata>
