<?xml version="1.0" encoding="UTF-8"?>
<metadata>
  <idinfo>
    <citation>
      <citeinfo>
        <origin>Farm Services Agency Aerial Photo Field Office (APFO)</origin>
        <pubdate>20040721</pubdate>
        <title>Fossil Butte National Monument Vegetation Mapping Project - True Color Orthophotography</title>
        <geoform>remote-sensing image</geoform>
        <pubinfo>
          <pubplace>Salt Lake City, Utah</pubplace>
          <publish>USDA Farm Service Agency</publish>
        </pubinfo>
        <othercit>Flown by Valley Air Photos, LLC of Caldwell, Idaho</othercit>
        <onlink>http://www1.usgs.gov/vip/fobu/fobuortho.zip</onlink>
        <onlink>doi:10.5066/F75B00CJ</onlink>
      </citeinfo>
    </citation>
    <descript>
      <abstract>This photo mosaic of Fossil Butte National Monument was created from scanned 9x9s flown in 2004 in conjunction with the Vegetation Mapping Program. The photography was acquired at a nominal elevation of 6,000 ft (1,829 m) above ground level in a Cessna T210N aircraft. A Wild RC10 camera with 15.3 cm (6 in) lens was used with Kodak Aerocolor negative film. The target scale for this photography was 1:12,000 (1 in = 1,000 ft). The mission was designed with approximately 30% sidelap between flight lines and 60% overlap between photos. The project encompassed 22 linear km (13.7 miles) divided among 6 flight lines and 57 individual photos</abstract>
      <purpose>The purpose of this image was to complete vegetation mapping at a scale of 1:12,000.</purpose>
    </descript>
    <timeperd>
      <timeinfo>
        <sngdate>
          <caldate>20040721</caldate>
        </sngdate>
      </timeinfo>
      <current>ground condition</current>
    </timeperd>
    <status>
      <progress>Complete</progress>
      <update>None planned</update>
    </status>
    <spdom>
      <descgeog>Fossil Butte National Monument and environs</descgeog>
      <bounding>
        <westbc>-110.828086</westbc>
        <eastbc>-110.705740</eastbc>
        <northbc>41.908180</northbc>
        <southbc>41.813154</southbc>
      </bounding>
    </spdom>
    <keywords>
      <theme>
        <themekt>None</themekt>
        <themekey>Aerial Photography</themekey>
        <themekey>Color Photography</themekey>
        <themekey>Orthophoto</themekey>
        <themekey>DOQ</themekey>
      </theme>
      <theme>
        <themekt>National Park Service Theme Category Thesaurus</themekt>
        <themekey>Digital Orthophoto</themekey>
      </theme>
      <theme>
        <themekt>ISO 19115 Topic Category</themekt>
        <themekey>imageryBaseMapsEarthCover</themekey>
      </theme>
      <place>
        <placekt>None</placekt>
        <placekey>Fossil Butte National Monument</placekey>
        <placekey>FOBU</placekey>
        <placekey>Lincoln County</placekey>
        <placekey>Wyoming</placekey>
        <placekey>WY</placekey>
        <placekey>Colorado Plateau</placekey>
        <placekey>National Park Service</placekey>
        <placekey>NPS</placekey>
        <placekey>USA</placekey>
      </place>
      <place>
        <placekt>National Park System Unit Name Thesaurus</placekt>
        <placekey>Fossil Butte National Monument</placekey>
      </place>
      <place>
        <placekt>National Park System Unit Code Thesaurus</placekt>
        <placekey>FOBU</placekey>
      </place>
    </keywords>
    <accconst>None</accconst>
    <useconst>None</useconst>
    <ptcontac>
      <cntinfo>
        <cntorgp>
          <cntorg>Northern Colorado Plateau Network, Inventory and Monitoring Program</cntorg>
          <cntper>Helen Thomas</cntper>
        </cntorgp>
        <cntpos>Data Manager</cntpos>
        <cntaddr>
          <addrtype>mailing</addrtype>
          <address>P.O. Box 848</address>
          <city>Moab</city>
          <state>UT</state>
          <postal>84532</postal>
        </cntaddr>
        <cntvoice>435-719-2340</cntvoice>
        <cntemail>helen_thomas@nps.gov</cntemail>
      </cntinfo>
    </ptcontac>
    <native>Microsoft Windows XP Version 5.1 (Build 2600) Service Pack 2; ESRI ArcCatalog 9.1.0.722</native>
    <crossref>
      <citeinfo>
        <origin>Friesen, B.A., S. Blauer, K. Landgraf, J. Von Loh, J. Coles, K. Schulz, A. Tendick, A. Wight, G. Wakefield, and A. Evenden</origin>
        <pubdate>20100129</pubdate>
        <title>Vegetation Classification and Mapping Project Report, Fossil Butte National Monument</title>
        <geoform>report</geoform>
        <onlink>http://science.nature.nps.gov/im/units/ncpn/</onlink>
      </citeinfo>
    </crossref>
  </idinfo>
  <dataqual>
    <logic>This image was created by stitching together 9x9 1:12,000 scale photo (scanned images).  It is clipped to the vegetation mapping boundary for Fossil Butte NM.</logic>
    <complete>None</complete>
    <posacc>
      <horizpa>
        <horizpar>Meets National Map Accuracy Standards</horizpar>
      </horizpa>
    </posacc>
    <lineage>
      <procstep>
        <procdesc>Flown by Valley Air Photos at a nominal elevation of 6,000 ft (1,829 m) above ground level in a Cessna T210N aircraft.  A Wild RC10 camera with 15.3 cm (6 in) lens was used with Kodak Aerocolor negative film.  The mission was designed with approximately 30% sidelap between flight lines and 60% overlap between photos.</procdesc>
        <procdate>20040721</procdate>
      </procstep>
      <procstep>
        <procdesc>USGS constructed orthoimagery from stereo pair aerial photography flown at a 1:12,000 scale for FOBU.</procdesc>
        <procdate>unknown</procdate>
      </procstep>
    </lineage>
  </dataqual>
  <spdoinfo>
    <direct>Raster</direct>
    <rastinfo>
      <rasttype>Pixel</rasttype>
      <rowcount>10523</rowcount>
      <colcount>10126</colcount>
    </rastinfo>
  </spdoinfo>
  <spref>
    <horizsys>
      <planar>
        <gridsys>
          <gridsysn>Universal Transverse Mercator</gridsysn>
          <utm>
            <utmzone>12</utmzone>
            <transmer>
              <sfctrmer>0.999600</sfctrmer>
              <longcm>-111.000000</longcm>
              <latprjo>0.000000</latprjo>
              <feast>500000.000000</feast>
              <fnorth>0.000000</fnorth>
            </transmer>
          </utm>
        </gridsys>
        <planci>
          <plance>row and column</plance>
          <coordrep>
            <absres>1.000000</absres>
            <ordres>1.000000</ordres>
          </coordrep>
          <plandu>meters</plandu>
        </planci>
      </planar>
      <geodetic>
        <horizdn>North American Datum of 1983</horizdn>
        <ellips>Geodetic Reference System 80</ellips>
        <semiaxis>6378137.000000</semiaxis>
        <denflat>298.257222</denflat>
      </geodetic>
    </horizsys>
  </spref>
  <eainfo>
    <detailed>
      <enttyp>
        <enttypl>Layer_1</enttypl>
        <enttypd>Raster</enttypd>
        <enttypds>ESRI</enttypds>
      </enttyp>
      <attr>
        <attrlabl>ObjectID</attrlabl>
        <attrdef>Internal feature number.</attrdef>
        <attrdefs>ESRI</attrdefs>
        <attrdomv>
          <udom>Sequential unique whole numbers that are automatically generated.</udom>
        </attrdomv>
      </attr>
      <attr>
        <attrlabl>Value</attrlabl>
        <attrdef>Internal feature number.</attrdef>
        <attrdefs>ESRI</attrdefs>
        <attrdomv>
          <udom>None.</udom>
        </attrdomv>
      </attr>
      <attr>
        <attrlabl>Count</attrlabl>
        <attrdef>Internal feature number.</attrdef>
        <attrdefs>ESRI</attrdefs>
        <attrdomv>
          <udom>None.</udom>
        </attrdomv>
      </attr>
    </detailed>
    <detailed>
      <enttyp>
        <enttypl>Layer_2</enttypl>
        <enttypd>Raster</enttypd>
        <enttypds>ESRI</enttypds>
      </enttyp>
      <attr>
        <attrlabl>ObjectID</attrlabl>
        <attrdef>Internal feature number.</attrdef>
        <attrdefs>ESRI</attrdefs>
        <attrdomv>
          <udom>Sequential unique whole numbers that are automatically generated.</udom>
        </attrdomv>
      </attr>
      <attr>
        <attrlabl>Value</attrlabl>
        <attrdef>Internal feature number.</attrdef>
        <attrdefs>ESRI</attrdefs>
        <attrdomv>
          <udom>None.</udom>
        </attrdomv>
      </attr>
      <attr>
        <attrlabl>Count</attrlabl>
        <attrdef>Internal feature number.</attrdef>
        <attrdefs>ESRI</attrdefs>
        <attrdomv>
          <udom>None.</udom>
        </attrdomv>
      </attr>
    </detailed>
    <detailed>
      <enttyp>
        <enttypl>Layer_3</enttypl>
        <enttypd>Raster</enttypd>
        <enttypds>ESRI</enttypds>
      </enttyp>
      <attr>
        <attrlabl>ObjectID</attrlabl>
        <attrdef>Internal feature number.</attrdef>
        <attrdefs>ESRI</attrdefs>
        <attrdomv>
          <udom>Sequential unique whole numbers that are automatically generated.</udom>
        </attrdomv>
      </attr>
      <attr>
        <attrlabl>Value</attrlabl>
        <attrdef>Internal feature number.</attrdef>
        <attrdefs>ESRI</attrdefs>
        <attrdomv>
          <udom>None.</udom>
        </attrdomv>
      </attr>
      <attr>
        <attrlabl>Count</attrlabl>
        <attrdef>Internal feature number.</attrdef>
        <attrdefs>ESRI</attrdefs>
        <attrdomv>
          <udom>None.</udom>
        </attrdomv>
      </attr>
    </detailed>
  </eainfo>
  <distinfo>
    <distrib>
      <cntinfo>
        <cntorgp>
          <cntorg>USGS/CSS/Core Science Analytics and Synthesis</cntorg>
          <cntper>USGS-NPS Vegetation Characterization Program Coordinator</cntper>
        </cntorgp>
        <cntaddr>
          <addrtype>mailing and physical address</addrtype>
          <address>Denver Federal Center, Building 810, MS 302</address>
          <city>Denver</city>
          <state>Colorado</state>
          <postal>80225</postal>
        </cntaddr>
        <cntvoice>(303) 202-4220</cntvoice>
        <cntfax>303-202-4219</cntfax>
        <cntemail>gs-b-npsveg@usgs.gov</cntemail>
      </cntinfo>
    </distrib>
    <resdesc>Downloadable Data</resdesc>
    <distliab>The U.S. Geological Survey and the National Park Service shall not be held liable for improper or incorrect use of the data described and/or contained herein.  These data and related graphics (if available) are not legal documents and are not intended to be used as such.

The information contained in these data is dynamic and may change over time.  The data are not better than the original sources from which they were derived.  It is the responsibility of the data user to use the data appropriately and consistent within the limitations of geospatial data in general and these data in particular.  Any related graphics (if available) are intended to aid the data user in acquiring relevant data; it is not approriate to use the related graphics as data.

The U.S. Geological Survey and the National Park Service gives no warranty, expressed or implied, as to the accuracy, reliability, or completeness of these data.  It is strongly recommended that these data are directly acquired from an U.S. Geological Survey and National Park Service servers and not indirectly through other sources which may have changed the data in some way.  Although these data have been processed successfully on a computer system at the U.S. Geological Survey, no warranty expressed or implied is made regarding the utility of the data on another system or for general or scientific purposes, nor shall the act of distribution constitute any such warranty. This disclaimer applies both to individual use of the data and aggregate use with other data. It is also strongly recommended that careful attention be paid to the contents of the metadata file associated with these data. Mention of trade names or commercial products in this metadata report does not constitute endorsement or recommendation for use by the U. S. Department of the Interior, U. S. Geological Survey and National Park Service.</distliab>
    <stdorder>
      <digform>
        <digtinfo>
          <formname>HTML</formname>
        </digtinfo>
        <digtopt>
          <onlinopt>
            <computer>
              <networka>
                <networkr>http://www.usgs.gov/core_science_systems/csas/vip/parks/fobu.html</networkr>
              </networka>
            </computer>
            <accinstr>Internet Access</accinstr>
          </onlinopt>
        </digtopt>
      </digform>
      <fees>None</fees>
    </stdorder>
  </distinfo>
  <metainfo>
    <metd>20091211</metd>
    <metrd>20100607</metrd>
    <metc>
      <cntinfo>
        <cntorgp>
          <cntorg>USGS/CSS/Core Science Analytics and Synthesis</cntorg>
          <cntper>USGS-NPS Vegetation Characterization Program Coordinator</cntper>
        </cntorgp>
        <cntaddr>
          <addrtype>mailing and physical address</addrtype>
          <address>Denver Federal Center, Building 810, MS 302</address>
          <city>Denver</city>
          <state>Colorado</state>
          <postal>80225</postal>
        </cntaddr>
        <cntvoice>(303) 202-4220</cntvoice>
        <cntfax>303-202-4219</cntfax>
        <cntemail>gs-b-npsveg@usgs.gov</cntemail>
      </cntinfo>
    </metc>
    <metstdn>FGDC Biological Data Profile of the Content Standard for Digital Geospatial Metadata</metstdn>
    <metstdv>FGDC-STD-001.1-1999</metstdv>
    <metextns>
      <onlink>http://www.usgs.gov/core_science_systems/csas/metadata/index.html</onlink>
    </metextns>
  </metainfo>
</metadata>
