<?xml version="1.0" encoding="UTF-8"?>
<metadata>
  <idinfo>
    <citation>
      <citeinfo>
        <origin>U.S. Geological Survey, Upper Midwest Environmental Sciences Center, 2630 Fanta Reed Road, La Crosse, Wisconsin 54603</origin>
        <pubdate>20050131</pubdate>
        <title>Effigy Mounds National Monument Vegetation Mapping Project - Aerial Photomosaic October</title>
        <geoform>remote-sensing image</geoform>
        <serinfo>
          <sername>USGS-NPS Vegetation Mapping Program</sername>
          <issue>Effigy Mounds NM Vegetation Mapping Project</issue>
        </serinfo>
        <pubinfo>
          <pubplace>Denver, Colorado</pubplace>
          <publish>U.S. Geological Survey, Center for Biological Informatics</publish>
        </pubinfo>
        <onlink>http://www1.usgs.gov/vip/efmo/efmoortho.zip</onlink>
        <onlink>doi:10.5066/F73J39X1</onlink>
      </citeinfo>
    </citation>
    <descript>
      <abstract>Color infrared (CIR) aerial photographs were acquired as baseline imagery data to produce vegetation spatial database coverages of Effigy Mounds National Monument (EFMO) and environs. Aerial photos were collected on October 9, 2000 at a scale of 1:8,000 to capture peak fall leaf phenology. The U.S. Geological Survey (USGS) Upper Midwest Environmental Sciences Center (UMESC) of La Crosse, Wisconsin has produced spatially referenced aerial photo mosaic images of the aerial photographs for both the Yellow River and Sny Magill units and their environs. The photo mosaics are raster datasets compressed with MrSID (LizardTech), projected in Universal Transverse Mercator (UTM), Zone 15, using the North American Datum of 1983 (NAD83).</abstract>
      <purpose>The aerial photo mosaics were produced as by-products from the Effigy Mounds National Monument Vegetation Mapping Project, USGS-NPS Vegetation Mapping Program.</purpose>
      <supplinf>The UMESC collected the aerial photographs in conjunction with the U.S. Fish and Wildlife Service (USFWS) Region 3. The aerial photography was funded by the VMP. Mounted in a USFWS Partenavia twin-engine aircraft, aerial photographs were collected using a Ziess Jena LMK 2000 camera loaded with KODAK AEROCHROME II Infrared Film 2443. To attain stereo viewing and full aerial coverage, parameters were set to collect aerial photos with a 60% forward-lap and a 30% side-lap. The 1:8,000-scale photographs were collected at an elevation above ground level of 4,000 ft. --- The photo mission required five flight lines to cover the Yellow River Unit, and another two flight lines to cover the Sny Magill Unit. In all, 69 aerial photos were collected on October 9, 2000 (57 photos for the Yellow River Unit, 12 photos for the Sny Magill Unit). HAS Images, Inc. (Dayton, Ohio) processed the original 9 x 9-inch positive transparency film, and produced two sets of contact prints. --- An earlier set of CIR aerial photos was collected on August 25, 2000 to compliment the October set. Aerial photos were collected on August 25, 2000 (1:15,000-scale) to capture peak vegetation biomass, which became particularly useful for mapping early senescing macrophytic wetland vegetation. The October photo set was collected to capture peak fall leaf phenology for forest mapping. Geo-referenced aerial photo mosaic images were also made for the August 2000 photo set, supported with metadata. --- The aerial photo mosaics were generated from individual scans (at 400 dpi) of the original scaled aerial photograph print. The scanned images (in TIFF format) were referenced to 2 geo-data sources using OrthoMapper software (a softcopy photogrammetric software for GIS); USGS 1:12,000-scale digital orthophoto quadrangles (DOQ) and USGS 7.5-minute 10 m resolution (30 m where 10 m not available) digital elevation models (DEM). The individual photographs were mosaicked using an automated process in OrthoMapper. A 10:1 compression was applied to the mosaics using MrSID Geospatial Encoder (Version 1.4). --- Special notes: Some dark areas of the original hard copy photographs (e.g., from shadow casts, dark open water) are represented in the mosaic image as pure black-colored pixels, resulting in minor loss of true imagery data.</supplinf>
    </descript>
    <timeperd>
      <timeinfo>
        <sngdate>
          <caldate>20001009</caldate>
        </sngdate>
      </timeinfo>
      <current>ground condition</current>
    </timeperd>
    <status>
      <progress>Complete</progress>
      <update>None planned</update>
    </status>
    <spdom>
      <descgeog>Effigy Mounds National Monument in northeast Iowa, including the Yellow River and Sny Magill Units, and extended environs.</descgeog>
      <bounding>
        <westbc>-91.258663</westbc>
        <eastbc>-91.146695</eastbc>
        <northbc>43.139643</northbc>
        <southbc>42.913808</southbc>
      </bounding>
    </spdom>
    <keywords>
      <theme>
        <themekt>None</themekt>
        <themekey>Aerial Photographs</themekey>
        <themekey>Aerial Photography</themekey>
        <themekey>Color Infra-red</themekey>
        <themekey>Aerial Photo Mosaic</themekey>
        <themekey>Effigy Mounds National Monument Vegetation Mapping Project</themekey>
        <themekey>USGS-NPS Vegetation Mapping Program</themekey>
      </theme>
      <place>
        <placekt>None</placekt>
        <placekey>Effigy Mounds National Monument</placekey>
        <placekey>EFMO</placekey>
        <placekey>Yellow River</placekey>
        <placekey>Sny Magill</placekey>
        <placekey>Harpers Ferry</placekey>
        <placekey>Marquette</placekey>
        <placekey>Allamakee County</placekey>
        <placekey>Clayton County</placekey>
        <placekey>Iowa</placekey>
        <placekey>USA</placekey>
      </place>
    </keywords>
    <accconst>Those using the spatial database should understand the data and determine for themselves the fitness of the data prior to use. The spatial accuracy of any given point on these geo-referenced image mosaics does not necessarily meet USGS accuracy standards for DOQ/DEM. Although it can be assumed that spatial accuracy meets those of the base maps used to produce these geo-referenced images, landscape relief, inherent distortions of aerial photographs, human error in using referencing software may all contribute to inconsistent geospatial accuracies in some areas. --- Mention of trade names or commercial products in this metadata report does not constitute endorsement or recommendation for use by the U.S. Department of the Interior, U.S. Geological Survey.</accconst>
    <useconst>GIS Software</useconst>
    <ptcontac>
      <cntinfo>
        <cntorgp>
          <cntorg>U.S. Geological Survey, Upper Midwest Environmental Sciences Center</cntorg>
        </cntorgp>
        <cntaddr>
          <addrtype>mailing and physical address</addrtype>
          <address>2630 Fanta Reed Road</address>
          <city>La Crosse</city>
          <state>Wisconsin</state>
          <postal>54603</postal>
          <country>USA</country>
        </cntaddr>
        <cntvoice>(608) 781-6451</cntvoice>
        <cntfax>(608) 783-8058</cntfax>
        <cntemail>URL address: http://www.umesc.usgs.gov/</cntemail>
        <hours>7:30 AM - 4:00 PM, M-F</hours>
        <cntinst>Ask receptionist for national park mapping contact in geospatial applications branch.</cntinst>
      </cntinfo>
    </ptcontac>
    <datacred>USGS Upper Midwest Environmental Sciences Center</datacred>
    <native>OrthoMapper (Image Processing Software, Inc.); MrSID (LizardTech).</native>
    <crossref>
      <citeinfo>
        <origin>U.S. Geological Survey, Upper Midwest Environmental Sciences Center, 2630 Fanta Reed Road, La Crosse, Wisconsin 54603</origin>
        <pubdate>20050131</pubdate>
        <title>Effigy Mounds National Monument Vegetation Mapping Project</title>
        <geoform>document</geoform>
        <serinfo>
          <sername>USGS-NPS Vegetation Mapping Program</sername>
          <issue>Effigy Mounds NM Vegetation Mapping Project</issue>
        </serinfo>
        <pubinfo>
          <pubplace>Denver, Colorado</pubplace>
          <publish>U.S. Geological Survey, Center for Biological Informatics</publish>
        </pubinfo>
        <othercit>The Effigy Mounds National Monument (EFMO) Vegetation Mapping Project is an initiative of the U.S. Geological Survey (USGS)-National Park Service (NPS) Vegetation Mapping Program (VMP). (For more information on VMP, see larger work citation below.) The goals of the project are to adequately describe and map plant communities of EFMO and immediate surroundings and to provide the NPS Inventory and Monitoring (I&amp;M) Program, resource managers, and biological researchers with useful baseline vegetation information. The USGS Upper Midwest Environmental Sciences Center (UMESC) in La Crosse, Wisconsin, and the Minneapolis Office of NatureServe in Minneapolis, Minnesota, have mapped and classified the existing plant communities at EFMO and extended surroundings. --- Common to all VMP mapping projects, the three major components of the EFMO Vegetation Mapping Project are vegetation classification, vegetation mapping, and map accuracy assessment. Two sets of aerial photographs were collected during summer and fall of 2000, and the mapping project was officially inaugurated spring 2001 with a scoping meeting where partners discussed the project's objectives, goals, and methods. Photointerpreters, ecologists, and botanists collaborated to describe National Vegetation Classification System (NVCS) plant associations (communities) and determine how best to map them using the aerial photographs. Plant community descriptions were derived from analyses of vegetation sampling data at EFMO. These plant communities, along with NVCS Formation vegetation units depicting human disturbance and cultivated lands and with units describing human-made structures, were interpreted and mapped using aerial photographs and mirror stereoscopes. Spatial database coverages were produced of the Yellow River and Sny Magill units and their respective environs using state-of-the-art photogrammetric and GIS software. An accuracy assessment of the map coverages were performed on map classes representing NVCS plant communities, with results exceeding VMP standards. --- The EFMO project delivers many geospatial and vegetation data products in hard copy and digital formats, including an in-depth project summary report discussing methods and results, plant community descriptions and dichotomous key, representative ground photos of plant communities, a database containing the plot samples and accuracy assessment, field data sheets, aerial photograph prints and images (including geo-referenced photo mosaics), map classification and descriptions, and spatial coverages and maps of plant communities, fieldwork locations, aerial photo indexes, and project boundaries (each supported with metadata reports). All geospatial products are in Universal Transverse Mercator projection, Zone 15, using North American Datum of 1983. More VMP information and products of completed park mapping projects are on the Internet at http://www.usgs.gov/core_science_systems/csas/vip/index.html.</othercit>
        <onlink>http://www.usgs.gov/core_science_systems/csas/vip/parks/efmo.html</onlink>
        <lworkcit>
          <citeinfo>
            <origin>U.S. Geological Survey, Center for Biological Information</origin>
            <pubdate>200304</pubdate>
            <title>USGS-NPS Vegetation Mapping Program (May 2003)</title>
            <geoform>document</geoform>
            <serinfo>
              <sername>USGS-NPS Vegetation Mapping Program</sername>
              <issue>Overview</issue>
            </serinfo>
            <pubinfo>
              <pubplace>Denver, Colorado</pubplace>
              <publish>U.S. Geological Survey, Center for Biological Informatics</publish>
            </pubinfo>
            <othercit>Overview of USGS - NPS Vegetation Mapping Program (taken from http://www.usgs.gov/core_science_systems/csas/vip/about.html, May 2003): The USGS-NPS Vegetation Mapping Program is a cooperative effort by the U.S. Geological Survey (USGS) and the National Park Service (NPS) to classify, describe, and map vegetation communities in more than 270 national park units across the United States. This landmark program is both the first to provide national-scale descriptions of vegetation for a federal agency and the first to create national vegetation standards for its data products. Its goal is to meet specific information needs identified by the National Park Service. --- The vegetation mapping program is an important part of the NPS Inventory and Monitoring Program, a long-term effort to develop baseline data for all national park units that have a natural resource component. It is managed by the USGS Center for Biological Informatics, a unique information center designed to help scientists, land managers, the public, and others locate and apply biological information. --- Program activities are based on peer-reviewed, objective science. Comprehensive vegetation information is provided at national and regional levels, while also serving local management needs of individual parks. Stringent quality control procedures ensure that products are accurate and consistent for initial inventory purposes and replicable for monitoring purposes. The spatially enabled digital products produced by the program are available on the World Wide Web. --- Program scientists have developed data collection procedures for classification, mapping, accuracy assessment, and use of existing data. Program products meet Federal Geographic Data Committee standards for vegetation classification and metadata, and national standards for spatial accuracy and data transfer. Standards include a minimum mapping unit of 0.5 hectares and classification accuracy of 80% for each map class. Nature Serve, an important partner in the USGS-NPS Vegetation Mapping program, is the caretaker of the National Vegetation Classification System, which is used by the program to classify vegetation communities. --- A report of project methods and results is provided at completion of individual projects. Project results include a rich set of data and information for each park project, as follows: --- Spatial Data: Aerial photography, Map classification, Map classification description and key, Spatial database of vegetation communities, Hardcopy maps of vegetation communities, Metadata for spatial databases, Complete accuracy assessment of spatial data, Vegetation Information. --- Vegetation classification: Dichotomous field key of vegetation classes, Formal description for each vegetation class, Ground photos of vegetation classes, Field data in database format.</othercit>
            <onlink>http://www.usgs.gov/core_science_systems/csas/vip/index.html</onlink>
          </citeinfo>
        </lworkcit>
      </citeinfo>
    </crossref>
  </idinfo>
  <spdoinfo>
    <direct>Raster</direct>
    <rastinfo>
      <rasttype>Pixel</rasttype>
      <rowcount>29306</rowcount>
      <colcount>18270</colcount>
    </rastinfo>
  </spdoinfo>
  <spref>
    <horizsys>
      <planar>
        <gridsys>
          <gridsysn>Universal Transverse Mercator</gridsysn>
          <utm>
            <utmzone>15</utmzone>
            <transmer>
              <sfctrmer>0.999600</sfctrmer>
              <longcm>-93.000000</longcm>
              <latprjo>0.000000</latprjo>
              <feast>500000.000000</feast>
              <fnorth>0.000000</fnorth>
            </transmer>
          </utm>
        </gridsys>
        <planci>
          <plance>coordinate pair</plance>
          <coordrep>
            <absres>0.000032</absres>
            <ordres>0.000032</ordres>
          </coordrep>
          <plandu>meters</plandu>
        </planci>
      </planar>
      <geodetic>
        <horizdn>North American Datum of 1983</horizdn>
        <ellips>Geodetic Reference System 80</ellips>
        <semiaxis>6378137.000000</semiaxis>
        <denflat>298.257222</denflat>
      </geodetic>
    </horizsys>
  </spref>
  <distinfo>
    <distrib>
      <cntinfo>
        <cntorgp>
          <cntorg>USGS/CSS/Core Science Analytics and Synthesis</cntorg>
          <cntper>USGS-NPS Vegetation Characterization Program Coordinator</cntper>
        </cntorgp>
        <cntaddr>
          <addrtype>mailing and physical address</addrtype>
          <address>Denver Federal Center, Building 810, MS 302</address>
          <city>Denver</city>
          <state>Colorado</state>
          <postal>80225</postal>
        </cntaddr>
        <cntvoice>(303) 202-4220</cntvoice>
        <cntfax>303-202-4219</cntfax>
        <cntemail>gs-b-npsveg@usgs.gov</cntemail>
      </cntinfo>
    </distrib>
    <resdesc>Downloadable Data</resdesc>
    <distliab>The U.S. Geological Survey and the National Park Service shall not be held liable for improper or incorrect use of the data described and/or contained herein.  These data and related graphics (if available) are not legal documents and are not intended to be used as such.

The information contained in these data is dynamic and may change over time.  The data are not better than the original sources from which they were derived.  It is the responsibility of the data user to use the data appropriately and consistent within the limitations of geospatial data in general and these data in particular.  Any related graphics (if available) are intended to aid the data user in acquiring relevant data; it is not approriate to use the related graphics as data.

The U.S. Geological Survey and the National Park Service gives no warranty, expressed or implied, as to the accuracy, reliability, or completeness of these data.  It is strongly recommended that these data are directly acquired from an U.S. Geological Survey and National Park Service servers and not indirectly through other sources which may have changed the data in some way.  Although these data have been processed successfully on a computer system at the U.S. Geological Survey, no warranty expressed or implied is made regarding the utility of the data on another system or for general or scientific purposes, nor shall the act of distribution constitute any such warranty. This disclaimer applies both to individual use of the data and aggregate use with other data. It is also strongly recommended that careful attention be paid to the contents of the metadata file associated with these data. Mention of trade names or commercial products in this metadata report does not constitute endorsement or recommendation for use by the U. S. Department of the Interior, U. S. Geological Survey and National Park Service.</distliab>
    <stdorder>
      <digform>
        <digtinfo>
          <formname>HTML</formname>
        </digtinfo>
        <digtopt>
          <onlinopt>
            <computer>
              <networka>
                <networkr>http://www.usgs.gov/core_science_systems/csas/vip/parks/efmo.html</networkr>
              </networka>
            </computer>
            <accinstr>Internet Access</accinstr>
          </onlinopt>
        </digtopt>
      </digform>
      <fees>None</fees>
    </stdorder>
  </distinfo>
  <metainfo>
    <metd>20050131</metd>
    <metrd>20100520</metrd>
    <metc>
      <cntinfo>
        <cntorgp>
          <cntorg>USGS/CSS/Core Science Analytics and Synthesis</cntorg>
          <cntper>USGS-NPS Vegetation Characterization Program Coordinator</cntper>
        </cntorgp>
        <cntaddr>
          <addrtype>mailing and physical address</addrtype>
          <address>Denver Federal Center, Building 810, MS 302</address>
          <city>Denver</city>
          <state>Colorado</state>
          <postal>80225</postal>
        </cntaddr>
        <cntvoice>(303) 202-4220</cntvoice>
        <cntfax>303-202-4219</cntfax>
        <cntemail>gs-b-npsveg@usgs.gov</cntemail>
      </cntinfo>
    </metc>
    <metstdn>FGDC Biological Data Profile of the Content Standard for Digital Geospatial Metadata</metstdn>
    <metstdv>FGDC-STD-001.1-1999</metstdv>
    <metextns>
      <onlink>http://www.usgs.gov/core_science_systems/csas/metadata/index.html</onlink>
    </metextns>
  </metainfo>
</metadata>
