<?xml version="1.0" encoding="UTF-8"?>
<metadata>
  <idinfo>
    <citation>
      <citeinfo>
        <origin>EarthData International</origin>
        <pubdate>20070716</pubdate>
        <title>De Soto National Memorial Vegetation Mapping Project - Orthorectified Photomosaic</title>
        <geoform>remote-sensing image</geoform>
        <serinfo>
          <sername>GeoTIFF</sername>
          <issue>1</issue>
        </serinfo>
        <pubinfo>
          <pubplace>Frederick, MD 21704</pubplace>
          <publish>Fugro EarthData, Inc.</publish>
        </pubinfo>
        <onlink>http://www1.usgs.gov/vip/deso/desoortho.zip</onlink>
        <onlink>doi:10.5066/F7PG1PP8</onlink>
      </citeinfo>
    </citation>
    <descript>
      <abstract>EarthData International collected ADS-40/ISTAR-derived orthophotography over Hillsborough, Pinellas, Manatee and Sarasota Counties Florida with a 1 foot pixel resolution. The period of collection was between 9 January and 20 January 2007 for the base area with the agricultural area bring flown between 17 February and 19 February 2007. The collection was performed EarthData Aviation, using a Leica ADS-40 camera system, including an inertial measuring unit (IMU) and a dual frequency GPS receiver. This project required eight lifts of flight lines to be collected, for a total of 80 flight lines. The orthophotos were rectified using the existing lidar DEM from Pinellas County and a collected DEM from Hillsborough County and was processed using ISTAR. Ground survey services in support of the project were provided by a Florida-registered professional land surveyor under the employment of Terrasurv Inc. of PA. The GeoTIFF format was compressed to MrSid format for distribution or is stored in ArcSDE for District use.</abstract>
      <purpose>This data was collected and derived for the Counties of Hillsborough, Pinellas, Manatee and Sarasota through a joint teaming effort with the Southwest Florida Water Management District (SWFWMD).</purpose>
      <supplinf>The following products were produced for this project and Hillsborough, Manatee and Sarasota Counties (all deliverables in Florida State Plane, feet, West Zone NAD83/99) (1) Natural Color 24-bit tiles in GeoTIFF format (2) Color Infrared 24-bit tiles in GeoTIFF format. Pinellas County (all deliverables in Florida State Plane, feet, West Zone NAD83/99 AND in NAD27) (1) Natural Color 24-bit tiles in GeoTIFF format (2) Color Infrared 24-bit tiles in GeoTIFF format.</supplinf>
    </descript>
    <timeperd>
      <timeinfo>
        <rngdates>
          <begdate>20070109</begdate>
          <enddate>20070219</enddate>
        </rngdates>
      </timeinfo>
      <current>ground condition</current>
    </timeperd>
    <status>
      <progress>Complete</progress>
      <update>Annually</update>
    </status>
    <spdom>
      <descgeog>De Soto National Memorial and environs</descgeog>
      <bounding>
        <westbc>-82.651626</westbc>
        <eastbc>-82.636039</eastbc>
        <northbc>27.537246</northbc>
        <southbc>27.509668</southbc>
      </bounding>
    </spdom>
    <keywords>
      <theme>
        <themekt>none</themekt>
        <themekey>Digital Imagery</themekey>
        <themekey>Orthos</themekey>
        <themekey>Orthoimage</themekey>
        <themekey>Digital Orthophotography</themekey>
        <themekey>Aerial Photography</themekey>
        <themekey>ADS40</themekey>
      </theme>
      <theme>
        <themekt>National Park Service Theme Category Thesaurus</themekt>
        <themekey>Digital Orthophoto</themekey>
      </theme>
      <theme>
        <themekt>ISO 19115 Topic Category</themekt>
        <themekey>imageryBaseMapsEarthCover</themekey>
      </theme>
      <place>
        <placekt>Geographic Names Information System</placekt>
        <placekey>Florida</placekey>
        <placekey>Hillsborough County</placekey>
        <placekey>Pinellas County</placekey>
        <placekey>Manatee County</placekey>
        <placekey>Sarasota County</placekey>
      </place>
      <place>
        <placekt>National Park System Unit Name Thesaurus</placekt>
        <placekey>De Soto National Memorial</placekey>
      </place>
      <place>
        <placekt>National Park System Unit Code Thesaurus</placekt>
        <placekey>DESO</placekey>
      </place>
    </keywords>
    <accconst>None</accconst>
    <useconst>Use of these data requires a general understanding of GIS and spatial data.</useconst>
    <ptcontac>
      <cntinfo>
        <cntorgp>
          <cntorg>Southwest Florida Water Management District</cntorg>
        </cntorgp>
        <cntaddr>
          <addrtype>mailing and physical address</addrtype>
          <address>2379 Broad Street (US 41 South)</address>
          <city>Brooksville</city>
          <state>FL</state>
          <postal>34604-6899</postal>
          <country>USA</country>
        </cntaddr>
        <cntvoice>352.796.7211</cntvoice>
        <cntfax>352.540.6018</cntfax>
        <hours>9:00am - 5:00pm</hours>
      </cntinfo>
    </ptcontac>
    <datacred>Southwest Florida Water Management District, Hillsborough County, Pinellas County, Manatee County, Sarasota County</datacred>
    <secinfo>
      <secsys>None</secsys>
      <secclass>Unclassified</secclass>
      <sechandl>None</sechandl>
    </secinfo>
    <native>Microsoft Windows XP Version 5.1 (Build 2600) Service Pack 3; ESRI ArcCatalog 9.3.1.3000</native>
  </idinfo>
  <dataqual>
    <attracc>
      <attraccr>Orthophotos were created from the aerial photography creating a DEM using the ISTAR software and photo triangulation data. The ground control for this project consisted of 36 vertical/horizontal photo-identifiable points and processed to FL State Plane West NAD83/1999 , and vertically to Mean Sea Level(MSL), NAVD 88 in U.S. Survey Feet.  Airborne GPS data was collected during the acquisition mission for each flight line. An additional control point was set for a basestation that was recorded during imagery acquistion for processing the airborne GPS. The control points were measured by technicians using Orima software.  The final bundle adjustment of this block was solved using airborne GPS. During GPS data collection, the Positional Dilution of Precision (PDOP) was monitored and held at or below 3.5 when possible. Imagery was mosaiced to provide seamless coverage. Images were then radiometrically corrected for tone balance and geometry quality control along tile edges for terrain and linear features.</attraccr>
    </attracc>
    <logic>EarthData QC
Compliance with the accuracy standard was ensured by the collection of photo identifiable GPS ground control after the acquisition of aerial imagery. The following checks were performed.
1. The ground control and airborne GPS data stream were validated through a fully analytical bundle aerotriangulation adjustment.
2. The DEM data was checked against the project control. The technician visited and confirmed the accuracy of the points during initial processing.
3. Digital orthophotography was validated through an inspection of edge matching and visual inspection for image quality.
4. Planimetry was validated through an inspection of edge matching and visual inspection for data quality.
5. A final quality control check utilizing 20 QC ground survey points was conducted, ensuring that minimum accuracy requirements were met.

SWFWMD QC
The imagery data layer stored in the District's enterprise database is opened in ArcMap.  The District's LiDAR project grid is also added.  The imagery is scanned at 1:6,000 looking at each LiDAR grid cell individually.  If a problem is found, then a point shapefile is created and a point in the location of the problem is added.  Comments are added to the shapefile in an attribute field about the problem and a bitmap is created displaying the area with the problem.  Each bitmap includes: comments added to the shapefile, grid cell number, date, initials of the QC staff, and whether the image is drawn to the full extent.  The overall color balance between cutlines over land, offsets over 8 feet, missing data, anomalies, and overall color balance.</logic>
    <complete>The following methods are used to assure imagery accuracy.
1. Use of IMU and ground control network utilizing GPS techniques.
2. Use of airborne GPS in conjunction with the acquisition of imagery.
3. Measurement of quality control ground survey points within the finished product.
The following software is used for validation of the:
1. Aerotriangulation - Orima
2. Check of DEM data
3. Digital Orthophotography - Orima
The following software was used for the validation.
1. Bentley - Microstation
2. ISTAR
3. ZI OrthoPro
4. ESRI - ArcInfo
5. EarthData Proprietary software</complete>
    <posacc>
      <horizpa>
        <horizpar>The digital mapping products fully comply with a verified horizontal accuracy of 7.6 feet at the 95% confidence interval (4.4 feet RMSE) as specified in the National Standard for Spatial Data Accuracy (NSSDA). at a horizontal scale of 1 / 2400 with an orthophoto ground pixel resolution of one foot .</horizpar>
      </horizpa>
      <vertacc>
        <vertaccr>None</vertaccr>
      </vertacc>
    </posacc>
    <lineage>
      <srcinfo>
        <srccite>
          <citeinfo>
            <origin>EarthData Aviation</origin>
            <pubdate>20070716</pubdate>
            <title>Hillsborough, Pinellas,  Manatee, Sarasota Aerial Acquisition</title>
            <geoform>imagery</geoform>
          </citeinfo>
        </srccite>
        <srcscale>2400</srcscale>
        <typesrc>external hard drive</typesrc>
        <srctime>
          <timeinfo>
            <mdattim>
              <sngdate>
                <caldate>20070109</caldate>
              </sngdate>
              <sngdate>
                <caldate>20070110</caldate>
              </sngdate>
              <sngdate>
                <caldate>20070111</caldate>
              </sngdate>
              <sngdate>
                <caldate>20070115</caldate>
              </sngdate>
              <sngdate>
                <caldate>20070120</caldate>
              </sngdate>
              <sngdate>
                <caldate>20070217</caldate>
              </sngdate>
              <sngdate>
                <caldate>20070219</caldate>
              </sngdate>
            </mdattim>
          </timeinfo>
          <srccurr>ground condition</srccurr>
        </srctime>
        <srccitea>Aerial Acquisittion</srccitea>
        <srccontr>The aerial imagery acquisition for Hillsborough, Pinellas, Manatee, and Sarasota Counties was flown to support the creation of digital orthophotography with a one foot pixel. The imagery was acquired in eight sorties at an average altitude of 8,450 feet AMT, using a Leica ADS40 sensors. Acquisition was completed using Digital Aerial Solutions operating out of the Plant City Airport. The following lift information is Sortie 1, January 09, 2007 flight lines 1-17, Sortie 2, January 10, 2007 flight lines 32-33, Sortie 3, January 10, 2007 flight lines 31-46 (32,33 re-flight), Sortie 4, January 11, 2007 flight lines 53-57. Sortie 5, January 15, 2007 flight lines 46-52.  Sortie 6, January 20, 2007 flight lines 18-30, 41,44-45, Sortie 7, (Agricutural Area) February 17, 2007 flight lines 13-21, Sortie 8, (Agricutural Area) February 19, 2007 flight lines 1-13 Any duplicate flight line numbers between sorties indicate a line that was reflown. The latest sortie date associated with any reflown line is the line used for data processing.</srccontr>
      </srcinfo>
      <srcinfo>
        <srccite>
          <citeinfo>
            <origin>Terrasurv, Inc.</origin>
            <pubdate>20060228</pubdate>
            <title>Report of Survey Hillsborough, Pinellas, Manatee and Sarasota County</title>
            <geoform>model</geoform>
          </citeinfo>
        </srccite>
        <srcscale>2400</srcscale>
        <typesrc>paper</typesrc>
        <srctime>
          <timeinfo>
            <sngdate>
              <caldate>20070508</caldate>
            </sngdate>
          </timeinfo>
          <srccurr>Publication Date</srccurr>
        </srctime>
        <srccitea>Ground Control</srccitea>
        <srccontr>Terrasurv, Inc.  was contracted by EarthData to acquire 2 temporary base station points, 16 vertical/horizontal photo-identifiable points, and 20 quality control control points before, during and after the acquisition of aerial imagery. The ground survey tasks we conducted by Kevin J. Chappell, Florida PSM License No. LS5818. The Global Positioning System (GPS) was used to establish the control network. The horizontal datum was the North American Datum of 1983, 1999 adjustment (NAD 1983 1999). The vertical datum was the North American Vertical Datum of 1988 (NAVD 1988). The project had a total of 49 ground control points with the balance of points that were used were from projects previously done for South West Florida Water Management District.</srccontr>
      </srcinfo>
      <srcinfo>
        <srccite>
          <citeinfo>
            <origin>Hillsborough County</origin>
            <pubdate>20041205</pubdate>
            <title>Istar generated DEM</title>
            <geoform>remote-sensing image</geoform>
          </citeinfo>
        </srccite>
        <srcscale>2400</srcscale>
        <typesrc>Mobile Hard Drive</typesrc>
        <srctime>
          <timeinfo>
            <sngdate>
              <caldate>20070515</caldate>
            </sngdate>
          </timeinfo>
          <srccurr>Publication Date</srccurr>
        </srctime>
        <srccitea>ISTAR DEM</srccitea>
        <srccontr>The  elevation data used for the rectification of the orthophotos in Hillsborough, Pinellas, Maantee and Sarasota Counties was created by using the aerial imagery and the Aerial Triangulated solution.</srccontr>
      </srcinfo>
      <procstep>
        <procdesc>The airborne GPS data were processed and integrated with the IMU. The results were imported into the processing system for use in the aerotriangulation. The ADS40 imagery was downloaded onto a production server. The ground control was used in conjunction with the processed ABGPS results for the aerotriangulation. The properly formatted processing results were used for subsequent processing.</procdesc>
        <srcused>Aerotriangulation</srcused>
        <procdate>20070529</procdate>
        <srcprod>AT</srcprod>
        <proccont>
          <cntinfo>
            <cntorgp>
              <cntorg>EarthData International</cntorg>
              <cntper>Frank Sokoloski</cntper>
            </cntorgp>
            <cntpos>Project Manager</cntpos>
            <cntaddr>
              <addrtype>mailing and physical address</addrtype>
              <address>7320 Executive Way</address>
              <city>Frederick</city>
              <state>Maryland</state>
              <postal>21704</postal>
              <country>USA</country>
            </cntaddr>
            <cntvoice>301-948-8550</cntvoice>
            <cntfax>301-963-2064</cntfax>
            <cntemail>fsokoloski@earthdata.com</cntemail>
            <hours>Mon-Fri 9:00am to 5:00pm</hours>
          </cntinfo>
        </proccont>
      </procstep>
      <procstep>
        <procdesc>The digital orthophotography is comprised of one foot pixel pixel Ground Orthos. Once the DEM data was integrated into the processing system the initial radiometric adjustments were performed on the imagery for each flight line  attempting to reach the best possible histogram. The rectification process was run using the processed DEM surface and the radiometrically balanced imagery on each flight line. A second set of radiometric adjustments were made and mosaic lines were placed. QA/QC was performed looking for smears and other indications of problems within the digital orthophoto creation process. The final imagery data set is removed from the processing environment in a process called "packaging" where the individual tiles are created. The created tiles are reviewed again for anomalies and interactive radiometric adjustment applied where needed. The final product was GeoTIFF format digital orthos.</procdesc>
        <srcused>Digital Orthophotos</srcused>
        <procdate>20070702</procdate>
        <srcprod>Digital Orthos</srcprod>
        <proccont>
          <cntinfo>
            <cntorgp>
              <cntorg>EarthData International</cntorg>
              <cntper>Frank Sokoloski</cntper>
            </cntorgp>
            <cntpos>Project Manager</cntpos>
            <cntaddr>
              <addrtype>mailing and physical address</addrtype>
              <address>7320 Executive Way</address>
              <city>Frederick</city>
              <state>Maryland</state>
              <postal>21704</postal>
              <country>USA</country>
            </cntaddr>
            <cntvoice>301-948-8550</cntvoice>
            <cntfax>301-963-2064</cntfax>
            <cntemail>fsokoloski@earthdata.com</cntemail>
            <hours>Mon-Fri 8:30 am to 5:00 pm</hours>
          </cntinfo>
        </proccont>
      </procstep>
      <procstep>
        <procdesc>The individual geotiffs were loaded into a single raster mosaic in the District's enterprise SDE using ArcCatalog. The tile size is 128 with a 50% JPEG compression. Pyramids were built after all of the geotiffs were loaded using command line ArcSDE. Statistics was built using the software TOAD on all raster tables in SDE.

For the District's GIS Data Distribution site, MrSid mosaics are created using the GeoExpress software by LizardTech.  They are compressed at a ratio of 20:1 from GeoTiff files.  These mosaics then have projection files (.aux) created for viewing with ArcGIS.  The .aux files are created from the Raster Georeference Enabler (RAGE) tool developed by 3001.</procdesc>
        <procdate>2007</procdate>
        <proccont>
          <cntinfo>
            <cntperp>
              <cntper>Mapping and GIS Section</cntper>
              <cntorg>Southwest Florida Water Management District</cntorg>
            </cntperp>
            <cntaddr>
              <addrtype>mailing and physical address</addrtype>
              <address>2379 Broad Street (U.S. 41 South)</address>
              <city>Brooksville</city>
              <state>FL</state>
              <postal>34604-6899</postal>
            </cntaddr>
            <cntvoice>(352) 796-7211</cntvoice>
            <cntfax>(352) 540-6018</cntfax>
            <hours>8:00 am to 5:00 pm</hours>
          </cntinfo>
        </proccont>
      </procstep>
      <procstep>
        <procdesc>Metadata imported.</procdesc>
        <srcused>Z:\op2007nc1ft_15_D\Central_District_Metadata.xml</srcused>
        <procdate>20090601</procdate>
      </procstep>
      <procstep>
        <procdesc>Metadata imported.</procdesc>
        <srcused>Z:\SFCN\Projects\Veg_Map\SF_Veg_Map\DESOVeg\YEAR2007_COLOR_1FT.XML</srcused>
        <procdate>20090601</procdate>
      </procstep>
    </lineage>
    <cloud>0</cloud>
  </dataqual>
  <spdoinfo>
    <direct>Raster</direct>
    <rastinfo>
      <rasttype>Pixel</rasttype>
      <rowcount>10000</rowcount>
      <colcount>5000</colcount>
    </rastinfo>
  </spdoinfo>
  <spref>
    <horizsys>
      <planar>
        <mapproj>
          <mapprojn>Transverse Mercator</mapprojn>
          <transmer>
            <sfctrmer>0.999941</sfctrmer>
            <longcm>-82.000000</longcm>
            <latprjo>24.333333</latprjo>
            <feast>656166.666667</feast>
            <fnorth>0.000000</fnorth>
          </transmer>
        </mapproj>
        <planci>
          <plance>row and column</plance>
          <coordrep>
            <absres>1.000000</absres>
            <ordres>1.000000</ordres>
          </coordrep>
          <plandu>survey feet</plandu>
        </planci>
      </planar>
      <geodetic>
        <horizdn>North American Datum of 1983</horizdn>
        <ellips>Geodetic Reference System 80</ellips>
        <semiaxis>6378137.000000</semiaxis>
        <denflat>298.257222</denflat>
      </geodetic>
    </horizsys>
    <vertdef>
      <altsys>
        <altdatum>National Geodetic Vertical Datum 1983</altdatum>
        <altres>1.000000</altres>
        <altunits>Unknown</altunits>
        <altenc>Explicit elevation coordinate included with horizontal coordinates</altenc>
      </altsys>
    </vertdef>
  </spref>
  <eainfo>
    <detailed>
      <enttyp>
        <enttypl>r_1.img.vat</enttypl>
        <enttypd>Table</enttypd>
        <enttypds>EarthData International</enttypds>
      </enttyp>
      <attr>
        <attrlabl>ObjectID</attrlabl>
        <attrdef>Internal feature number.</attrdef>
        <attrdefs>ESRI</attrdefs>
        <attrdomv>
          <udom>Sequential unique whole numbers that are automatically generated.</udom>
        </attrdomv>
      </attr>
      <attr>
        <attrlabl>Value</attrlabl>
        <attrdef>Integer.</attrdef>
        <attrdefs>ESRI</attrdefs>
        <attrdomv>
          <udom>Unique whole numbers.</udom>
        </attrdomv>
      </attr>
      <attr>
        <attrlabl>BinValues</attrlabl>
        <attrdef>Integer.</attrdef>
        <attrdefs>ESRI</attrdefs>
        <attrdomv>
          <udom>Unique whole numbers.</udom>
        </attrdomv>
      </attr>
      <attr>
        <attrlabl>Count</attrlabl>
        <attrdef>Integer.</attrdef>
        <attrdefs>ESRI</attrdefs>
        <attrdomv>
          <udom>Unique whole numbers.</udom>
        </attrdomv>
      </attr>
    </detailed>
    <overview>
      <eaover>Leica ADS40 sensors
Push-broom
Color and Color Infrared</eaover>
      <eadetcit>Not Applicable</eadetcit>
    </overview>
  </eainfo>
  <distinfo>
    <distrib>
      <cntinfo>
        <cntorgp>
          <cntorg>USGS/CSS/Core Science Analytics and Synthesis</cntorg>
          <cntper>USGS-NPS Vegetation Characterization Program Coordinator</cntper>
        </cntorgp>
        <cntaddr>
          <addrtype>mailing and physical address</addrtype>
          <address>Denver Federal Center, Building 810, MS 302</address>
          <city>Denver</city>
          <state>Colorado</state>
          <postal>80225</postal>
        </cntaddr>
        <cntvoice>(303) 202-4220</cntvoice>
        <cntfax>303-202-4219</cntfax>
        <cntemail>gs-b-npsveg@usgs.gov</cntemail>
      </cntinfo>
    </distrib>
    <resdesc>Downloadable Data</resdesc>
    <distliab>The U.S. Geological Survey and the National Park Service shall not be held liable for improper or incorrect use of the data described and/or contained herein.  These data and related graphics (if available) are not legal documents and are not intended to be used as such.

The information contained in these data is dynamic and may change over time.  The data are not better than the original sources from which they were derived.  It is the responsibility of the data user to use the data appropriately and consistent within the limitations of geospatial data in general and these data in particular.  Any related graphics (if available) are intended to aid the data user in acquiring relevant data; it is not approriate to use the related graphics as data.

