<?xml version="1.0" encoding="UTF-8"?>
<metadata>
  <idinfo>
    <citation>
      <citeinfo>
        <origin>Cape Cod National Seashore</origin>
        <pubdate>200406</pubdate>
        <title>Cape Cod National Seashore Vegetation Mapping Project - True Color Orthorectified Photomosaic Leaf-off North Portion</title>
        <geoform>remote-sensing image</geoform>
        <pubinfo>
          <pubplace>Wellfleet, MA</pubplace>
          <publish>National Park Service</publish>
        </pubinfo>
        <onlink>http://www1.usgs.gov/vip/caco/cacoortho.zip</onlink>
        <onlink>http://www.mass.gov/mgis/massgis.htm</onlink>
        <onlink>http://www.mass.gov/mgis/laylist.htm</onlink>
        <lworkcit>
          <citeinfo>
            <origin>L.A. Sneddon, R.E. Zaremba, and M. Adams</origin>
            <pubdate>201010</pubdate>
            <title>Vegetation Classification and Mapping at Cape Cod National Seashore, Massachusetts</title>
            <geoform>report</geoform>
            <pubinfo>
              <pubplace>Philadelphia, PA</pubplace>
              <publish>National Park Service</publish>
            </pubinfo>
            <othercit>Natural Resource Technical Report NPS/NER/NRTR--2010/147</othercit>
            <onlink>http://www.usgs.gov/core_science_systems/csas/vip/parks/caco.html</onlink>
          </citeinfo>
        </lworkcit>
        <onlink>doi:10.5066/F7416V0T</onlink>
      </citeinfo>
    </citation>
    <descript>
      <abstract>One of two orthorectified true color images of Cape Cod National Seashore (CACO) developed from digital true color aerial images obtained from MassGIS. This image covers the northern portion of CACO.  Keystone Aerial Surveys, Inc. of Philadelphia, PA flew the photography in April 2001. The source imagery was acquired with Leica RC-30 calibrated aerial mapping cameras at a flying height of approximately 5,000 meters (15,000 feet).  The medium resolution true color images have a horizontal accuracy of +- 3 meters at the 95% confidence level at the nominal scale of 1:5,000.</abstract>
      <purpose>This data set was produced for the purpose of performing photo interpretation to identify vegetation and land use types in Cape Cod National Seashore.</purpose>
    </descript>
    <timeperd>
      <timeinfo>
        <sngdate>
          <caldate>200104</caldate>
        </sngdate>
      </timeinfo>
      <current>ground condition</current>
    </timeperd>
    <status>
      <progress>Complete</progress>
      <update>As needed</update>
    </status>
    <spdom>
      <descgeog>Northern portion of Cape Cod National Seashore and environs</descgeog>
      <bounding>
        <westbc>-70.284954</westbc>
        <eastbc>-69.891905</eastbc>
        <northbc>42.109909</northbc>
        <southbc>41.781067</southbc>
      </bounding>
    </spdom>
    <keywords>
      <theme>
        <themekt>None</themekt>
        <themekey>aerial photo</themekey>
      </theme>
      <theme>
        <themekt>National Park Service Theme Category Thesaurus</themekt>
        <themekey>Digital Orthophoto</themekey>
      </theme>
      <theme>
        <themekt>ISO 19115 Topic Category</themekt>
        <themekey>DOQ</themekey>
        <themekey>orthophoto</themekey>
      </theme>
      <place>
        <placekt>None</placekt>
        <placekey>Massachusetts</placekey>
        <placekey>Cape Cod</placekey>
        <placekey>Cape Cod National Seashore</placekey>
      </place>
      <place>
        <placekt>National Park System Unit Name Thesaurus</placekt>
        <placekey>Cape Cod National Seashore</placekey>
      </place>
      <place>
        <placekt>National Park System Unit Code Thesaurus</placekt>
        <placekey>CACO</placekey>
      </place>
    </keywords>
    <accconst>None</accconst>
    <useconst>None</useconst>
    <ptcontac>
      <cntinfo>
        <cntperp>
          <cntper>Mark Adams</cntper>
          <cntorg>Cape Cod National Seashore</cntorg>
        </cntperp>
        <cntpos>GIS Specialist</cntpos>
        <cntaddr>
          <addrtype>mailing address</addrtype>
          <address>99 Marconi Site Rd</address>
          <city>Wellfleet</city>
          <state>MA</state>
          <postal>02652</postal>
          <country>USA</country>
        </cntaddr>
        <cntvoice>508-487-3262 x113</cntvoice>
        <cntfax>508-487-7153</cntfax>
        <cntemail>mark_adams@nps.gov</cntemail>
      </cntinfo>
    </ptcontac>
    <native>Microsoft Windows XP Version 5.1 (Build 2600) Service Pack 2; ESRI ArcCatalog 9.1.0.780</native>
    <crossref>
      <citeinfo>
        <origin>Cape Cod National Seashore</origin>
        <pubdate>200406</pubdate>
        <title>Cape Cod National Seashore Vegetation Mapping Project - True Color Orthorectified Photomosaic Leaf-off South Portion</title>
        <geoform>remote-sensing image</geoform>
        <othercit>One of two orthorectified true color images of Cape Cod National Seashore (CACO) developed from digital true color aerial images obtained from MassGIS. This image covers the southern portion of CACO.  It was produced for the purpose of performing photo interpretation to identify vegetation and land use types in Cape Cod National Seashore.</othercit>
      </citeinfo>
    </crossref>
  </idinfo>
  <dataqual>
    <logic>clean</logic>
    <complete>quality verified; not validated</complete>
    <posacc>
      <horizpa>
        <horizpar>good</horizpar>
      </horizpa>
      <vertacc>
        <vertaccr>Accuracy +/- 1.5meters</vertaccr>
      </vertacc>
    </posacc>
    <lineage>
      <srcinfo>
        <srccite>
          <citeinfo>
            <origin>Commonwealth of Massachusetts Office of Geographic and Environmental Information. Executive Office of Environmental Affairs.  Boston, MA (MassGIS)</origin>
            <pubdate>2001</pubdate>
            <title>Data layers/GIS database. 1:5,000 scale true color ortho imagery - April 2001.</title>
            <geoform>raster digital data</geoform>
          </citeinfo>
        </srccite>
        <srcscale>5000</srcscale>
        <typesrc>digital true color aerial photography</typesrc>
        <srctime>
          <timeinfo>
            <sngdate>
              <caldate>200104</caldate>
            </sngdate>
          </timeinfo>
          <srccurr>ground condition</srccurr>
        </srctime>
        <srccitea>2001 digital ortho photo quarter quads (DOQs)</srccitea>
        <srccontr>Aerial view of Cape Cod National Seashore</srccontr>
      </srcinfo>
      <procstep>
        <procdesc>This orthophoto mosaic was developed from a set of digital 1:5,000 scale 2001 digital ortho photo quarter quads (DOQs) obtained from the Commonwealth of Massachusetts Office of Geographic and Environmental Information (MassGIS).</procdesc>
        <procdate>2001-2002</procdate>
        <proccont>
          <cntinfo>
            <cntperp>
              <cntper>Mark Adams</cntper>
              <cntorg>Cape Cod National Seashore</cntorg>
            </cntperp>
            <cntpos>GIS Specialist</cntpos>
            <cntaddr>
              <addrtype>mailing address</addrtype>
              <address>99 Marconi Site Rd</address>
              <city>Wellfleet</city>
              <state>MA</state>
              <postal>02652</postal>
              <country>USA</country>
            </cntaddr>
            <cntvoice>508-487-3262 x113</cntvoice>
            <cntfax>508-487-7153</cntfax>
            <cntemail>mark_adams@nps.gov</cntemail>
          </cntinfo>
        </proccont>
      </procstep>
    </lineage>
  </dataqual>
  <spdoinfo>
    <direct>Raster</direct>
    <rastinfo>
      <rasttype>Pixel</rasttype>
      <rowcount>72000</rowcount>
      <colcount>64000</colcount>
      <vrtcount>1</vrtcount>
    </rastinfo>
  </spdoinfo>
  <spref>
    <horizsys>
      <planar>
        <gridsys>
          <gridsysn>State Plane Coordinate System 1983</gridsysn>
          <spcs>
            <spcszone>2001</spcszone>
            <lambertc>
              <stdparll>41.716667</stdparll>
              <stdparll>42.683333</stdparll>
              <longcm>-71.500000</longcm>
              <latprjo>41.000000</latprjo>
              <feast>200000.000000</feast>
              <fnorth>750000.000000</fnorth>
            </lambertc>
          </spcs>
        </gridsys>
        <planci>
          <plance>row and column</plance>
          <coordrep>
            <absres>0.500000</absres>
            <ordres>0.500000</ordres>
          </coordrep>
          <plandu>meters</plandu>
        </planci>
      </planar>
      <geodetic>
        <horizdn>North American Datum of 1983</horizdn>
        <ellips>Geodetic Reference System 80</ellips>
        <semiaxis>6378137.000000</semiaxis>
        <denflat>298.257222</denflat>
      </geodetic>
    </horizsys>
  </spref>
  <eainfo>
    <overview>
      <eaover>Dataset consists of a raster 4-band (RGBN) natural color image. The bands are red, green, blue, and near infrared in 8 bits (values ranging from 0-255).</eaover>
      <eadetcit>None</eadetcit>
    </overview>
  </eainfo>
  <distinfo>
    <distrib>
      <cntinfo>
        <cntorgp>
          <cntorg>USGS/CSS/Core Science Analytics and Synthesis</cntorg>
          <cntper>USGS-NPS Vegetation Characterization Program Coordinator</cntper>
        </cntorgp>
        <cntaddr>
          <addrtype>mailing and physical address</addrtype>
          <address>Denver Federal Center, Building 810, MS 302</address>
          <city>Denver</city>
          <state>Colorado</state>
          <postal>80225</postal>
        </cntaddr>
        <cntvoice>(303) 202-4220</cntvoice>
        <cntfax>303-202-4219</cntfax>
        <cntemail>gs-b-npsveg@usgs.gov</cntemail>
      </cntinfo>
    </distrib>
    <resdesc>Downloadable Data</resdesc>
    <distliab>The U.S. Geological Survey and the National Park Service shall not be held liable for improper or incorrect use of the data described and/or contained herein.  These data and related graphics (if available) are not legal documents and are not intended to be used as such.

The information contained in these data is dynamic and may change over time.  The data are not better than the original sources from which they were derived.  It is the responsibility of the data user to use the data appropriately and consistent within the limitations of geospatial data in general and these data in particular.  Any related graphics (if available) are intended to aid the data user in acquiring relevant data; it is not approriate to use the related graphics as data.

The U.S. Geological Survey and the National Park Service gives no warranty, expressed or implied, as to the accuracy, reliability, or completeness of these data.  It is strongly recommended that these data are directly acquired from an U.S. Geological Survey and National Park Service servers and not indirectly through other sources which may have changed the data in some way.  Although these data have been processed successfully on a computer system at the U.S. Geological Survey, no warranty expressed or implied is made regarding the utility of the data on another system or for general or scientific purposes, nor shall the act of distribution constitute any such warranty. This disclaimer applies both to individual use of the data and aggregate use with other data. It is also strongly recommended that careful attention be paid to the contents of the metadata file associated with these data. Mention of trade names or commercial products in this metadata report does not constitute endorsement or recommendation for use by the U. S. Department of the Interior, U. S. Geological Survey and National Park Service.</distliab>
    <stdorder>
      <digform>
        <digtinfo>
          <formname>HTML</formname>
        </digtinfo>
        <digtopt>
          <onlinopt>
            <computer>
              <networka>
                <networkr>http://www.usgs.gov/core_science_systems/csas/vip/parks/caco.html</networkr>
              </networka>
            </computer>
            <accinstr>Internet Access</accinstr>
          </onlinopt>
        </digtopt>
      </digform>
      <fees>None</fees>
    </stdorder>
  </distinfo>
  <metainfo>
    <metd>20080909</metd>
    <metrd>20110317</metrd>
    <metc>
      <cntinfo>
        <cntorgp>
          <cntorg>USGS/CSS/Core Science Analytics and Synthesis</cntorg>
          <cntper>USGS-NPS Vegetation Characterization Program Coordinator</cntper>
        </cntorgp>
        <cntaddr>
          <addrtype>mailing and physical address</addrtype>
          <address>Denver Federal Center, Building 810, MS 302</address>
          <city>Denver</city>
          <state>Colorado</state>
          <postal>80225</postal>
        </cntaddr>
        <cntvoice>(303) 202-4220</cntvoice>
        <cntfax>303-202-4219</cntfax>
        <cntemail>gs-b-npsveg@usgs.gov</cntemail>
      </cntinfo>
    </metc>
    <metstdn>FGDC Biological Data Profile of the Content Standard for Digital Geospatial Metadata</metstdn>
    <metstdv>FGDC-STD-001.1-1999</metstdv>
    <metextns>
      <onlink>http://www.usgs.gov/core_science_systems/csas/metadata/index.html</onlink>
    </metextns>
  </metainfo>
</metadata>
