<?xml version="1.0" encoding="UTF-8"?>
<metadata>
  <idinfo>
    <citation>
      <citeinfo>
        <origin>North Carolina State University, Center for Earth Observation</origin>
        <pubdate>200507</pubdate>
        <title>Bluestone National Scenic River Vegetation Mapping Project - Color Infrared Orthorectified Photomosaic Leaf-on</title>
        <edition>final</edition>
        <geoform>remote-sensing image</geoform>
        <onlink>http://www1.usgs.gov/vip/blue/blueortho.zip</onlink>
        <onlink>doi:10.5066/F7GF0RFC</onlink>
      </citeinfo>
    </citation>
    <descript>
      <abstract>Orthorectified color infrared leaf-on ERDAS IMAGINE and MrSID image of Bluestone National Scenic River (blue_fall_04.img and blue_fall_04.sid).  Produced from 43 color infrared photos taken October 7, 2004.  Orthorectification accomplished with IMAGINE Orthobase v8.7 software.  Mosaicking and color balancing completed in ER Mapper 7. The overall positional accuracy for the photomosaic is 1.6 meters RMSE, meeting the NMAS Class 1 standards for 1:12000 scale data.</abstract>
      <purpose>The dataset was developed for use by Bluestone National Scenic River as a GIS component and for digital monoplotting and mapping.</purpose>
    </descript>
    <timeperd>
      <timeinfo>
        <sngdate>
          <caldate>20041007</caldate>
        </sngdate>
      </timeinfo>
      <current>ground condition</current>
    </timeperd>
    <status>
      <progress>Complete</progress>
      <update>Unknown</update>
    </status>
    <spdom>
      <descgeog>Bluestone National Scenic River and environs</descgeog>
      <bounding>
        <westbc>-81.034606</westbc>
        <eastbc>-80.934213</eastbc>
        <northbc>37.617257</northbc>
        <southbc>37.506729</southbc>
      </bounding>
    </spdom>
    <keywords>
      <theme>
        <themekt>none</themekt>
        <themekey>Orthorectification</themekey>
        <themekey>Color Infrared</themekey>
        <themekey>mosaic</themekey>
        <themekey>aerial photo</themekey>
        <themekey>CIR</themekey>
        <themekey>IMAGINE</themekey>
        <themekey>leaf-on</themekey>
      </theme>
      <place>
        <placekt>none</placekt>
        <placekey>West Virginia</placekey>
        <placekey>National Scenic River</placekey>
        <placekey>National Park</placekey>
        <placekey>Bluestone</placekey>
      </place>
      <temporal>
        <tempkt>none</tempkt>
        <tempkey>20041007</tempkey>
        <tempkey>fall</tempkey>
        <tempkey>October</tempkey>
      </temporal>
    </keywords>
    <accconst>none</accconst>
    <useconst>none</useconst>
    <ptcontac>
      <cntinfo>
        <cntperp>
          <cntper>Nathan Piekielek</cntper>
        </cntperp>
        <cntpos>Data Manager</cntpos>
        <cntaddr>
          <addrtype>mailing and physical address</addrtype>
          <address>208 C Ferguson Building</address>
          <city>University Park</city>
          <state>Pennsylvania</state>
          <postal>16802</postal>
          <country>USA</country>
        </cntaddr>
        <cntvoice>(814) 863-2320</cntvoice>
        <cntemail>Nathan_Piekielek@nps.gov</cntemail>
      </cntinfo>
    </ptcontac>
    <datacred>Bill Millinor</datacred>
    <native>ERDAS IMAGINE .img File and MrSID Compressed File</native>
  </idinfo>
  <dataqual>
    <logic>none</logic>
    <complete>Bluestone National Scenic River</complete>
    <posacc>
      <horizpa>
        <horizpar>Overall positional accuracy of 1.6 meters RMSE.

Horizontal accuracy was assessed on the basis of 34 field survey points distributed throughout the Bluestone National Scenic River area. The actual field coordinates for these points were recorded with a Trimble ProXRS GPS with real-time differential correction or a Trimble GeoXT unit with a minimum of 120 (180 unless field conditions were poor) fixes per point.  The field GPS data was post processed using Pathfinder Office and the field coordinates were compared to the image mosaic coordinates for these points, determined in ESRI ArcMap 9.0 software.</horizpar>
      </horizpa>
    </posacc>
    <lineage>
      <srcinfo>
        <srccite>
          <citeinfo>
            <origin>Sanborn Mapping Company, Inc</origin>
            <pubdate>Unpublished Material</pubdate>
            <title>Aerial photographs of Bluestone National Scenic River</title>
            <geoform>remote-sensing image</geoform>
          </citeinfo>
        </srccite>
        <srcscale>12000</srcscale>
        <typesrc>color IR aerial transparencies</typesrc>
        <srctime>
          <timeinfo>
            <sngdate>
              <caldate>20041007</caldate>
            </sngdate>
          </timeinfo>
          <srccurr>ground condition</srccurr>
        </srctime>
        <srccitea>photos</srccitea>
        <srccontr>Aerial view of Bluestone National Scenic River</srccontr>
      </srcinfo>
      <procstep>
        <procdesc>The photos (43 total) were used to create an orthorectified mosaic using ER Mapper 7.0 and ERDAS IMAGINE 8.7. The photos were scanned at 600 dpi and imported into IMAGINE. A reference DEM was downloaded from the USGS seamless data website (seamless.usgs.gov).  The images were orthorectified using ERDAS IMAGINE Orthobase software and airborne GPS and IMU data. The orthorectified images were then mosaicked within ER Mapper to form one seamless basemap image for Bluestone National Scenic River. The mosaic was compressed using MrSID software at a 20:1 target compression ratio.</procdesc>
        <procdate>200507</procdate>
        <proccont>
          <cntinfo>
            <cntorgp>
              <cntorg>North Carolina State University, Center for Earth Observation</cntorg>
            </cntorgp>
            <cntaddr>
              <addrtype>mailing address</addrtype>
              <address>NCSU Campus Box 7106</address>
              <city>Raleigh</city>
              <state>NC</state>
              <postal>27695-7106</postal>
              <country>USA</country>
            </cntaddr>
            <cntvoice>919-515-3430</cntvoice>
            <cntfax>919-515-3439</cntfax>
          </cntinfo>
        </proccont>
      </procstep>
    </lineage>
  </dataqual>
  <spdoinfo>
    <direct>Raster</direct>
    <rastinfo>
      <rasttype>Pixel</rasttype>
      <rowcount>22224</rowcount>
      <colcount>16060</colcount>
    </rastinfo>
  </spdoinfo>
  <spref>
    <horizsys>
      <planar>
        <gridsys>
          <gridsysn>Universal Transverse Mercator</gridsysn>
          <utm>
            <utmzone>17</utmzone>
            <transmer>
              <sfctrmer>0.999600</sfctrmer>
              <longcm>-81.000000</longcm>
              <latprjo>0.000000</latprjo>
              <feast>500000.000000</feast>
              <fnorth>0.000000</fnorth>
            </transmer>
          </utm>
        </gridsys>
        <planci>
          <plance>row and column</plance>
          <coordrep>
            <absres>0.5516695</absres>
            <ordres>0.5516695</ordres>
          </coordrep>
          <plandu>meters</plandu>
        </planci>
      </planar>
      <geodetic>
        <horizdn>North American Datum of 1983</horizdn>
        <ellips>Geodetic Reference System 80</ellips>
        <semiaxis>6378137.000000</semiaxis>
        <denflat>298.257222</denflat>
      </geodetic>
    </horizsys>
  </spref>
  <eainfo>
    <overview>
      <eaover>Dataset consists of a raster 3 band color image.  The bands are blue, green and near infrared.  Each pixel contains a value between 0 - 255.</eaover>
      <eadetcit>none</eadetcit>
    </overview>
  </eainfo>
  <distinfo>
    <distrib>
      <cntinfo>
        <cntorgp>
          <cntorg>USGS/CSS/Core Science Analytics and Synthesis</cntorg>
          <cntper>USGS-NPS Vegetation Characterization Program Coordinator</cntper>
        </cntorgp>
        <cntaddr>
          <addrtype>mailing and physical address</addrtype>
          <address>Denver Federal Center, Building 810, MS 302</address>
          <city>Denver</city>
          <state>Colorado</state>
          <postal>80225</postal>
        </cntaddr>
        <cntvoice>(303) 202-4220</cntvoice>
        <cntfax>303-202-4219</cntfax>
        <cntemail>gs-b-npsveg@usgs.gov</cntemail>
      </cntinfo>
    </distrib>
    <resdesc>Downloadable Data</resdesc>
    <distliab>The U.S. Geological Survey and the National Park Service shall not be held liable for improper or incorrect use of the data described and/or contained herein.  These data and related graphics (if available) are not legal documents and are not intended to be used as such.

The information contained in these data is dynamic and may change over time.  The data are not better than the original sources from which they were derived.  It is the responsibility of the data user to use the data appropriately and consistent within the limitations of geospatial data in general and these data in particular.  Any related graphics (if available) are intended to aid the data user in acquiring relevant data; it is not approriate to use the related graphics as data.

The U.S. Geological Survey and the National Park Service gives no warranty, expressed or implied, as to the accuracy, reliability, or completeness of these data.  It is strongly recommended that these data are directly acquired from an U.S. Geological Survey and National Park Service servers and not indirectly through other sources which may have changed the data in some way.  Although these data have been processed successfully on a computer system at the U.S. Geological Survey, no warranty expressed or implied is made regarding the utility of the data on another system or for general or scientific purposes, nor shall the act of distribution constitute any such warranty. This disclaimer applies both to individual use of the data and aggregate use with other data. It is also strongly recommended that careful attention be paid to the contents of the metadata file associated with these data. Mention of trade names or commercial products in this metadata report does not constitute endorsement or recommendation for use by the U. S. Department of the Interior, U. S. Geological Survey and National Park Service.</distliab>
    <stdorder>
      <digform>
        <digtinfo>
          <formname>HTML</formname>
        </digtinfo>
        <digtopt>
          <onlinopt>
            <computer>
              <networka>
                <networkr>http://www.usgs.gov/core_science_systems/csas/vip/parks/blue.html</networkr>
              </networka>
            </computer>
            <accinstr>Internet Access</accinstr>
          </onlinopt>
        </digtopt>
      </digform>
      <fees>None</fees>
    </stdorder>
  </distinfo>
  <metainfo>
    <metd>200508</metd>
    <metrd>20100517</metrd>
    <metc>
      <cntinfo>
        <cntorgp>
          <cntorg>USGS/CSS/Core Science Analytics and Synthesis</cntorg>
          <cntper>USGS-NPS Vegetation Characterization Program Coordinator</cntper>
        </cntorgp>
        <cntaddr>
          <addrtype>mailing and physical address</addrtype>
          <address>Denver Federal Center, Building 810, MS 302</address>
          <city>Denver</city>
          <state>Colorado</state>
          <postal>80225</postal>
        </cntaddr>
        <cntvoice>(303) 202-4220</cntvoice>
        <cntfax>303-202-4219</cntfax>
        <cntemail>gs-b-npsveg@usgs.gov</cntemail>
      </cntinfo>
    </metc>
    <metstdn>FGDC Biological Data Profile of the Content Standard for Digital Geospatial Metadata</metstdn>
    <metstdv>FGDC-STD-001.1-1999</metstdv>
    <metextns>
      <onlink>http://www.usgs.gov/core_science_systems/csas/metadata/index.html</onlink>
    </metextns>
  </metainfo>
</metadata>
