<?xml version="1.0" encoding="UTF-8"?>
<metadata>
  <idinfo>
    <citation>
      <citeinfo>
        <origin>U.S. Geological Survey, Upper Midwest Environmental Sciences Center, 2630 Fanta Reed Road, La Crosse, Wisconsin 54603; 608-783-6451</origin>
        <pubdate>Unknown</pubdate>
        <title>Apostle Islands National Lakeshore Vegetation Mapping Project - Color Infrared Orthophotos</title>
        <geoform>raster digital data</geoform>
        <serinfo>
          <sername>USGS-NPS Vegetation Mapping Program</sername>
          <issue>Apostle Islands Vegetation Mapping Project</issue>
        </serinfo>
        <pubinfo>
          <pubplace>La Crosse, WI</pubplace>
          <publish>UMESC</publish>
        </pubinfo>
        <onlink>http://www1.usgs.gov/vip/apis/apisortho.zip</onlink>
        <onlink>doi:10.5066/F7736NTQ</onlink>
      </citeinfo>
    </citation>
    <descript>
      <abstract>Color infrared (CIR) aerial photographs were acquired as baseline imagery data to produce vegetation spatial database coverages of Apostle Islands National Lakeshore (APIS) and environs. The aerial photos were collected on October 9, 2004 at a scale of 1:12,000 to capture peak fall leaf phenology. The U.S. Geological Survey (USGS) Upper Midwest Environmental Sciences Center (UMESC) of La Crosse, Wisconsin has produced spatially referenced aerial photo mosaic images of the aerial photographs for the individual island complexes that make up the Apostle Islands. The photo mosaics are raster datasets compressed with MrSID (LizardTech), projected in Universal Transverse Mercator (UTM), Zone 15, using the North American Datum of 1983 (NAD83).</abstract>
      <purpose>The 2004 color-infrared aerial photo mosaics were developed for use as a general reference image and to assist in the identification of vegetation. The aerial photo mosaics were produced as by-products from the Apostle Islands National Lakeshore Vegetation Mapping Project, USGS-NPS Vegetation Mapping Program.  The USGS-NPS Vegetation Mapping Program is a cooperative effort by the U.S. Geological Survey and the National Park Service to classify, describe, and map vegetation communities in more than 270 national park units across the United States. This landmark program is both the first to provide national-scale descriptions of vegetation for a federal agency and the first to create national vegetation standards for its data products. Its goal is to meet specific information needs identified by the National Park Service.</purpose>
      <supplinf>The software program MrSid Geospatial Encoder version 1.4 was used to compress the photo mosaic, at a rate of 20:1. The 9x9-inch aerial photo transparencies were collected at a scale of 1:12,000 and scanned at a resolution of 1270 dots per inch by Ayers Associates in Eau Claire, WI. A software program capable of viewing these data is required to access the compressed mosaic. Freeware viewers are available from the LizardTech software company, at http://www.lizardtech.com/. Some of the newer viewers have difficulties reading this particular image. Users need to make sure they download a viewer capable of accessing images created using version 1.4 MrSid Geospatial Encoder software.  Also, web browser plugins that allow anyone to view, measure, or export any MrSID images using Internet Explorer or Firefox can be found at http://www.lizardtech.com/downloads/index.php.</supplinf>
    </descript>
    <timeperd>
      <timeinfo>
        <sngdate>
          <caldate>20041009</caldate>
        </sngdate>
      </timeinfo>
      <current>ground condition</current>
    </timeperd>
    <status>
      <progress>Complete</progress>
      <update>None planned</update>
    </status>
    <spdom>
      <descgeog>Apostle Islands National Lakeshore and environs</descgeog>
      <bounding>
        <westbc>-91.080338</westbc>
        <eastbc>-90.372212</eastbc>
        <northbc>47.105877</northbc>
        <southbc>46.662120</southbc>
      </bounding>
    </spdom>
    <keywords>
      <theme>
        <themekt>None</themekt>
        <themekey>Aerial Photograph</themekey>
        <themekey>Aerial Photography</themekey>
        <themekey>Color Infrared</themekey>
        <themekey>Photo Mosaics</themekey>
        <themekey>Color Infrared</themekey>
        <themekey>Apostle Islands</themekey>
        <themekey>National Park Service</themekey>
        <themekey>U.S. Geological Survey</themekey>
        <themekey>NPS</themekey>
        <themekey>USGS</themekey>
        <themekey>USGS-NPS Vegetation Mapping Program</themekey>
        <themekey>Orthophoto</themekey>
      </theme>
      <place>
        <placekt>None</placekt>
        <placekey>Apostle Islands</placekey>
        <placekey>Wisconsin</placekey>
        <placekey>USA</placekey>
        <placekey>Bayfield County</placekey>
        <placekey>Ashland County</placekey>
      </place>
    </keywords>
    <accconst>If the user wishes to view the data as georeferenced data, a computer software program capable of reading and displaying data stored as a georeferenced image is required. If the user only wants to view the photographs a software program capable of reading an image format file is required.</accconst>
    <useconst>Software capable of viewing MrSid format image files (version 1.4) is required to access these data.</useconst>
    <ptcontac>
      <cntinfo>
        <cntorgp>
          <cntorg>Upper Midwest Environmental Sciences Center</cntorg>
        </cntorgp>
        <cntpos>Resource Mapping and Spatial Analysis Team</cntpos>
        <cntaddr>
          <addrtype>mailing and physical address</addrtype>
          <address>2630 Fanta Reed Rd</address>
          <city>La Crosse</city>
          <state>Wisconsin</state>
          <postal>54603</postal>
          <country>United States of America</country>
        </cntaddr>
        <cntvoice>608-783-6451</cntvoice>
        <cntfax>608-783-6066</cntfax>
        <cntemail>metadata_coordinator@umesc.er.usgs.gov</cntemail>
        <hours>7:30 a.m. to 4:00 p.m. Monday Through Friday</hours>
      </cntinfo>
    </ptcontac>
    <datacred>The USGS Upper Midwest Environmental Sciences Center.</datacred>
    <secinfo>
      <secsys>None</secsys>
      <secclass>Unclassified</secclass>
      <sechandl>None</sechandl>
    </secinfo>
    <native>Microsoft Windows XP Version 5.1 (Build 2600) Service Pack 2; ESRI ArcCatalog 9.2.2.1350</native>
  </idinfo>
  <dataqual>
    <logic>As the orthorectified images were created, each processing step included procedures used to check the content and spatial accuracy. If at any time the product did not meet the standards set for a processing procedure, the procedure was repeated.</logic>
    <complete>Every aerial photo was orthorectified within the project boundary (APIS park boundary with 400-meter buffer).</complete>
    <posacc>
      <horizpa>
        <horizpar>The horizontal positional accuracy was tested by visual comparisons between the orthorectified APIS color-infrared aerial photographs and existing high-resolution true-color orthophotos for the same area. The referenced orthophotos had a horizontal root mean square error (RMSE) of no greater than 2.0 meters.</horizpar>
      </horizpa>
    </posacc>
    <lineage>
      <srcinfo>
        <srccite>
          <citeinfo>
            <origin>Ayers Associates</origin>
            <pubdate>Unknown</pubdate>
            <pubtime>Unknown</pubtime>
            <title>2004 Color Infrared Aerial Photos</title>
            <geoform>digital scans of imagery (1270 dpi) in Tagged Image File Format (TIFF)</geoform>
            <pubinfo>
              <pubplace>Eau Claire, WI</pubplace>
              <publish>Ayers Associates</publish>
            </pubinfo>
          </citeinfo>
        </srccite>
        <srcscale>12000</srcscale>
        <typesrc>9x9-inch format color-infrared transparency</typesrc>
        <srctime>
          <timeinfo>
            <sngdate>
              <caldate>unknown</caldate>
            </sngdate>
          </timeinfo>
          <srccurr>ground condition</srccurr>
        </srctime>
        <srccitea>2004 CIR Aerial Photographs</srccitea>
        <srccontr>The digital scans were use</srccontr>
      </srcinfo>
      <srcinfo>
        <srccite>
          <citeinfo>
            <origin>Williams Aerial and Mapping</origin>
            <pubdate>Unknown</pubdate>
            <pubtime>Unknown</pubtime>
            <title>0.3-Meter True Color Orthophotos</title>
            <geoform>orthorectified imagery in MrSID format (SID)</geoform>
            <pubinfo>
              <pubplace>South Bend, IN</pubplace>
              <publish>Williams Aerial and Mapping</publish>
            </pubinfo>
          </citeinfo>
        </srccite>
        <srcscale>24000</srcscale>
        <typesrc>Tagged Image File Format (TIFF) Imagery</typesrc>
        <srctime>
          <timeinfo>
            <sngdate>
              <caldate>unknown</caldate>
            </sngdate>
          </timeinfo>
          <srccurr>ground condition</srccurr>
        </srctime>
        <srccitea>True-Color Orthophotos</srccitea>
        <srccontr>The true-color orthophotos were used as background imagery for orthorectifying the 2004 CIR aerial photographs. Orthorectifying was completed using Orthomapper.</srccontr>
      </srcinfo>
      <srcinfo>
        <srccite>
          <citeinfo>
            <origin>U.S. Geological Survey Eros Data Center</origin>
            <pubdate>Unknown</pubdate>
            <title>National Elevation Dataset</title>
            <edition>1</edition>
            <geoform>data</geoform>
            <othercit>The U.S. Geological Survey has developed a National Elevation Dataset (NED). The NED is a seamless mosaic of best-available elevation data. The 7.5-minute elevation data for the conterminous United States are the primary initial source data. In addition to the availability of complete 7.5-minute data, efficient processing methods were developed to filter production artifacts in the existing data, convert to the NAD83 datum, edge-match, and fill slivers of missing data at quadrangle seams. One of the effects of the NED processing steps is a much-improved base of elevation data for calculating slope and hydrologic derivatives. The specifications for the NED 1 arc second and 1/3 arc second data are: Geographic coordinate system Horizontal datum of NAD83, except for AK which is NAD27 Vertical datum of NAVD88, except for AK which is NAVD29 Z units of meters</othercit>
            <onlink>http://gisdata.usgs.gov/website/seamless/viewer.htm</onlink>
          </citeinfo>
        </srccite>
        <srcscale>unknown</srcscale>
        <typesrc>Digital database file</typesrc>
        <srctime>
          <timeinfo>
            <sngdate>
              <caldate>unknown</caldate>
            </sngdate>
          </timeinfo>
          <srccurr>ground condition</srccurr>
        </srctime>
        <srccitea>1/3 NED Data</srccitea>
        <srccontr>NED was used as the elevation data for orthorectifying the 2004 CIR Aerial Photographs. Orthorectifying was completed using Orthomapper.</srccontr>
      </srcinfo>
      <procstep>
        <procdesc>The software program Orthomapper version 3.23 was used to orthorectify the individual aerial photographs. During this process, existing orthophotos for the region were used to obtain coordinates for various points on the photos, and existing elevation data were used to provide elevation information. The orthorectification process uses these data inputs to (a) determine where on earth the image was collected, and (b) remove distortions that may exist within the image, or were caused by changes in elevation. The output images contained 0.25x0.25-meter pixels.</procdesc>
        <srcused>2004 CIR Aerial Photographs</srcused>
        <srcused>True-Color Orthophotos</srcused>
        <srcused>1/3 NED Data</srcused>
        <procdate>Unknown</procdate>
      </procstep>
      <procstep>
        <procdesc>Each image was trimmed to remove camera fiducials (i.e., registration marks) from the images</procdesc>
        <procdate>Unknown</procdate>
      </procstep>
      <procstep>
        <procdesc>The software program MrSID GeoSpatial Encoder 1.4 was used to mosaic the orthorectified aerial photos for all 19 islands.  These images were stored in MrSID Format (SID)</procdesc>
        <procdate>Unknown</procdate>
        <proccont>
          <cntinfo>
            <cntorgp>
              <cntorg>USGS - Upper Midwest Environmental Sciences Center</cntorg>
            </cntorgp>
            <cntpos>Resource Mapping and Spatial Analysis Team</cntpos>
            <cntaddr>
              <addrtype>mailing and physical address</addrtype>
              <address>2630 Fanta Reed Rd</address>
              <city>La Crosse</city>
              <state>WI</state>
              <postal>54603</postal>
              <country>USA</country>
            </cntaddr>
            <cntvoice>608-783-6451</cntvoice>
            <cntfax>608-783-6066</cntfax>
            <cntemail>metadata_coordinatator@umesc.er.usgs.gov</cntemail>
            <hours>7:30 a.m. to 4:00 p.m. Monday Through Friday</hours>
          </cntinfo>
        </proccont>
      </procstep>
    </lineage>
  </dataqual>
  <spdoinfo>
    <direct>Raster</direct>
    <rastinfo>
      <rasttype>Pixel</rasttype>
      <rowcount>239190</rowcount>
      <colcount>261520</colcount>
    </rastinfo>
  </spdoinfo>
  <spref>
    <horizsys>
      <planar>
        <gridsys>
          <gridsysn>Universal Transverse Mercator</gridsysn>
          <utm>
            <utmzone>15</utmzone>
            <transmer>
              <sfctrmer>0.999600</sfctrmer>
              <longcm>-93.000000</longcm>
              <latprjo>0.000000</latprjo>
              <feast>500000.000000</feast>
              <fnorth>0.000000</fnorth>
            </transmer>
          </utm>
        </gridsys>
        <planci>
          <plance>coordinate pair</plance>
          <coordrep>
            <absres>0.2</absres>
            <ordres>0.2</ordres>
          </coordrep>
          <plandu>meters</plandu>
        </planci>
      </planar>
      <geodetic>
        <horizdn>North American Datum of 1983</horizdn>
        <ellips>Geodetic Reference System 80</ellips>
        <semiaxis>6378137.000000</semiaxis>
        <denflat>298.257222</denflat>
      </geodetic>
    </horizsys>
  </spref>
  <distinfo>
    <distrib>
      <cntinfo>
        <cntorgp>
          <cntorg>USGS/CSS/Core Science Analytics and Synthesis</cntorg>
          <cntper>USGS-NPS Vegetation Characterization Program Coordinator</cntper>
        </cntorgp>
        <cntaddr>
          <addrtype>mailing and physical address</addrtype>
          <address>Denver Federal Center, Building 810, MS 302</address>
          <city>Denver</city>
          <state>Colorado</state>
          <postal>80225</postal>
        </cntaddr>
        <cntvoice>(303) 202-4220</cntvoice>
        <cntfax>303-202-4219</cntfax>
        <cntemail>gs-b-npsveg@usgs.gov</cntemail>
      </cntinfo>
    </distrib>
    <resdesc>Downloadable Data</resdesc>
    <distliab>The U.S. Geological Survey and the National Park Service shall not be held liable for improper or incorrect use of the data described and/or contained herein.  These data and related graphics (if available) are not legal documents and are not intended to be used as such.

The information contained in these data is dynamic and may change over time.  The data are not better than the original sources from which they were derived.  It is the responsibility of the data user to use the data appropriately and consistent within the limitations of geospatial data in general and these data in particular.  Any related graphics (if available) are intended to aid the data user in acquiring relevant data; it is not approriate to use the related graphics as data.

The U.S. Geological Survey and the National Park Service gives no warranty, expressed or implied, as to the accuracy, reliability, or completeness of these data.  It is strongly recommended that these data are directly acquired from an U.S. Geological Survey and National Park Service servers and not indirectly through other sources which may have changed the data in some way.  Although these data have been processed successfully on a computer system at the U.S. Geological Survey, no warranty expressed or implied is made regarding the utility of the data on another system or for general or scientific purposes, nor shall the act of distribution constitute any such warranty. This disclaimer applies both to individual use of the data and aggregate use with other data. It is also strongly recommended that careful attention be paid to the contents of the metadata file associated with these data. Mention of trade names or commercial products in this metadata report does not constitute endorsement or recommendation for use by the U. S. Department of the Interior, U. S. Geological Survey and National Park Service.</distliab>
    <stdorder>
      <digform>
        <digtinfo>
          <formname>HTML</formname>
        </digtinfo>
        <digtopt>
          <onlinopt>
            <computer>
              <networka>
                <networkr>http://www.usgs.gov/core_science_systems/csas/vip/parks/apis.html</networkr>
              </networka>
            </computer>
            <accinstr>Internet Access</accinstr>
          </onlinopt>
        </digtopt>
      </digform>
      <fees>None</fees>
    </stdorder>
  </distinfo>
  <metainfo>
    <metd>20071105</metd>
    <metrd>20100806</metrd>
    <metc>
      <cntinfo>
        <cntorgp>
          <cntorg>USGS/CSS/Core Science Analytics and Synthesis</cntorg>
          <cntper>USGS-NPS Vegetation Characterization Program Coordinator</cntper>
        </cntorgp>
        <cntaddr>
          <addrtype>mailing and physical address</addrtype>
          <address>Denver Federal Center, Building 810, MS 302</address>
          <city>Denver</city>
          <state>Colorado</state>
          <postal>80225</postal>
        </cntaddr>
        <cntvoice>(303) 202-4220</cntvoice>
        <cntfax>303-202-4219</cntfax>
        <cntemail>gs-b-npsveg@usgs.gov</cntemail>
      </cntinfo>
    </metc>
    <metstdn>FGDC Biological Data Profile of the Content Standard for Digital Geospatial Metadata</metstdn>
    <metstdv>FGDC-STD-001.1-1999</metstdv>
    <metextns>
      <onlink>http://www.usgs.gov/core_science_systems/csas/metadata/index.html</onlink>
    </metextns>
  </metainfo>
</metadata>
