<?xml version="1.0" encoding="UTF-8"?>
<metadata>
  <idinfo>
    <citation>
      <citeinfo>
        <origin>North Carolina State University, Center for Earth Observation</origin>
        <pubdate>20010622</pubdate>
        <title>Appomattox Court House National Historical Park Vegetation Mapping Project - Color Infrared Orthorectified Photomosaic Leaf-off</title>
        <edition>first</edition>
        <geoform>remote-sensing image</geoform>
        <onlink>http://www1.usgs.gov/vip/apco/apcoortho.zip</onlink>
        <onlink>doi:10.5066/F7VT1Q15</onlink>
      </citeinfo>
    </citation>
    <descript>
      <abstract>Orthorectified color infrared ERDAS IMAGINE image of Appomattox Courthouse National Historical Park and surrounding parcels.  Produced from 42 color infrared photos taken December 18, 2000 in leaf-off conditions. Overall positional accuracy is 1.475 meters (Euclidean distance). This meets the Class 1 NMAS map accuracy standard.</abstract>
      <purpose>The dataset was created for Appomattox Courthouse National Historical Park for use in natural resource management.</purpose>
    </descript>
    <timeperd>
      <timeinfo>
        <sngdate>
          <caldate>20001218</caldate>
          <time>1300</time>
        </sngdate>
      </timeinfo>
      <current>ground condition</current>
    </timeperd>
    <status>
      <progress>Complete</progress>
      <update>Unknown</update>
    </status>
    <spdom>
      <descgeog>Appomattox Courthouse National Historical Park and environs</descgeog>
      <bounding>
        <westbc>-78.831227</westbc>
        <eastbc>-78.771467</eastbc>
        <northbc>37.400865</northbc>
        <southbc>37.356894</southbc>
      </bounding>
    </spdom>
    <keywords>
      <theme>
        <themekt>none</themekt>
        <themekey>IMAGINE</themekey>
        <themekey>ERDAS Orthobase</themekey>
        <themekey>Color Infrared</themekey>
        <themekey>mosaic</themekey>
        <themekey>aerial photo</themekey>
        <themekey>photo mosaic</themekey>
        <themekey>digital photogrammetry</themekey>
        <themekey>softcopy photogrammetry</themekey>
      </theme>
      <place>
        <placekt>none</placekt>
        <placekey>Virginia</placekey>
        <placekey>Historical Park</placekey>
        <placekey>National Park</placekey>
        <placekey>Appomattox Court House National Historical Park</placekey>
        <placekey>Appomattox</placekey>
      </place>
      <temporal>
        <tempkt>none</tempkt>
        <tempkey>2000</tempkey>
        <tempkey>leaf-off</tempkey>
        <tempkey>December</tempkey>
      </temporal>
    </keywords>
    <accconst>none</accconst>
    <useconst>none</useconst>
    <ptcontac>
      <cntinfo>
        <cntperp>
          <cntper>Natural Resources Specialist</cntper>
          <cntorg>Appomattox Courthouse National Historical Park</cntorg>
        </cntperp>
        <cntpos>Natural Resources Specialist</cntpos>
        <cntaddr>
          <addrtype>mailing address</addrtype>
          <address>Natural Resources Specialist
Appomattox Courthouse National Historical Park
Hwy. 24, P.O. Box 218</address>
          <city>Appomattox</city>
          <state>Virginia</state>
          <postal>24522</postal>
          <country>USA</country>
        </cntaddr>
        <cntvoice>(804) 352-8987 ext. 28</cntvoice>
        <cntfax>(804) 352-8330</cntfax>
        <cntemail>Unknown</cntemail>
      </cntinfo>
    </ptcontac>
    <datacred>Melani Harrell, NCSU-CEO</datacred>
    <native>ESRI ArcInfo 7.2.1, ERDAS Orthobase 8.4.</native>
  </idinfo>
  <dataqual>
    <logic>none</logic>
    <complete>Appomattox Courthouse National Historical Park</complete>
    <posacc>
      <horizpa>
        <horizpar>Overall positional accuracy is 1.475 meters (Euclidean distance). This meets the Class 1 NMAS map accuracy standard. Horizontal accuracy was found by assessing 39 points spread throughout the orthorectified image area. These points were identified on the basemap and then were found in the field where their coordinates were taken using a Trimble ProXRS with real time data correction. The field coordinates were then compared to the coordinates from the basemap in ArcView 3.2 to determine positional accuracy.</horizpar>
      </horizpa>
    </posacc>
    <lineage>
      <srcinfo>
        <srccite>
          <citeinfo>
            <origin>Air Photographics, Inc</origin>
            <pubdate>Unpublished Material</pubdate>
            <title>Aerial photographs of the Appomattox Courthouse National Historical Park</title>
            <edition>first</edition>
            <geoform>remotely-sensed image</geoform>
          </citeinfo>
        </srccite>
        <srcscale>6000</srcscale>
        <typesrc>color infrared aerial photographs</typesrc>
        <srctime>
          <timeinfo>
            <sngdate>
              <caldate>20001218</caldate>
            </sngdate>
          </timeinfo>
          <srccurr>ground condition</srccurr>
        </srctime>
        <srccitea>aerial photos</srccitea>
        <srccontr>Aerial view of Appomattox Courthouse National Historical Park</srccontr>
      </srcinfo>
      <procstep>
        <procdesc>The aerial photos (42 total) were used to create an orthorectified mosaic using ERDAS IMAGINE and ERDAS Orthobase. The photos were scanned at 600 dpi and imported into IMAGINE. They were then orthorectofied using four USGS DOQQ's and a USGS National Seamless Elevation
DEM as reference. The DEM was resampled from 30 meters to 10 meters using ArcInfo 7.2.1. Each photo was entered into an Orthobase photo block and registered to its interior orientation.  Tie points were applied and automatic tie points generated and control points were applied in the Orthobase Point Measurement Tool.  Once a successful triangulation solution was reached in Orthobase, the orthorectified images were then mosaiced within IMAGINE to form one seamless basemap image for Appomattox Courthouse National Historical Park.</procdesc>
        <procdate>200104</procdate>
        <proccont>
          <cntinfo>
            <cntorgp>
              <cntorg>North Carolina State University, Center for Earth Observation</cntorg>
            </cntorgp>
            <cntaddr>
              <addrtype>mailing address</addrtype>
              <address>NCSU Campus Box 7106</address>
              <city>Raleigh</city>
              <state>NC</state>
              <postal>27695-7106</postal>
              <country>USA</country>
            </cntaddr>
            <cntvoice>919-515-3430</cntvoice>
            <cntfax>919-515-3439</cntfax>
            <hours>9:30 am - 6:00 pm</hours>
          </cntinfo>
        </proccont>
      </procstep>
    </lineage>
  </dataqual>
  <spdoinfo>
    <direct>Raster</direct>
    <rastinfo>
      <rasttype>Pixel</rasttype>
      <rowcount>18095</rowcount>
      <colcount>19702</colcount>
      <vrtcount>1</vrtcount>
    </rastinfo>
  </spdoinfo>
  <spref>
    <horizsys>
      <planar>
        <gridsys>
          <gridsysn>Universal Transverse Mercator</gridsysn>
          <utm>
            <utmzone>17</utmzone>
            <transmer>
              <sfctrmer>0.999600</sfctrmer>
              <longcm>-81.000000</longcm>
              <latprjo>0.000000</latprjo>
              <feast>500000.000000</feast>
              <fnorth>0.000000</fnorth>
            </transmer>
          </utm>
        </gridsys>
        <planci>
          <plance>row and column</plance>
          <coordrep>
            <absres>0.26310345</absres>
            <ordres>0.26310345</ordres>
          </coordrep>
          <plandu>meters</plandu>
        </planci>
      </planar>
      <geodetic>
        <horizdn>North American Datum of 1983</horizdn>
        <ellips>Geodetic Reference System 80</ellips>
        <semiaxis>6378137.000000</semiaxis>
        <denflat>298.257222</denflat>
      </geodetic>
    </horizsys>
  </spref>
  <eainfo>
    <overview>
      <eaover>Dataset consists of a raster 3 band color image, each pixel value is between 0-255.</eaover>
      <eadetcit>none</eadetcit>
    </overview>
  </eainfo>
  <distinfo>
    <distrib>
      <cntinfo>
        <cntorgp>
          <cntorg>USGS/CSS/Core Science Analytics and Synthesis</cntorg>
          <cntper>USGS-NPS Vegetation Characterization Program Coordinator</cntper>
        </cntorgp>
        <cntaddr>
          <addrtype>mailing and physical address</addrtype>
          <address>Denver Federal Center, Building 810, MS 302</address>
          <city>Denver</city>
          <state>Colorado</state>
          <postal>80225</postal>
        </cntaddr>
        <cntvoice>(303) 202-4220</cntvoice>
        <cntfax>303-202-4219</cntfax>
        <cntemail>gs-b-npsveg@usgs.gov</cntemail>
      </cntinfo>
    </distrib>
    <resdesc>Downloadable Data</resdesc>
    <distliab>The U.S. Geological Survey and the National Park Service shall not be held liable for improper or incorrect use of the data described and/or contained herein.  These data and related graphics (if available) are not legal documents and are not intended to be used as such.

The information contained in these data is dynamic and may change over time.  The data are not better than the original sources from which they were derived.  It is the responsibility of the data user to use the data appropriately and consistent within the limitations of geospatial data in general and these data in particular.  Any related graphics (if available) are intended to aid the data user in acquiring relevant data; it is not approriate to use the related graphics as data.

The U.S. Geological Survey and the National Park Service gives no warranty, expressed or implied, as to the accuracy, reliability, or completeness of these data.  It is strongly recommended that these data are directly acquired from an U.S. Geological Survey and National Park Service servers and not indirectly through other sources which may have changed the data in some way.  Although these data have been processed successfully on a computer system at the U.S. Geological Survey, no warranty expressed or implied is made regarding the utility of the data on another system or for general or scientific purposes, nor shall the act of distribution constitute any such warranty. This disclaimer applies both to individual use of the data and aggregate use with other data. It is also strongly recommended that careful attention be paid to the contents of the metadata file associated with these data. Mention of trade names or commercial products in this metadata report does not constitute endorsement or recommendation for use by the U. S. Department of the Interior, U. S. Geological Survey and National Park Service.</distliab>
    <stdorder>
      <digform>
        <digtinfo>
          <formname>HTML</formname>
        </digtinfo>
        <digtopt>
          <onlinopt>
            <computer>
              <networka>
                <networkr>http://www.usgs.gov/core_science_systems/csas/vip/parks/apco.html</networkr>
              </networka>
            </computer>
            <accinstr>Internet Access</accinstr>
          </onlinopt>
        </digtopt>
      </digform>
      <fees>None</fees>
    </stdorder>
  </distinfo>
  <metainfo>
    <metd>20010622</metd>
    <metrd>20100512</metrd>
    <metc>
      <cntinfo>
        <cntorgp>
          <cntorg>USGS/CSS/Core Science Analytics and Synthesis</cntorg>
          <cntper>USGS-NPS Vegetation Characterization Program Coordinator</cntper>
        </cntorgp>
        <cntaddr>
          <addrtype>mailing and physical address</addrtype>
          <address>Denver Federal Center, Building 810, MS 302</address>
          <city>Denver</city>
          <state>Colorado</state>
          <postal>80225</postal>
        </cntaddr>
        <cntvoice>(303) 202-4220</cntvoice>
        <cntfax>303-202-4219</cntfax>
        <cntemail>gs-b-npsveg@usgs.gov</cntemail>
      </cntinfo>
    </metc>
    <metstdn>FGDC Biological Data Profile of the Content Standard for Digital Geospatial Metadata</metstdn>
    <metstdv>FGDC-STD-001.1-1999</metstdv>
    <metextns>
      <onlink>http://www.usgs.gov/core_science_systems/csas/metadata/index.html</onlink>
    </metextns>
  </metainfo>
</metadata>
